BEGIN:VCALENDAR
VERSION:2.0
PRODID:-//Gminna Biblioteka Publiczna i Centrum Kultury w Dopiewie - ECPv6.15.20//NONSGML v1.0//EN
CALSCALE:GREGORIAN
METHOD:PUBLISH
X-ORIGINAL-URL:https://www.bibldop.pl
X-WR-CALDESC:Wydarzenia dla Gminna Biblioteka Publiczna i Centrum Kultury w Dopiewie
REFRESH-INTERVAL;VALUE=DURATION:PT1H
X-Robots-Tag:noindex
X-PUBLISHED-TTL:PT1H
BEGIN:VTIMEZONE
TZID:Europe/Warsaw
BEGIN:DAYLIGHT
TZOFFSETFROM:+0100
TZOFFSETTO:+0200
TZNAME:CEST
DTSTART:20250330T010000
END:DAYLIGHT
BEGIN:STANDARD
TZOFFSETFROM:+0200
TZOFFSETTO:+0100
TZNAME:CET
DTSTART:20251026T010000
END:STANDARD
BEGIN:DAYLIGHT
TZOFFSETFROM:+0100
TZOFFSETTO:+0200
TZNAME:CEST
DTSTART:20260329T010000
END:DAYLIGHT
BEGIN:STANDARD
TZOFFSETFROM:+0200
TZOFFSETTO:+0100
TZNAME:CET
DTSTART:20261025T010000
END:STANDARD
BEGIN:DAYLIGHT
TZOFFSETFROM:+0100
TZOFFSETTO:+0200
TZNAME:CEST
DTSTART:20270328T010000
END:DAYLIGHT
BEGIN:STANDARD
TZOFFSETFROM:+0200
TZOFFSETTO:+0100
TZNAME:CET
DTSTART:20271031T010000
END:STANDARD
END:VTIMEZONE
BEGIN:VEVENT
DTSTART;TZID=Europe/Warsaw:20260305T190000
DTEND;TZID=Europe/Warsaw:20260305T210000
DTSTAMP:20260424T210130
CREATED:20260204T125908Z
LAST-MODIFIED:20260223T115232Z
UID:20482-1772737200-1772744400@www.bibldop.pl
SUMMARY:Dzień Kobiet z Humorem – Kabaret z Konopi
DESCRIPTION:UWAGA: BRAK BILETÓW\n DZIEŃ KOBIET Z HUMOREM! \nJuż 5 marca 2026 roku zapraszamy Dziewczyny i Panie do sali widowiskowej w Konarzewie na wyjątkowe świętowanie Dnia Kobiet Na Wesoło! \n\n\nTego wieczoru zadbamy o szerokie uśmiechy i świetny nastrój\, a wszystko za sprawą Kabaretu z Konopi \nKrzysiek\, Norbert i Radek rozbawią Was do łez swoim błyskotliwym humorem i sceniczną energią!\n\n\n Kabaret z Konopi to ponad 80 nagród na festiwalach kabaretowych w całej Polsce\, liczne Grand Prix i nagrody publiczności oraz występy w programach telewizyjnych m.in. dla TVP\, Polsatu i TVN.\n\n\n Będzie zabawnie\, energetycznie i idealnie na Dzień Kobiet!\nNie może Was zabraknąć!\n\n\n 5.03.2026 g. 19.00\n od dnia 6 lutego bezpłatne wejściówki do nabycia w GBPiCK w Dopiewie (poziom -1)\n Sala widowiskowa w Konarzewie\, ul. Poznańska 19a\n Kabaret z Konopi\n\n\nZapraszamy! \n\n\n\n\n\n\n\n\nWstęp tylko dla kobiet. \nPo bezpłatne wejściówki zapraszamy do Gminnej Biblioteki Publicznej i Centrum Kultury w Dopiewie\, przy ul. Konarzewskiej 12 (poziom -1) \n  \n \n 
URL:https://www.bibldop.pl/wydarzenie/dzien-kobiet-z-humorem-kabaret-z-konopi/
LOCATION:Sala widowiskowa w Konarzewie\, Poznańska 19\, Konarzewo\, Poland
CATEGORIES:CRK w Konarzewie
ATTACH;FMTTYPE=image/jpeg:https://www.bibldop.pl/wp-content/uploads/2026/02/Kabaret-z-Konpi-wpis.jpg
END:VEVENT
BEGIN:VEVENT
DTSTART;TZID=Europe/Warsaw:20260305T193000
DTEND;TZID=Europe/Warsaw:20260305T203000
DTSTAMP:20260424T210130
CREATED:20260302T141137Z
LAST-MODIFIED:20260304T120458Z
UID:20808-1772739000-1772742600@www.bibldop.pl
SUMMARY:Grupa Teatralna Baj działająca przy GBPiCK "Alicja w krainie czarów" - spektakl dla dorosłych
DESCRIPTION:Zapraszamy na spektakl teatralny w wykonaniu amatorskiej grupy teatralnej Baj\, działającej przy GBPiCK w Dopiewie.
URL:https://www.bibldop.pl/wydarzenie/wystep-grupy-teatralnej-baj-dzialajacej-przy-gbpick-alicja-w-krainie-czarow-spektakl-dla-doroslych/
LOCATION:Świetlica Wiejska w Dąbrowie\, ul. Tęczowa 8\, Dąbrowa\, Poland
CATEGORIES:Pozostałe
ATTACH;FMTTYPE=image/jpeg:https://www.bibldop.pl/wp-content/uploads/2025/06/BAJ-WPIS.jpg
END:VEVENT
BEGIN:VEVENT
DTSTART;TZID=Europe/Warsaw:20260311T180000
DTEND;TZID=Europe/Warsaw:20260311T190000
DTSTAMP:20260424T210130
CREATED:20260213T130344Z
LAST-MODIFIED:20260213T130344Z
UID:20532-1773252000-1773255600@www.bibldop.pl
SUMMARY:Spotkanie z Michałem Bartkowiakiem
DESCRIPTION:Zapraszamy na spotkanie z Michałem Bartkowiakiem – mieszkańcem naszej gminy\, pasjonatem pszczelarstwa oraz fotografii przyrodniczej. Michał Bartkowiak na swoim spotkaniu poprowadzi nas wirtualnie po najbliższych okolicach dzikiej przyrody Gminy Dopiewo. Zabierze nas do mniej znanych obszarów\, które stanowią oazę spokoju i są miejscem częstych obserwacji „dzikich” miejsc\, do których należą między innymi :\n-Jezioro Trzcielińskie\n-Bagna Konarzewskie\n-Lasy Palędzia i Zakrzewa \nOcalenie skarbów dzikiej przyrody\, wymaga wysiłku od nas wszystkich. Zmieniając nasze drobne nawyki\, jesteśmy w stanie nie tylko zmienić świat\, który nas otacza ale również coś ważniejszego – przyszłość nas wszystkich\, naszej planety. \nWstęp wolny \nZapisy pod nr tel  694 904 690 \n  \n  \n 
URL:https://www.bibldop.pl/wydarzenie/spotkanie-z-michalem-bartkowiakiem/
LOCATION:Filia biblioteczna w Konarzewie\, ul. Poznańska 19a\, Konarzewo
CATEGORIES:Filia w Konarzewie
ATTACH;FMTTYPE=image/jpeg:https://www.bibldop.pl/wp-content/uploads/2026/02/Michal-Bartkowiak-1-scaled.jpg
END:VEVENT
BEGIN:VEVENT
DTSTART;TZID=Europe/Warsaw:20260312T180000
DTEND;TZID=Europe/Warsaw:20260312T193000
DTSTAMP:20260424T210130
CREATED:20260128T101918Z
LAST-MODIFIED:20260128T101918Z
UID:20425-1773338400-1773343800@www.bibldop.pl
SUMMARY:Spotkanie autorskie z Maciejem Siembiedą
DESCRIPTION:📚 SPOTKANIE AUTORSKIE \nZapraszamy na spotkanie z Maciejem Siembiedą — jednym z najciekawszych współczesnych autorów powieści sensacyjnych i historycznych\, mistrzem literackiej intrygi opartej na faktach. \nAutor bestsellerowych książek\, takich jak Gołoborze\, 444\, Miejsce i imię czy Taniec pszczół\, opowie o kulisach powstawania swoich powieści\, pracy z dokumentami\, historii ukrytej w archiwach oraz o tym\, jak prawda bywa bardziej sensacyjna niż fikcja. \n📅 12 marca 2026 r.🕕 godz. 18.00📍 Biblioteka w Skórzewie\, ul. Kozierowskiego 1 \n🎟 Wstęp wolny📞 Zapisy: 884 206 308 \nSerdecznie zapraszamy wszystkich miłośników literatury sensacyjnej\, historii i dobrze opowiedzianych tajemnic. \n#SpotkanieAutorskie #MaciejSiembieda #Biblioteka #Skórzewo #Literatura #WstępWolny \nMaciej Siembieda  to ceniony polski dziennikarz\, reportażysta i pisarz\, jeden z najpopularniejszych autorów powieści sensacyjnych w Polsce. \nW młodości marzył o karierze detektywa\, a jego zainteresowania z powodzeniem znalazły odzwierciedlenie w karierze dziennikarskiej. Był redaktorem naczelnym „Dziennika Bałtyckiego”\, „Trybuny Śląskiej”. Współpracował też z takimi tytułami jak „Polityka” czy paryska „Kultura”\, specjalizując się w śledztwach historycznych. Jego praca była wielokrotnie nagradzana –  otrzymał prestiżową Nagrodę Stowarzyszenia Dziennikarzy Polskich. Dziś wykorzystuje swoje reporterskie doświadczenie\, by tworzyć wciągające powieści oparte na prawdziwych wydarzeniach z przeszłości. Autor siedmiotomowego cyklu powieści z Jakubem Kanią oraz trylogii sensacyjnej „Katharsis”\, „Nemezis”\, „Kairos”. Laureat Nagrody Wielkiego Kalibru\, a także Książki Roku 2024 portalu lubimuczytac.pl
URL:https://www.bibldop.pl/wydarzenie/spotkanie-autorskie-z-maciejem-siembieda/
LOCATION:Filia biblioteczna w Skórzewie\, ul. Kozierowskiego 1\, Skórzewo
CATEGORIES:Filia w Skórzewie
ATTACH;FMTTYPE=image/jpeg:https://www.bibldop.pl/wp-content/uploads/2026/01/Maciej-Siembieda.jpg
END:VEVENT
BEGIN:VEVENT
DTSTART;TZID=Europe/Warsaw:20260318T170000
DTEND;TZID=Europe/Warsaw:20260318T180000
DTSTAMP:20260424T210130
CREATED:20250828T101027Z
LAST-MODIFIED:20260310T122907Z
UID:19051-1773853200-1773856800@www.bibldop.pl
SUMMARY:Spektakl teatralny "Kukła z wiejskiego podwórza" Teatr Pod Orzełkiem
DESCRIPTION:🎭 Spektakl teatralny „Kukła z wiejskiego podwórza” – Teatr Pod Orzełkiem\nZapraszamy na wyjątkowy spektakl teatralny „Kukła z wiejskiego podwórza” w wykonaniu Teatru Pod Orzełkiem — pełen zabawy\, ludowych obrzędów i wyjątkowych kukieł! \n🗓 Data i godzina: 18 marca 2026\, godz. 17:00–18:00📍 Miejsce: Sala OSP w Dopiewie\, ul. Szkolna 21🎟️ Wstęp: wolny \n👉 Kliknij „Zapisz się na spektakl”\, aby zarezerwować miejsce! \n🎬 O spektaklu\n„Kukła z wiejskiego podwórza” to barwne przedstawienie dla dzieci i rodzin\, które przenosi widzów do zaczarowanej polskiej wsi Kukiełkowa\, pełnej tradycji i ludowych zwyczajów. Główny bohater\, Profesor Wyobraźni Hilary Szczebrzeszyński\, zabiera najmłodszych w podróż po wiejskim podwórzu\, gdzie uczestnicy: \n– poznają ludowe obrzędy takie jak topienie Marzanny\, noc sobótkowa i dożynki\, \n– bawią się z tradycyjnymi kukłami\, \n– występują w Teatrze Jarzynowym im. Królowej Bony\, \n– spotykają Stracha na Wróble\, tańczą i śpiewają. \nW spektaklu wykorzystano ok. 20 kukieł\, a oprawę muzyczną tworzą piosenki skomponowane przez Agnieszkę Glińską — co czyni spektakl interaktywnym\, kolorowym i angażującym dla młodych widzów. \n🌟 Dlaczego warto przyjść?\n🎭 Interaktywna gra z widownią – dzieci aktywnie uczestniczą w wydarzeniach scenicznych. \n🎶 Muzyka na żywo wzbogaca teatralne doznania. \n🪆 Lalki i kukły pobudzają wyobraźnię i przybliżają ludowe tradycje. \n👨‍👩‍👧‍👦 Dla całej rodziny – idealne popołudnie pełne zabawy i nauki poprzez teatr. \n  \n📌 Zapraszamy serdecznie wszystkie dzieci i miłośników teatru!Nie przegapcie tej fascynującej teatralnej podróży prosto na wiejskie podwórko wyobraźni!
URL:https://www.bibldop.pl/wydarzenie/spektakl-teatralny-kukla-z-wiejskiego-podworza-teatr-pod-orzelkiem/
LOCATION:Sala OSP w Dopiewie\, ul. Szkolna 21\, Dopiewo\, Poland
CATEGORIES:Sala OSP w Dopiewie
ATTACH;FMTTYPE=image/jpeg:https://www.bibldop.pl/wp-content/uploads/2025/08/Kukla-z-wiejskiego-podworza-1-scaled.jpg
END:VEVENT
BEGIN:VEVENT
DTSTART;TZID=Europe/Warsaw:20260319T170000
DTEND;TZID=Europe/Warsaw:20260319T180000
DTSTAMP:20260424T210130
CREATED:20250828T101446Z
LAST-MODIFIED:20260216T115747Z
UID:19054-1773939600-1773943200@www.bibldop.pl
SUMMARY:Spektakl teatralny "Czarne i białe" Teatr Pod Orzełkiem
DESCRIPTION:🎭 Spektakl teatralny „Czarne i białe” – Teatr Pod Orzełkiem\nZapraszamy na niezwykły\, poetycki spektakl teatralny „Czarne i białe”\, przygotowany przez Teatr Pod Orzełkiem — wyjątkowe przedstawienie dla dzieci i całych rodzin! \n🗓 Data i godzina: 19 marca\, godz. 17:00–18:00📍 Miejsce: sala GOK w Dopiewcu\, ul. Szkolna 11\, Dopiewiec \n👉 Kliknij „Zapisz się na spektakl”\, aby zarezerwować miejsce! \n🎬 O spektaklu\n„Czarne i białe” to barwna teatralna opowieść utrzymana w klimacie klasyki i subtelnej zabawy\, inspirowana estetyką Kabaretu Starszych Panów. Widzowie razem z bohaterami — Panem Czarnym i Panią Białą — wyruszają w fascynującą podróż po czarno-białym miasteczku\, pełnym niezwykłych postaci takich jak: \n– Czarny i Biały Kot \n– Biały Niedźwiedź \n– Sroka Kłamczucha \n– Biały Kruk \n– Rodzina Tralalińskich \nSpektakl łączy elementy klasycznej poezji dziecięcej z interakcją sceniczną\, angażując małych widzów w obserwowanie świata i jego kolorów oraz czarno-białych kontrastów. \n🌟 Atrakcje przedstawienia\n– Kreatywna scenografia z płaskimi lalkami przypominającymi wycięte postaci z książek. \n– Muzyka żywo tworzona przez Agnieszkę Glińską\, która wzbogaca teatralne doświadczenie. \n– Przyjazna formuła\, która bawi i zachęca do wspólnej zabawy oraz refleksji nad światem widzianym oczami dzieci. \n📣 Zapraszamy serdecznie wszystkie dzieci\, rodziny i miłośników teatru!\nTo doskonała okazja\, by wspólnie przeżyć artystyczną przygodę pełną koloru\, dźwięków i fantazji. \n 
URL:https://www.bibldop.pl/wydarzenie/spektakl-teatralny/
LOCATION:sala GOK w Dopiewcu\, ul. Szkolna 11\, Dopiewiec\, Poland
CATEGORIES:GOK Dopiewiec
ATTACH;FMTTYPE=image/jpeg:https://www.bibldop.pl/wp-content/uploads/2025/08/Czarne-i-biale.jpg
END:VEVENT
BEGIN:VEVENT
DTSTART;VALUE=DATE:20260324
DTEND;VALUE=DATE:20260404
DTSTAMP:20260424T210130
CREATED:20260323T134924Z
LAST-MODIFIED:20260323T135106Z
UID:21055-1774310400-1775260799@www.bibldop.pl
SUMMARY:Wielkanocne Poszukiwania Jajek w Gminie Dopiewo
DESCRIPTION:Wracamy z naszą świąteczną zabawą!\nWielkanocne Poszukiwania Jajek w Gminie Dopiewo!\nCzy jesteście gotowi na kolejną wielkanocną przygodę?  W różnych zakątkach naszej gminy sprytny Zając Dopcio ponownie ukryje czekoladowe jajka! Waszym zadaniem jest je odnaleźć!\nJak to działa?\nKażdego dnia będziemy publikować wskazówkę – video z miejsca\, w którym ukryte jest jajko.\nZadanie dla Was?\nZnaleźć jajko i dać nam znać w komentarzu!\nStartujemy już 24 marca!\nJajka pojawią się w różnych miejscach – miejcie oczy szeroko otwarte!\nGotowi na poszukiwania? Śledźcie nasz profil na FACEBOOKU!
URL:https://www.bibldop.pl/wydarzenie/wielkanocne-poszukiwania-jajek-w-gminie-dopiewo/
ATTACH;FMTTYPE=image/jpeg:https://www.bibldop.pl/wp-content/uploads/2026/03/Wpis-zajaczek.jpg
END:VEVENT
BEGIN:VEVENT
DTSTART;TZID=Europe/Warsaw:20260325T180000
DTEND;TZID=Europe/Warsaw:20260325T193000
DTSTAMP:20260424T210130
CREATED:20260226T125644Z
LAST-MODIFIED:20260227T081702Z
UID:20729-1774461600-1774467000@www.bibldop.pl
SUMMARY:Spotkanie z Dawidem Andresem
DESCRIPTION:Już 25 marca odwiedzi nas Dawid Andres Najbardziej znany kierowca ciężarówki\, osobowość TV oraz podróżnik. Jeśli chcesz posłuchać inspirujących opowieści\, fascynujących historii z najdalszych zakątków świata oraz autentycznych przeżyć człowieka z pasją – nie może Cię zabraknąć! \n\n\n\nWSZYSTKIE MIEJSCA ZAJĘTE !
URL:https://www.bibldop.pl/wydarzenie/spotkanie-z-dawidem-andresem/
LOCATION:Sala widowiskowa w Konarzewie\, Poznańska 19\, Konarzewo\, Poland
CATEGORIES:CRK w Konarzewie
ATTACH;FMTTYPE=image/png:https://www.bibldop.pl/wp-content/uploads/2026/02/Andres-brak-miejsc-strona-www-scaled.png
END:VEVENT
BEGIN:VEVENT
DTSTART;TZID=Europe/Warsaw:20260330T110000
DTEND;TZID=Europe/Warsaw:20260330T130000
DTSTAMP:20260424T210130
CREATED:20260223T132928Z
LAST-MODIFIED:20260223T132928Z
UID:20692-1774868400-1774875600@www.bibldop.pl
SUMMARY:Śniadanie Wielkanocne Klubu Seniora Promyk
DESCRIPTION:
URL:https://www.bibldop.pl/wydarzenie/sniadanie-wielkanocne-klubu-seniora-promyk-2/
LOCATION:Sala widowiskowa w Konarzewie\, Poznańska 19\, Konarzewo\, Poland
CATEGORIES:CRK w Konarzewie
ATTACH;FMTTYPE=image/jpeg:https://www.bibldop.pl/wp-content/uploads/2025/12/seniorzy-trzymajac-sie-za-rece-w-kawiarni-scaled.jpg
END:VEVENT
END:VCALENDAR