BEGIN:VCALENDAR
VERSION:2.0
PRODID:-//Gminna Biblioteka Publiczna i Centrum Kultury w Dopiewie - ECPv6.15.20//NONSGML v1.0//EN
CALSCALE:GREGORIAN
METHOD:PUBLISH
X-WR-CALNAME:Gminna Biblioteka Publiczna i Centrum Kultury w Dopiewie
X-ORIGINAL-URL:https://www.bibldop.pl
X-WR-CALDESC:Wydarzenia dla Gminna Biblioteka Publiczna i Centrum Kultury w Dopiewie
REFRESH-INTERVAL;VALUE=DURATION:PT1H
X-Robots-Tag:noindex
X-PUBLISHED-TTL:PT1H
BEGIN:VTIMEZONE
TZID:Europe/Warsaw
BEGIN:DAYLIGHT
TZOFFSETFROM:+0100
TZOFFSETTO:+0200
TZNAME:CEST
DTSTART:20250330T010000
END:DAYLIGHT
BEGIN:STANDARD
TZOFFSETFROM:+0200
TZOFFSETTO:+0100
TZNAME:CET
DTSTART:20251026T010000
END:STANDARD
BEGIN:DAYLIGHT
TZOFFSETFROM:+0100
TZOFFSETTO:+0200
TZNAME:CEST
DTSTART:20260329T010000
END:DAYLIGHT
BEGIN:STANDARD
TZOFFSETFROM:+0200
TZOFFSETTO:+0100
TZNAME:CET
DTSTART:20261025T010000
END:STANDARD
BEGIN:DAYLIGHT
TZOFFSETFROM:+0100
TZOFFSETTO:+0200
TZNAME:CEST
DTSTART:20270328T010000
END:DAYLIGHT
BEGIN:STANDARD
TZOFFSETFROM:+0200
TZOFFSETTO:+0100
TZNAME:CET
DTSTART:20271031T010000
END:STANDARD
END:VTIMEZONE
BEGIN:VEVENT
DTSTART;TZID=Europe/Warsaw:20260119T160000
DTEND;TZID=Europe/Warsaw:20260119T170000
DTSTAMP:20260424T234654
CREATED:20251218T100257Z
LAST-MODIFIED:20251218T100257Z
UID:20277-1768838400-1768842000@www.bibldop.pl
SUMMARY:Spotkanie Klubu Seniora Promyk
DESCRIPTION:
URL:https://www.bibldop.pl/wydarzenie/spotkanie-klubu-seniora-promyk-4/
LOCATION:Sala widowiskowa w Konarzewie\, Poznańska 19\, Konarzewo\, Poland
CATEGORIES:CRK w Konarzewie
ATTACH;FMTTYPE=image/jpeg:https://www.bibldop.pl/wp-content/uploads/2025/12/seniorzy-trzymajac-sie-za-rece-w-kawiarni-scaled.jpg
END:VEVENT
BEGIN:VEVENT
DTSTART;TZID=Europe/Warsaw:20260123T183000
DTEND;TZID=Europe/Warsaw:20260123T203000
DTSTAMP:20260424T234654
CREATED:20251231T120940Z
LAST-MODIFIED:20260116T124614Z
UID:20328-1769193000-1769200200@www.bibldop.pl
SUMMARY:Wieczór filmowy dla dorosłych
DESCRIPTION:Wieczorny seans filmowy dla dorosłych widzów. \nTym razem na ekranie pojawi się Seksmisja w reżyserii Juliusza Machulskiego — kultowa komedia science fiction\, która pod płaszczykiem humoru stawia pytania o wolność\, władzę\, manipulację i naturę społeczeństwa. \nFilm od lat bawi kolejne pokolenia widzów\, ale wciąż pozostaje zaskakująco aktualny. To propozycja dla tych\, którzy cenią kino inteligentne\, odważne i z wyraźnym komentarzem do rzeczywistości. \nFilm adresowany dla widzów od lat 15+ \nWstęp wolny.
URL:https://www.bibldop.pl/wydarzenie/wieczor-filmowy-dla-doroslych/
LOCATION:Sala OSP w Dopiewie\, ul. Szkolna 21\, Dopiewo\, Poland
CATEGORIES:Sala OSP w Dopiewie
ATTACH;FMTTYPE=image/jpeg:https://www.bibldop.pl/wp-content/uploads/2025/12/23461-scaled.jpg
END:VEVENT
END:VCALENDAR