BEGIN:VCALENDAR
VERSION:2.0
PRODID:-//Gminna Biblioteka Publiczna i Centrum Kultury w Dopiewie - ECPv6.15.20//NONSGML v1.0//EN
CALSCALE:GREGORIAN
METHOD:PUBLISH
X-WR-CALNAME:Gminna Biblioteka Publiczna i Centrum Kultury w Dopiewie
X-ORIGINAL-URL:https://www.bibldop.pl
X-WR-CALDESC:Wydarzenia dla Gminna Biblioteka Publiczna i Centrum Kultury w Dopiewie
REFRESH-INTERVAL;VALUE=DURATION:PT1H
X-Robots-Tag:noindex
X-PUBLISHED-TTL:PT1H
BEGIN:VTIMEZONE
TZID:Europe/Warsaw
BEGIN:DAYLIGHT
TZOFFSETFROM:+0100
TZOFFSETTO:+0200
TZNAME:CEST
DTSTART:20240331T010000
END:DAYLIGHT
BEGIN:STANDARD
TZOFFSETFROM:+0200
TZOFFSETTO:+0100
TZNAME:CET
DTSTART:20241027T010000
END:STANDARD
BEGIN:DAYLIGHT
TZOFFSETFROM:+0100
TZOFFSETTO:+0200
TZNAME:CEST
DTSTART:20250330T010000
END:DAYLIGHT
BEGIN:STANDARD
TZOFFSETFROM:+0200
TZOFFSETTO:+0100
TZNAME:CET
DTSTART:20251026T010000
END:STANDARD
BEGIN:DAYLIGHT
TZOFFSETFROM:+0100
TZOFFSETTO:+0200
TZNAME:CEST
DTSTART:20260329T010000
END:DAYLIGHT
BEGIN:STANDARD
TZOFFSETFROM:+0200
TZOFFSETTO:+0100
TZNAME:CET
DTSTART:20261025T010000
END:STANDARD
END:VTIMEZONE
BEGIN:VEVENT
DTSTART;TZID=Europe/Warsaw:20251201T170000
DTEND;TZID=Europe/Warsaw:20251201T183000
DTSTAMP:20260425T011947
CREATED:20241212T101743Z
LAST-MODIFIED:20241212T101743Z
UID:16382-1764608400-1764613800@www.bibldop.pl
SUMMARY:Spotkanie Klubu Seniora Promyk
DESCRIPTION:
URL:https://www.bibldop.pl/wydarzenie/spotkanie-klubu-seniora-promyk-19/
LOCATION:Sala widowiskowa w Konarzewie\, Poznańska 19\, Konarzewo\, Poland
CATEGORIES:CRK w Konarzewie
ATTACH;FMTTYPE=image/jpeg:https://www.bibldop.pl/wp-content/uploads/2021/07/klub-seniora-scaled.jpg
END:VEVENT
BEGIN:VEVENT
DTSTART;TZID=Europe/Warsaw:20251205T170000
DTEND;TZID=Europe/Warsaw:20251205T190000
DTSTAMP:20260425T011947
CREATED:20251014T112446Z
LAST-MODIFIED:20251029T132403Z
UID:19770-1764954000-1764961200@www.bibldop.pl
SUMMARY:Mikołajkowe Spotkanie w Skórzewie - Zimowy Koncert Stwora Głodomora
DESCRIPTION:Zapraszamy całe rodziny na świąteczne spotkanie w Skórzewie!\nW tym roku przygotowaliśmy dla mieszkańców wieczór pełen atrakcji\, którego kulminacyjnym momentem będzie wspólnie rozświetlenie świątecznej choinki na Figowym Zakątku. \nZimowy Koncert Stwora GłodomoraNa scenie pojawią się uwielbiane przez dzieci postacie znane z przygód Stwora Głodomora oraz nowe – między innymi bohaterowie z Krainy Lodu\, leśne skrzaty i Pani Zima.Podczas interaktywnego spektaklu dzieci nie tylko będą się świetnie bawić\, ale także dowiedzą się\, że najcenniejszym prezentem nie są zabawki\, lecz rodzinne ciepło\, przyjaźń i radość dzielenia się z innymi. \nKoncert wypełnią świąteczne przeboje i znane zimowe piosenki – w tym takie utwory jak „Zima lubi dzieci”\, „Pada śnieg” czy „Ding-dong”. Wszystko to w wykonaniu grupy wokalnej 4Mation\, której członkowie są finalistami programów takich jak Szansa na sukces.To spektakl pełen muzyki\, humoru i magii\, przygotowany we współpracy z Konradem „KONY” Czarkowskim – lalkarzem medialnym i finalistą Mam Talent oraz Britain’s Got Talent. \nPokaz Ognia – „Magia Ognia”Niezwykłe widowisko w wykonaniu zespołu Papuga Fireshow – pełne płomieni\, światła i muzyki.To spektakl łączący taniec\, pirotechnikę sceniczną i ogień w fascynującą opowieść o cieple i magii światła.Pokaz jest w pełni bezpieczny\, bez hukowych efektów – idealny także dla najmłodszych widzów. \n \n 
URL:https://www.bibldop.pl/wydarzenie/mikolajkowe-spotkanie-dla-dzieci-w-skorzewie-2/
LOCATION:Figowy Zakątek\, ul. Figowa\, Skórzewo
CATEGORIES:Pozostałe
ATTACH;FMTTYPE=image/png:https://www.bibldop.pl/wp-content/uploads/2024/11/Mikolajki-Dabrowka-2024.png
END:VEVENT
BEGIN:VEVENT
DTSTART;TZID=Europe/Warsaw:20251206T103000
DTEND;TZID=Europe/Warsaw:20251206T123000
DTSTAMP:20260425T011947
CREATED:20250829T113034Z
LAST-MODIFIED:20251008T112518Z
UID:19102-1765017000-1765024200@www.bibldop.pl
SUMMARY:Świąteczne warsztaty w Dąbrówce
DESCRIPTION:Warsztaty świąteczne z Małgorzatą Pietruchą to okazja\, by własnoręcznie przygotować niepowtarzalne ozdoby z makramy.\nUczestnicy stworzą dekoracje z drewnianych elementów i włóczki. \nZajęcia przeznaczone są dla dzieci od 6. roku życia.\nWstęp bezpłatny.\nLiczba miejsc ograniczona – w warsztatach może wziąć udział maksymalnie 12 osób.  \nZapisy pod numerem: 503 481 757
URL:https://www.bibldop.pl/wydarzenie/swiateczne-warsztaty-w-dabrowce/
LOCATION:Filia biblioteczna w Dąbrówce\, ul. Malinowa 41\, Dąbrówka
CATEGORIES:Filia w Dąbrówce
ATTACH;FMTTYPE=image/png:https://www.bibldop.pl/wp-content/uploads/2025/08/ChatGPT-Image-29-sie-2025-13_23_53.png
END:VEVENT
BEGIN:VEVENT
DTSTART;TZID=Europe/Warsaw:20251206T170000
DTEND;TZID=Europe/Warsaw:20251206T190000
DTSTAMP:20260425T011947
CREATED:20251014T112734Z
LAST-MODIFIED:20251125T163113Z
UID:19772-1765040400-1765047600@www.bibldop.pl
SUMMARY:Mikołajkowe Spotkanie w Dąbrówce
DESCRIPTION:Zapraszamy na Mikołajkowe Spotkanie w Parku Rekreacyjno-Sportowym w Dąbrówce\, podczas którego wspólnie z mieszkańcami rozświetlimy choinkę\, która ozdobi park przy ul. Komornickiej i stanie się najjaśniejszym świątecznym akcentem w całej okolicy. \nZ tej okazji przygotowaliśmy atrakcje dla całych rodzin.Na najmłodszych czeka mnóstwo niespodzianek przygotowanych przez radosne elfy – świąteczne przygody\, integracyjne zabawy oraz konkursy z drobnymi nagrodami. \nPo części animacyjnej publiczność obejrzy niezwykłe widowisko – pokaz ognia w wykonaniu grupy Papuga Fireshow. To pełen światła\, tańca i płomieni spektakl\, który połączy energię ognia z muzyką i ruchem\, tworząc magiczny pokaz\, jakiego w Dąbrówce jeszcze nie było. \nNasze wydarzenie współtworzymy z @KGW Kobiety Dąbrówki\, które dla uczestników naszego spotkania będą miały różne pyszności w tym hot-dogi\, którymi będziecie mogli się zajadać przez całą imprezę!  \nUbierzcie się ciepło i spędźcie ten wieczór razem z nami! 🎄✨
URL:https://www.bibldop.pl/wydarzenie/mikolajkowe-spotkanie-dla-dzieci-w-dabrowce-2/
LOCATION:Park Rekreacyjno-Sportowy w Dąbrówce\, ul. Komornicka\, Dąbrówka\, Poland
CATEGORIES:Pozostałe
ATTACH;FMTTYPE=image/png:https://www.bibldop.pl/wp-content/uploads/2024/11/Mikolajki-Skorzewo-2024.png
END:VEVENT
BEGIN:VEVENT
DTSTART;TZID=Europe/Warsaw:20251207T150000
DTEND;TZID=Europe/Warsaw:20251207T190000
DTSTAMP:20260425T011947
CREATED:20251029T130610Z
LAST-MODIFIED:20251029T131359Z
UID:19876-1765119600-1765134000@www.bibldop.pl
SUMMARY:Wielkie Ubieranie Choinki w Dopiewie - IX Jarmark Świąteczny
DESCRIPTION:Wielkie Ubieranie Choinki w Dopiewie – IX Jarmark Świąteczny \nZbliża się jedno z najbardziej magicznych wydarzeń w roku! Już wkrótce Dopiewo rozbłyśnie świątecznym światłem podczas Wielkiego Ubierania Choinki – corocznego jarmarku\, który łączy mieszkańców we wspólnym\, radosnym oczekiwaniu na Boże Narodzenie. \nNa uczestników czeka mnóstwo atrakcji dla całej rodziny. Na scenie wystąpią lokalni artyści\, a wyjątkową muzyczną gwiazdą tegorocznej edycji będzie Alicja Janosz z programem „Alicja Janosz Dzieciom #Idą Święta” – koncert pełen świątecznych melodii\, które poruszą serca zarówno dzieci\, jak i dorosłych. \nNie zabraknie także świątecznych gości! Na placu pojawi się Święty Mikołaj w towarzystwie swoich reniferów\, gotowy na wspólne zdjęcia i rozmowy z najmłodszymi. Dzieci będą mogły skorzystać z wielu zimowych atrakcji – czeka na nie strefa VR\, świąteczna kolejka\, karuzela\, snowtubing i wiele innych niespodzianek. \nPodczas jarmarku nie zabraknie również stoisk pełnych rękodzieła\, smakołyków i lokalnych przysmaków. \nPrzyjdźcie całą rodziną i poczujcie magię nadchodzących świąt – razem ubierzmy choinkę i rozświetlmy Dopiewo!
URL:https://www.bibldop.pl/wydarzenie/wielkie-ubieranie-choinki-w-dopiewie-ix-jarmark-swiateczny/
LOCATION:Plac Gminny w Dopiewie\, ul. Łąkowa/Wyzwolenia\, Dopiewo\, Poland
ATTACH;FMTTYPE=image/png:https://www.bibldop.pl/wp-content/uploads/2025/10/Frame-1.png
END:VEVENT
BEGIN:VEVENT
DTSTART;TZID=Europe/Warsaw:20251212T190000
DTEND;TZID=Europe/Warsaw:20251212T210000
DTSTAMP:20260425T011947
CREATED:20251107T084906Z
LAST-MODIFIED:20251107T084906Z
UID:19962-1765566000-1765573200@www.bibldop.pl
SUMMARY:Spotkanie autorskie z dr Matyldą Gerber w Skórzewie
DESCRIPTION:Zapraszamy na spotkanie autorskie połączone z warsztatami z dr Matyldą Gerber – psycholożką\, trenerką rozwoju osobistego i autorką książki Mission Intuition. \nPodczas spotkania autorka pomoże uczestnikom zrozumieć własną intuicję – wewnętrzną mądrość\, która często podpowiada nam więcej niż rozum. Porozmawiamy o tym\, jak ona działa i jak z niej korzystać w codziennym życiu – zarówno zawodowym\, jak i osobistym. \nWstęp wolny.\nZapisy przez formularz: \nWydarzenie jest dofinansowane ze środków Ministra Kultury i Dziedzictwa Narodowego pochodzących z Funduszu Promocji Kultury.
URL:https://www.bibldop.pl/wydarzenie/spotkanie-autorskie-z-dr-matylda-gerber-w-skorzewie/
LOCATION:Filia biblioteczna w Skórzewie\, ul. Kozierowskiego 1\, Skórzewo
CATEGORIES:Filia w Skórzewie
ATTACH;FMTTYPE=image/jpeg:https://www.bibldop.pl/wp-content/uploads/2025/11/Spotkanie-autorskie-z-Anna-Diller-Duze.jpg
END:VEVENT
BEGIN:VEVENT
DTSTART;TZID=Europe/Warsaw:20251220T170000
DTEND;TZID=Europe/Warsaw:20251220T180000
DTSTAMP:20260425T011947
CREATED:20251106T145248Z
LAST-MODIFIED:20251113T151203Z
UID:19946-1766250000-1766253600@www.bibldop.pl
SUMMARY:Koncert Kolęd Poznańskich Słowików
DESCRIPTION:Zapraszamy na Koncert Kolęd Chóru Chłopięcego i Męskiego Filharmonii Poznańskiej „Poznańskie Słowiki”\n\nChór Chłopięcy i Męski Filharmonii Poznańskiej nazywany powszechnie „Poznańskimi Słowikami”\, znany jest w całej Polsce\, jak i poza jej granicami.\n\n\nPoczątki zespołu sięgają jesieni 1939 roku\, kiedy wkrótce po wybuchu II wojny światowej dziewiętnastoletni Stefan Stuligrosz skupił wokół siebie garstkę śpiewaków Chóru Katedralnego księdza Wacława Gieburowskiego i rozpoczął konspiracyjne próby. Chór śpiewał w kościołach poznańskich: Świętego Wojciecha i Matki Boskiej Bolesnej na Łazarzu. Dla mieszkańców okupowanego Poznania była to niezwykła manifestacja ducha polskości. Tak narodził się Chór Stuligrosza\, z czasem nazwany „Poznańskimi Słowikami”. \n\n\nPoznańskie Słowiki” współpracowały z wybitnymi artystami m.in. z Barbarą Hendricks\, Margaret Marshall\, Adele Stolte\, Renatą Scotto\, Krystyną Szostek-Radkową\, Teresą Żylis-Garą\, Ryszardem Karczykowskim\, Wiesławem Ochmanem. Chórem dyrygowali m.in.: Stanisław Wisłocki\, Marek Pijarowski\, Łukasz Borowicz\, David Shalom\, Gaetano d’Espinosa i legendarny Leonard Bernstein. Zespół stale współpracuje z Orkiestrą Filharmonii Poznańskiej.\nPrzez niemal 85 lat zespół tworzyło ponad 1700 śpiewaków. Obecnie „Poznańskie Słowiki” to prawie 100 śpiewających chłopców i panów. Ich wspólny sukces jest muzyczną wizytówką Poznania i Polski. \n\n\n\n\n\nBrak wolnych miejsc! Wszystkie wejściówki rozdane!\n\n\n\nZadanie dofinansowane przez Urząd Marszałkowski Województwa Wielkopolskiego w ramach programu “Kultura w drodze”.
URL:https://www.bibldop.pl/wydarzenie/koncert-koled-poznanskich-slowikow/
LOCATION:Sala widowiskowa w Konarzewie\, Poznańska 19\, Konarzewo\, Poland
CATEGORIES:CRK w Konarzewie
ATTACH;FMTTYPE=image/jpeg:https://www.bibldop.pl/wp-content/uploads/2025/11/Poznanskie-Slowiki-wpis.jpg
END:VEVENT
BEGIN:VEVENT
DTSTART;TZID=Europe/Warsaw:20251226T160000
DTEND;TZID=Europe/Warsaw:20251226T170000
DTSTAMP:20260425T011947
CREATED:20251218T102655Z
LAST-MODIFIED:20251218T102746Z
UID:20282-1766764800-1766768400@www.bibldop.pl
SUMMARY:Przyjazd pociągu "Mistrz Paderewski"
DESCRIPTION:“Pociąg Mistrz Paderewski” to historyczny skład Kolei Wielkopolskich\, który co roku odtwarza przyjazd Ignacego Paderewskiego do Poznania. Wydarzenie to upamiętnia jego podróż z 1918 roku\, czyli moment symbolicznie rozpoczynający obchody wybuchu Powstania Wielkopolskiego. W tym roku pociąg po raz drugi zatrzyma się na Dworcu Kolejowym w Palędziu.
URL:https://www.bibldop.pl/wydarzenie/przyjazd-pociagu-mistrz-paderewski/
LOCATION:Dworzec Palędzie\, Kolejowa
CATEGORIES:Pozostałe
ATTACH;FMTTYPE=image/jpeg:https://www.bibldop.pl/wp-content/uploads/2025/12/Paderewski.jpg
END:VEVENT
END:VCALENDAR