BEGIN:VCALENDAR
VERSION:2.0
PRODID:-//Gminna Biblioteka Publiczna i Centrum Kultury w Dopiewie - ECPv6.15.20//NONSGML v1.0//EN
CALSCALE:GREGORIAN
METHOD:PUBLISH
X-WR-CALNAME:Gminna Biblioteka Publiczna i Centrum Kultury w Dopiewie
X-ORIGINAL-URL:https://www.bibldop.pl
X-WR-CALDESC:Wydarzenia dla Gminna Biblioteka Publiczna i Centrum Kultury w Dopiewie
REFRESH-INTERVAL;VALUE=DURATION:PT1H
X-Robots-Tag:noindex
X-PUBLISHED-TTL:PT1H
BEGIN:VTIMEZONE
TZID:Europe/Warsaw
BEGIN:DAYLIGHT
TZOFFSETFROM:+0100
TZOFFSETTO:+0200
TZNAME:CEST
DTSTART:20240331T010000
END:DAYLIGHT
BEGIN:STANDARD
TZOFFSETFROM:+0200
TZOFFSETTO:+0100
TZNAME:CET
DTSTART:20241027T010000
END:STANDARD
BEGIN:DAYLIGHT
TZOFFSETFROM:+0100
TZOFFSETTO:+0200
TZNAME:CEST
DTSTART:20250330T010000
END:DAYLIGHT
BEGIN:STANDARD
TZOFFSETFROM:+0200
TZOFFSETTO:+0100
TZNAME:CET
DTSTART:20251026T010000
END:STANDARD
BEGIN:DAYLIGHT
TZOFFSETFROM:+0100
TZOFFSETTO:+0200
TZNAME:CEST
DTSTART:20260329T010000
END:DAYLIGHT
BEGIN:STANDARD
TZOFFSETFROM:+0200
TZOFFSETTO:+0100
TZNAME:CET
DTSTART:20261025T010000
END:STANDARD
END:VTIMEZONE
BEGIN:VEVENT
DTSTART;TZID=Europe/Warsaw:20251005T080000
DTEND;TZID=Europe/Warsaw:20251011T203000
DTSTAMP:20260425T040121
CREATED:20250909T102453Z
LAST-MODIFIED:20250909T102453Z
UID:19351-1759651200-1760214600@www.bibldop.pl
SUMMARY:Dopiewskie Dni Seniora 2025
DESCRIPTION:Uroczystym koncertem Eleni w Szkole Podstawowej nr 2 im. Ignacego Jana Paderewskiego w Skórzewie rozpoczną się w niedzielę 5 października Dopiewskie Dni Seniora. Wydarzenie potrwa do 10 października. \nWydarzenie organizowane jest w związku z Międzynarodowym Dniem Osób Starszych\, którzy przypada na 1 października. Przez tydzień mieszkańcy Gminy Dopiewo w wieku senioralnym będą mogli bezpłatnie uczestniczyć w wydarzeniach kulturalnych\, edukacyjnych i ruchowych. \nW programie znalazły się m.in. koncerty\, zabawa taneczna\, warsztaty manualne\, zajęcia ruchowe\, spotkania z gośćmi i specjalistami (dietetykiem\, neurologopedą\, fizjoterapeutą). \nNa koncert inauguracyjny wejściówki będzie można odebrać w Gminnej Bibliotece Publicznej i Centrum Kultury w Dopiewie oraz w jej filiach\, w Centrum Usług Społecznych w Dopiewie oraz Urzędzie Gminy. Ich ilość będzie ograniczona. O terminie odbioru poinformujemy wkrótce. Zapisy obowiązują na wybrane warsztaty\, spotkania oraz zabawę taneczną\, która zaplanowana jest na czwartek 9 października. Szczegółowe informacje dostępne poniżej. \nWydarzenie przygotowane jest przez Połączone Siły Gminy Dopiewo – Urząd Gminy\, Gminną Bibliotekę Publiczną i Centrum Kultury\, Centrum Usług Społecznych\, Gminny Ośrodek Sportu i Rekreacji oraz Zakład Usług Komunalny Sp. z o.o.
URL:https://www.bibldop.pl/wydarzenie/dopiewskie-dni-seniora-2025/
CATEGORIES:Pozostałe
ATTACH;FMTTYPE=image/jpeg:https://www.bibldop.pl/wp-content/uploads/2025/09/Dopiewskie-Dni-Seniora-2025-1.jpg
END:VEVENT
BEGIN:VEVENT
DTSTART;TZID=Europe/Warsaw:20251006T170000
DTEND;TZID=Europe/Warsaw:20251006T170000
DTSTAMP:20260425T040122
CREATED:20250826T121140Z
LAST-MODIFIED:20251001T112852Z
UID:18958-1759770000-1759770000@www.bibldop.pl
SUMMARY:Kino dla seniora w Dopiewie
DESCRIPTION:Serdecznie zapraszamy na wyjątkowy seans filmowy w ramach Dopiewskich Dni Seniora. \nNa dużym ekranie zobaczymy ciepłą\, pełną humoru i wzruszeń opowieść „Hotel Marigold” – film\, który zdobył serca widzów na całym świecie. To historia grupy brytyjskich emerytów\, którzy postanawiają rozpocząć nowe życie w Indiach i odkrywają\, że nigdy nie jest za późno na przygodę\, miłość i nowe marzenia. \nZapewniamy miłą atmosferę\, wspólne filmowe emocje i dobrą okazję do spotkania w gronie znajomych i przyjaciół. \nWstęp wolny! 🎟️Dołączcie do nas i spędźcie jesienny wieczór w kinowym klimacie.
URL:https://www.bibldop.pl/wydarzenie/kino-dla-serniora/
LOCATION:Sala OSP w Dopiewie\, ul. Szkolna 21\, Dopiewo\, Poland
CATEGORIES:Sala OSP w Dopiewie
ATTACH;FMTTYPE=image/png:https://www.bibldop.pl/wp-content/uploads/2025/08/kino-dla-seniora_Dopiewo_06.10.25-scaled.png
END:VEVENT
BEGIN:VEVENT
DTSTART;TZID=Europe/Warsaw:20251007T170000
DTEND;TZID=Europe/Warsaw:20251007T183000
DTSTAMP:20260425T040122
CREATED:20250903T073544Z
LAST-MODIFIED:20250925T073753Z
UID:19223-1759856400-1759861800@www.bibldop.pl
SUMMARY:Spotkanie autorskie z Niną Majewską-Brown
DESCRIPTION:Spotkanie autorskie z Niną Majewską-Brown\nSerdecznie zapraszamy na wyjątkowe spotkanie z Niną Majewską-Brown – cenioną autorką powieści obyczajowych i historycznych\, absolwentką Uniwersytetu im. Adama Mickiewicza w Poznaniu. \nPrzez lata związana z branżą reklamy i PR-u\, pracowała w renomowanych agencjach i wydawnictwach\, gdzie promowała największe nazwiska literatury polskiej i światowej. Swoją pisarską drogę rozpoczęła w 2015 roku przebojową powieścią „Wakacje”\, która szybko podbiła serca czytelników. \nAutorka takich bestsellerów jak:„Nina”\, „Mąż na niby”\, „Żona na zamówienie”\, „Tylko dla dorosłych”\, „Tylko tu i teraz” – znana jest z lekkiego pióra i doskonałego wyczucia codziennych emocji. Ma na swoim koncie również kryminał „Grzech”\, który spotkał się z bardzo ciepłym przyjęciem. \nW ostatnich latach dała się poznać również jako autorka poruszających powieści historycznych inspirowanych prawdziwymi wydarzeniami: „Tajemnica z Auschwitz” i „Anioł życia z Auschwitz”\, które zdobyły status bestsellerów. \n📍 Wstęp wolny📞 Zapisy: 503 481 757⚠️ Liczba miejsc ograniczona! \nNie przegap okazji\, by spotkać się z jedną z najchętniej czytanych polskich autorek i poznać kulisy jej twórczości! \n 
URL:https://www.bibldop.pl/wydarzenie/spotkanie-autorskie-z-nina-majewska-brown/
LOCATION:Filia biblioteczna w Dąbrówce\, ul. Malinowa 41\, Dąbrówka
CATEGORIES:Filia w Dąbrówce
ATTACH;FMTTYPE=image/jpeg:https://www.bibldop.pl/wp-content/uploads/2025/09/Nina-Majewska-Brown-spotkanie-2025-wpis.jpg
END:VEVENT
BEGIN:VEVENT
DTSTART;TZID=Europe/Warsaw:20251009T180000
DTEND;TZID=Europe/Warsaw:20251009T193000
DTSTAMP:20260425T040122
CREATED:20250522T141619Z
LAST-MODIFIED:20250522T141619Z
UID:18006-1760032800-1760038200@www.bibldop.pl
SUMMARY:Spotkanie autorskie z Piotrem Milewskim
DESCRIPTION:Piotr Milewski – Studiował w Poznaniu\, Wiedniu\, Pasawie\, Filadelfii\, Sapporo i Otaru. Dziewięć lat spędził w Japonii. Stypendysta Ministra Kultury i Dziedzictwa Narodowego. Autor bestsellerowych książek: Transsyberyjska. Drogą żelazną przez Rosję i dalej (2021)\, Dzienniki japońskie. Zapiski z roku Królika i roku Konia (2022)\, Islandia albo najzimniejsze lato od pięćdziesięciu lat (2018)\, Planeta K. Pięć lat w japońskiej korporacji (2020) oraz Tokio. Opowieści z Dolnego Miasta (2023). Współautor książek: Hokkaido – Japonia bez gejsz i samurajów (2006)\, Azja. Opowieści podróżne (2018)\, Wyspa. Opowieści podróżne (2019) oraz Antologia Wyspy. Port pierwszy (2021).\nCzterokrotny laureat Nagrody Magellana Magazynu Literackiego „Książki”. Laureat nagrody Traveler za najlepszą książkę roku magazynu „National Geographic Polska” (Planeta K.). Współpracuje z polskimi i japońskimi czasopismami oraz z prasą polonijną. Wykłada na Polsko-Japońskiej Akademii Technik Komputerowych. \nZapisy na spotkanie w filii bibliotecznej w Skórzewie lub tel. 884 206 308\nIlość miejsc ograniczona
URL:https://www.bibldop.pl/wydarzenie/spotkanie-autorskie-z-piotrem-milewskim/
LOCATION:Filia biblioteczna w Skórzewie\, ul. Kozierowskiego 1\, Skórzewo
CATEGORIES:Filia w Skórzewie
ATTACH;FMTTYPE=image/png:https://www.bibldop.pl/wp-content/uploads/2025/05/Piotr-Milewski.png
END:VEVENT
BEGIN:VEVENT
DTSTART;TZID=Europe/Warsaw:20251015T110000
DTEND;TZID=Europe/Warsaw:20251015T130000
DTSTAMP:20260425T040122
CREATED:20251013T105642Z
LAST-MODIFIED:20251013T105642Z
UID:19738-1760526000-1760533200@www.bibldop.pl
SUMMARY:Wiosna w cebulce - jesienna akcja sadzenia krokusów
DESCRIPTION:Już po raz drugi spotykamy się przed Biblioteką w Dopiewie\, aby wspólnie posadzić krokusy i uczynić nasze otoczenie jeszcze piękniejszym! \n15.10.2025 godz. 11.00-13.00 \nZabierz ze sobą dobry humor\, łopatkę do kopania i chęć do działania! \nDo zobaczenia!
URL:https://www.bibldop.pl/wydarzenie/wiosna-w-cebulce-jesienna-akcja-sadzenia-krokusow/
LOCATION:Biblioteka w Dopiewie\, ul. Konarzewska 12\, Dopiewo\, Poland
CATEGORIES:Biblioteka w Dopiewie
ATTACH;FMTTYPE=image/jpeg:https://www.bibldop.pl/wp-content/uploads/2024/10/Krokusy-2024-wpis.jpg
END:VEVENT
BEGIN:VEVENT
DTSTART;TZID=Europe/Warsaw:20251017T180000
DTEND;TZID=Europe/Warsaw:20251017T220000
DTSTAMP:20260425T040122
CREATED:20250911T093337Z
LAST-MODIFIED:20251015T123437Z
UID:19368-1760724000-1760738400@www.bibldop.pl
SUMMARY:Noc Bibliotek 2025
DESCRIPTION:📚 Noc Bibliotek 2025 – już wkrótce w naszej bibliotece!\nSerdecznie zapraszamy do udziału w ogólnopolskiej akcji Noc Bibliotek 2025 – wielkiego święta bibliotek i czytania! To wyjątkowa okazja\, by spojrzeć na bibliotekę z zupełnie innej strony – jako miejsce spotkań\, wspólnej zabawy\, odkrywania kultury i nauki w niekonwencjonalny sposób. \nPod hasłem tegorocznej edycji „Do dzieła!!”\, biblioteki w całej Polsce otwierają się na swoich czytelników po godzinach\, proponując wyjątkowe wydarzenia – od warsztatów\, przez pokazy filmowe\, po spotkania z ciekawymi gośćmi. \nPrzygotowaliśmy dla Was specjalny program\, pełen atrakcji dla dzieci\, młodzieży\, dorosłych i całych rodzin. Będzie kreatywnie\, inspirująco i… zaskakująco! 🎉 \n🌱 Mały Ogrodnik – kreatywne warsztaty ogrodnicze dla dzieci\nZapraszamy najmłodszych na twórcze warsztaty projektowania ogrodów! To doskonała okazja\, by zbliżyć się do natury i rozwinąć zdolności manualne. Każde dziecko stworzy własny projekt rabaty\, dając upust swojej wyobraźni. W pracy wykorzystamy naturalne materiały – m.in. mech\, chrobotek reniferowy – oraz kredki i inne elementy plastyczne. To spotkanie\, które łączy naukę\, zabawę i artystyczne podejście do przyrody. \n🧪 Magia Chemii – Jak zobaczyć gaz?\nZapraszamy młodych odkrywców na wyjątkowe warsztaty\, podczas których przekonają się\, że choć gazów nie widać\, to można je poczuć\, zbadać i… dobrze się przy tym bawić! Poprzez efektowne doświadczenia i aktywną zabawę dzieci poznają świat niewidzialnych substancji\, które codziennie nas otaczają. Warsztaty mają na celu nie tylko naukę poprzez eksperymenty\, ale także rozbudzanie ciekawości świata i zachwyt nad nauką – już od najmłodszych lat. \n🎨 Spotkanie ze Sztuką – wystawa prac Agaty Siedlik i Magdaleny Niewiedział\nW ramach Nocy Bibliotek zapraszamy na wyjątkową wystawę lokalnych artystek – Agaty Siedlik i Magdaleny Niewiedział. Ich prace to wizualna opowieść o emocjach i przeżyciach\, które poruszają zarówno twórczynie\, jak i odbiorców. Ekspozycja nie przedstawia rzeczywistości w sposób dosłowny – skupia się raczej na wewnętrznym świecie\, subtelnych doznaniach i relacjach międzyludzkich. To sztuka\, która inspiruje do refleksji i zatrzymania się w codziennym biegu. \n🧶 Sztuka splotów – warsztaty z makramy\nChcesz zacząć swoją przygodę z makramą? Te warsztaty są właśnie dla Ciebie! W trakcie spotkania wykonasz dekoracyjny jesienny liść\, poznając przy tym podstawowe sploty i techniki. Zajęcia są idealne dla początkujących – krok po kroku nauczysz się tworzyć makramowe kompozycje\, które zabierzesz ze sobą do domu. Gwarantujemy relaksującą atmosferę i dużą dawkę kreatywności! \n🌿 Relaks i odświeżenie – masaż twarzy dla kobiet\nZapraszamy Panie na krótki\, 15-minutowy masaż twarzy\, prowadzony przez profesjonalistkę. To prosty\, ale niezwykle skuteczny zabieg manualny\, który poprawia kondycję skóry\, rozluźnia mięśnie i pozytywnie wpływa na samopoczucie. Dowiesz się również\, jak samodzielnie wykonywać taki masaż w domu – bez specjalistycznych narzędzi\, tylko przy użyciu dłoni i odpowiedniego kosmetyku. \n✨ Magia Światła – Warsztaty z Fluorescencji\nZanurz się w niezwykły świat barw\, który ożywa dopiero w świetle UV! Magia Światła to kreatywne warsztaty\, podczas których uczestnicy poznają zjawisko fluorescencji w praktyce – malując własne czapki i torby farbami fluoro\, które świecą w ultrafiolecie. \nTo połączenie nauki i sztuki w najlepszym wydaniu – zabawa kolorami\, eksperymenty ze światłem i wyjątkowa atmosfera jak z innego wymiaru! \n🎥 Kino sferyczne – nowy wymiar edukacji i doznań\nZanurz się w świecie dźwięku i obrazu w 360°! W trakcie czterech seansów uczestnicy doświadczą niesamowitych efektów audiowizualnych\, które pozwalają lepiej zrozumieć i zapamiętać prezentowane treści. Kino sferyczne to innowacyjna forma nauki i rozrywki – widzowie mogą oglądać filmy siedząc lub leżąc na piankowych matach\, co potęguje wrażenia i komfort. To wyjątkowa okazja do przeżycia czegoś zupełnie nowego! I seans g. 18.00    II seans g. 19.00     III seans g. 20.00    IV seans g. 21.00 \nZapisy na masaż dla kobiet oraz kino kino sferyczne pod numerem tel. 694 904 690 \nDo zobaczenia w bibliotece – wieczorem\, nocą\, inaczej niż zwykle! 🌙📖
URL:https://www.bibldop.pl/wydarzenie/noc-bibliotek-2025/
LOCATION:Filia biblioteczna w Konarzewie\, ul. Poznańska 19a\, Konarzewo
CATEGORIES:Filia w Konarzewie
ATTACH;FMTTYPE=image/jpeg:https://www.bibldop.pl/wp-content/uploads/2025/09/Noc-bibliotek-2025-wpis.jpg
END:VEVENT
BEGIN:VEVENT
DTSTART;TZID=Europe/Warsaw:20251021T160000
DTEND;TZID=Europe/Warsaw:20251021T170000
DTSTAMP:20260425T040122
CREATED:20250915T124108Z
LAST-MODIFIED:20250915T124108Z
UID:19400-1761062400-1761066000@www.bibldop.pl
SUMMARY:Złota Polska Jesień – malowanie patyczkami
DESCRIPTION:Zapraszamy na kreatywne warsztaty\, na których będziemy tworzyć jesienne obrazy. Otóż malować można nie tylko pędzlami. To właśnie na tych zajęciach uczestnicy poznają inne metody malowania. Dzięki zwykłym patyczkom do uszu czy gąbce do mycia naczyń postaramy się przenieść piękno tej pory roku na zwykły papier. \nBez ograniczeń wiekowych.\nWstęp wolny.\nLiczba miejsc ograniczona.\nZapisy pod numerem telefonu: 600 902 694
URL:https://www.bibldop.pl/wydarzenie/zlota-polska-jesien-malowanie-patyczkami/
LOCATION:Filia biblioteczna w Dąbrówce\, ul. Malinowa 41\, Dąbrówka
CATEGORIES:Filia w Dąbrówce
ATTACH;FMTTYPE=image/png:https://www.bibldop.pl/wp-content/uploads/2025/09/ChatGPT-Image-15-wrz-2025-14_39_57-Srednie.png
END:VEVENT
BEGIN:VEVENT
DTSTART;TZID=Europe/Warsaw:20251028T170000
DTEND;TZID=Europe/Warsaw:20251028T190000
DTSTAMP:20260425T040122
CREATED:20250819T110353Z
LAST-MODIFIED:20250820T062810Z
UID:18836-1761670800-1761678000@www.bibldop.pl
SUMMARY:Spotkanie autorskie z Jakubem Bączykowskim
DESCRIPTION:Serdecznie zapraszamy na wyjątkowe spotkanie autorskie z Jakubem Bączykowskim – autorem jednej z najczęściej czytanych książek 2025 roku\, powieści „Zadzwoń\, jak dojedziesz”. \nJakub Bączykowski zadebiutował w 2023 roku thrillerem obyczajowym Stanie się coś złego. Dziś ma na koncie już kilka poczytnych tytułów\, które zdobyły serca czytelników w całej Polsce. Prywatnie – pasjonat literatury obyczajowej i kryminalnej\, miłośnik spacerów po lesie i dobrego gotowania. \nSpotkanie w ramach trasy „Porozmawiajmy o emocjach” będzie doskonałą okazją\, aby porozmawiać z autorem o jego twórczości\, inspiracjach i emocjach\, które kryją się między kartami jego książek. To także okazja\, aby zadać pytania i poznać kulisy pracy pisarza. \n🎟 Wstęp wolny.\n📝 Zapisy pod numerem: 503 481 757 \nZapraszamy wszystkich miłośników literatury i dobrej rozmowy – gwarantujemy spotkanie pełne emocji i inspiracji!
URL:https://www.bibldop.pl/wydarzenie/spotkanie-autorskie-z-jakubem-baczykowskim/
LOCATION:Filia biblioteczna w Dąbrówce\, ul. Malinowa 41\, Dąbrówka
CATEGORIES:Filia w Dąbrówce
ATTACH;FMTTYPE=image/jpeg:https://www.bibldop.pl/wp-content/uploads/2025/08/Jakub-Baczykowski_Dabrowka_28.10.25_wpis.jpg
END:VEVENT
BEGIN:VEVENT
DTSTART;TZID=Europe/Warsaw:20251031T180000
DTEND;TZID=Europe/Warsaw:20251031T200000
DTSTAMP:20260425T040122
CREATED:20250925T125337Z
LAST-MODIFIED:20250926T114308Z
UID:19545-1761933600-1761940800@www.bibldop.pl
SUMMARY:Wieczór filmowy dla dzieci "COCO"
DESCRIPTION:🎬 Zapraszamy dzieci na wyjątkowy seans filmu animowanego „Coco”! 🌟 \nDołączcie do nas na magiczną podróż do świata muzyki\, marzeń i niezwykłych przygód! „Coco” to wzruszająca i pełna kolorów opowieść o chłopcu imieniem Miguel\, który pragnie zostać muzykiem\, mimo że jego rodzina od pokoleń zabrania grania muzyki. W dniu Święta Zmarłych Miguel przenosi się do niezwykłej Krainy Umarłych\, gdzie odkrywa tajemnice swojej rodziny i uczy się\, jak ważne są pamięć\, miłość i odwaga w dążeniu do marzeń. \n📅 Data: 31.10.2025🕒 Godzina: 18.00📍 Miejsce: Sala OSP w Dopiewie ul. Szkolna 21 \nFilm przeznaczony jest dla dzieci od lat 6 \n🎟️ Wstęp wolny / Ilość miejsc ograniczona / zapisy tel. \n\n882 006 090 (Łukasz)\n600 469 489 (Jan)\n\nKażde dziecko przebrane za postać z filmu Coco otrzyma od nas słodką niespodziankę!
URL:https://www.bibldop.pl/wydarzenie/kino-dla-dzieci-coco/
LOCATION:Sala OSP w Dopiewie\, ul. Szkolna 21\, Dopiewo\, Poland
CATEGORIES:Sala OSP w Dopiewie
ATTACH;FMTTYPE=image/png:https://www.bibldop.pl/wp-content/uploads/2025/09/COCO.png
END:VEVENT
END:VCALENDAR