BEGIN:VCALENDAR
VERSION:2.0
PRODID:-//Gminna Biblioteka Publiczna i Centrum Kultury w Dopiewie - ECPv6.15.20//NONSGML v1.0//EN
CALSCALE:GREGORIAN
METHOD:PUBLISH
X-ORIGINAL-URL:https://www.bibldop.pl
X-WR-CALDESC:Wydarzenia dla Gminna Biblioteka Publiczna i Centrum Kultury w Dopiewie
REFRESH-INTERVAL;VALUE=DURATION:PT1H
X-Robots-Tag:noindex
X-PUBLISHED-TTL:PT1H
BEGIN:VTIMEZONE
TZID:Europe/Warsaw
BEGIN:DAYLIGHT
TZOFFSETFROM:+0100
TZOFFSETTO:+0200
TZNAME:CEST
DTSTART:20240331T010000
END:DAYLIGHT
BEGIN:STANDARD
TZOFFSETFROM:+0200
TZOFFSETTO:+0100
TZNAME:CET
DTSTART:20241027T010000
END:STANDARD
BEGIN:DAYLIGHT
TZOFFSETFROM:+0100
TZOFFSETTO:+0200
TZNAME:CEST
DTSTART:20250330T010000
END:DAYLIGHT
BEGIN:STANDARD
TZOFFSETFROM:+0200
TZOFFSETTO:+0100
TZNAME:CET
DTSTART:20251026T010000
END:STANDARD
BEGIN:DAYLIGHT
TZOFFSETFROM:+0100
TZOFFSETTO:+0200
TZNAME:CEST
DTSTART:20260329T010000
END:DAYLIGHT
BEGIN:STANDARD
TZOFFSETFROM:+0200
TZOFFSETTO:+0100
TZNAME:CET
DTSTART:20261025T010000
END:STANDARD
END:VTIMEZONE
BEGIN:VEVENT
DTSTART;TZID=Europe/Warsaw:20250303T170000
DTEND;TZID=Europe/Warsaw:20250303T183000
DTSTAMP:20260425T141412
CREATED:20241212T094450Z
LAST-MODIFIED:20250207T110835Z
UID:16362-1741021200-1741026600@www.bibldop.pl
SUMMARY:Spotkanie Klubu Seniora Promyk - koncert Lucyny Winkiel "Kobieta Anioł"
DESCRIPTION:
URL:https://www.bibldop.pl/wydarzenie/spotkanie-klubu-seniora-promyk-11/
LOCATION:Sala widowiskowa w Konarzewie\, Poznańska 19\, Konarzewo\, Poland
CATEGORIES:CRK w Konarzewie
ATTACH;FMTTYPE=image/jpeg:https://www.bibldop.pl/wp-content/uploads/2021/07/klub-seniora-scaled.jpg
END:VEVENT
BEGIN:VEVENT
DTSTART;TZID=Europe/Warsaw:20250304T180000
DTEND;TZID=Europe/Warsaw:20250304T190000
DTSTAMP:20260425T141412
CREATED:20250224T143607Z
LAST-MODIFIED:20250224T143607Z
UID:17110-1741111200-1741114800@www.bibldop.pl
SUMMARY:Warsztaty udzielania pierwszej pomocy
DESCRIPTION:Zapraszamy na warsztaty udzielania pierwszej pomocy! \n\n\nGminna Biblioteka Publiczna i Centrum Kultury w Dopiewie zapraszają na kolejną edycję warsztatów z zakresu udzielania pierwszej pomocy\, które odbędą się w Bibliotece w Dopiewie.\n\n\nWspólnie ze strażakami z OSP KSRG Dopiewo przygotowaliśmy dla Was 3 spotkania\, podczas których będziecie mieli okazję poznać najważniejsze zasady udzielania pomocy w sytuacjach kryzysowych.\n\n\n Kiedy?  3 spotkania – 4\,11\,18 marca 2025\, godz. 18:00\n\n\n Gdzie?  Biblioteka w Dopiewie\, ul. Konarzewska 12\n\n\n Dlaczego warto?\n\n\nNauczysz się podstawowych technik udzielania pierwszej pomocy.\nZdobędziesz umiejętności\, które mogą uratować życie\nBędziesz mógł/mogła w bezpieczny sposób reagować w sytuacjach zagrożenia\n\n\n Zapisz się już teraz i bądź przygotowany na każdą sytuację! Wspólnie z profesjonalnymi strażakami przećwiczymy techniki\, które mogą okazać się kluczowe w trudnych momentach.\n\n\nWięcej informacji i zapisy:  539 360 959 WSTĘP WOLNY!\n\n\nDo zobaczenia w bibliotece!
URL:https://www.bibldop.pl/wydarzenie/warsztaty-udzielania-pierwszej-pomocy/
LOCATION:Biblioteka w Dopiewie\, ul. Konarzewska 12\, Dopiewo\, Poland
CATEGORIES:Biblioteka w Dopiewie
ATTACH;FMTTYPE=image/jpeg:https://www.bibldop.pl/wp-content/uploads/2025/02/Pierwsza-pomoc-2025-wpis.jpg
END:VEVENT
BEGIN:VEVENT
DTSTART;TZID=Europe/Warsaw:20250307T180000
DTEND;TZID=Europe/Warsaw:20250307T213000
DTSTAMP:20260425T141412
CREATED:20241218T110317Z
LAST-MODIFIED:20250210T141417Z
UID:16432-1741370400-1741383000@www.bibldop.pl
SUMMARY:Babski Comber z zespołem Happy Jędrowski Show
DESCRIPTION:Zapraszamy z okazji Dnia Kobiet na Babski Comber! Prawie 4 godziny programu artystycznego. \nZabawa dla Pań z biesiadnym zespołem Happy Jędrowski Show ze Śląska. Wspólne śpiewy i konkursy.\nŚląskie Babskie Combry są odpowiednikiem męskiej Karczmy. Ponieważ mężczyźni mieli swoje święto\, kobiety w kontrze organizowały swoje imprezy. Oddzielnie chodzili chłopy na Barbórkę\, a kobiety na Comber. To były bardzo folkowe imprezy\, kobiety aby zaakcentować ten dzień siedziały w śląskich kieckach. Babski Comber organizowany jest poza karnawałem. A wszystko to z powodu Dnia Kobiet. Od kilku lat większość Pań co roku przychodzi na combry w przebraniach\, ponieważ każdy comber ma swój temat. (Temat przewodni:  Lalka Barbie.  Zachęcamy do przebrania się). \nWielu mężów\, partnerów\, chłopaków nie wie\, co się dzieje. Wyobraźnia działa. Panowie wyczekują pod drzwiami i zaglądają\, nie dowierzają i zastanawiają się\, co w tej imprezie jest tak wyjątkowego\, że kobiety chcą przychodzić same i zrobią wszystko\, aby zdobyć bilet! Do tego w domu nie mogą puścić pary bo są przecież zaprzysiężone („Comber Babski Comber\, będziem Ciebie wiernie strzec!”) \nKobiety na combrze są podzielone na dwa tematyczne zespoły\, które przez cały czas trwania imprezy w bardzo subtelny sposób rywalizują ze sobą. Zabawa jest tak prowadzona\, że w efekcie końcowym wygrywają obydwie grupy\, ale nim to nastąpi jest bardzo dużo zabawy\, śmiechu do łez i zdrowej rywalizacji\, podsycanej przez prowadzących. Wiele piosenek wykonywanych przez zespół jest w gwarze śląskiej\, co daje swoisty klimat\, ale nie brakuje utworów biesiadnych ogólnie znanych\, np.: „Szła dzieweczka do laseczka”\, „Góralu czy Ci nie żal”\, „Usta milczą\, dusza śpiewa”\, „W zielonym gaju”… \nBilety w cenie 120 zł do nabycia od 13 stycznia 2025 \n KUP BILET\nW programie:\nczęść artystyczna\, wspólna zabawa\,\ncatering : słodki poczęstunek\, kawa\, herbata\, woda\, zimny bufet (galantyna drobiowa\, pierś drobiowa z owocami\, schab ze śliwką\, rolada wieprzowa ze szpinakiem i serem żółtym) i kolacja na ciepło (zraz wieprzowy z pieczarkami\, ziemniaki puree z koperkiem i surówką)
URL:https://www.bibldop.pl/wydarzenie/babski-comber-z-zespolem-happy-jedrowski-show/
LOCATION:Sala widowiskowa w Konarzewie\, Poznańska 19\, Konarzewo\, Poland
CATEGORIES:CRK w Konarzewie
ATTACH;FMTTYPE=image/jpeg:https://www.bibldop.pl/wp-content/uploads/2024/12/Jedrowski-show.jpg
END:VEVENT
BEGIN:VEVENT
DTSTART;TZID=Europe/Warsaw:20250310T180000
DTEND;TZID=Europe/Warsaw:20250310T190000
DTSTAMP:20260425T141412
CREATED:20250218T131234Z
LAST-MODIFIED:20250326T134534Z
UID:16994-1741629600-1741633200@www.bibldop.pl
SUMMARY:Spotkanie autorskie z Mirosławą Ściupider - Młodkowską
DESCRIPTION:Zapraszamy na spotkanie autorskie z dr Mirosławą Ściupider- Młodkowską pt. „Dobrostan w relacjach”\, które odbędzie się 10 marca\, godz. 18:00\, w Bibliotece w Dopiewie. \nSpotkanie będzie angażującym i otwartym  wykładem dotyczącym szczęśliwych relacji międzyludzkich. Autorka zaprezentuje na nim zarówno  doniesienia badawcze wokół relacji promujących obecnie orientacje narcystyczne i skupione na sobie\, ale przede wszystkim odniesie się do 45 wierszy z tomiku „Emocjonalne splamienia”. \nPodczas spotkania będzie możliwość zapoznania się  całą twórczością naukową Autorki ( 3 książkami )\, jak również nabycie tomiku. \nWSTĘP WOLNY zapisy: 539-360-959
URL:https://www.bibldop.pl/wydarzenie/spotkanie-autorskie-z-miroslawa-sciupider-mlodkowska/
LOCATION:Biblioteka w Dopiewie\, ul. Konarzewska 12\, Dopiewo\, Poland
CATEGORIES:Biblioteka w Dopiewie
ATTACH;FMTTYPE=image/jpeg:https://www.bibldop.pl/wp-content/uploads/2025/02/Miroslawa-Sciupider-Mlodkowska-wpis-1.jpg
END:VEVENT
BEGIN:VEVENT
DTSTART;TZID=Europe/Warsaw:20250311T180000
DTEND;TZID=Europe/Warsaw:20250311T190000
DTSTAMP:20260425T141412
CREATED:20250224T143813Z
LAST-MODIFIED:20250224T143813Z
UID:17114-1741716000-1741719600@www.bibldop.pl
SUMMARY:Warsztaty udzielania pierwszej pomocy
DESCRIPTION:Zapraszamy na warsztaty udzielania pierwszej pomocy! \n\n\nGminna Biblioteka Publiczna i Centrum Kultury w Dopiewie zapraszają na kolejną edycję warsztatów z zakresu udzielania pierwszej pomocy\, które odbędą się w Bibliotece w Dopiewie.\n\n\nWspólnie ze strażakami z OSP KSRG Dopiewo przygotowaliśmy dla Was 3 spotkania\, podczas których będziecie mieli okazję poznać najważniejsze zasady udzielania pomocy w sytuacjach kryzysowych.\n\n\n Kiedy?  3 spotkania – 4\,11\,18 marca 2025\, godz. 18:00\n\n\n Gdzie?  Biblioteka w Dopiewie\, ul. Konarzewska 12\n\n\n Dlaczego warto?\n\n\nNauczysz się podstawowych technik udzielania pierwszej pomocy.\nZdobędziesz umiejętności\, które mogą uratować życie\nBędziesz mógł/mogła w bezpieczny sposób reagować w sytuacjach zagrożenia\n\n\n Zapisz się już teraz i bądź przygotowany na każdą sytuację! Wspólnie z profesjonalnymi strażakami przećwiczymy techniki\, które mogą okazać się kluczowe w trudnych momentach.\n\n\nWięcej informacji i zapisy:  539 360 959 WSTĘP WOLNY!\n\n\nDo zobaczenia w bibliotece!
URL:https://www.bibldop.pl/wydarzenie/warsztaty-udzielania-pierwszej-pomocy-2/
LOCATION:Biblioteka w Dopiewie\, ul. Konarzewska 12\, Dopiewo\, Poland
CATEGORIES:Biblioteka w Dopiewie
ATTACH;FMTTYPE=image/jpeg:https://www.bibldop.pl/wp-content/uploads/2025/02/Pierwsza-pomoc-2025-wpis.jpg
END:VEVENT
BEGIN:VEVENT
DTSTART;TZID=Europe/Warsaw:20250318T180000
DTEND;TZID=Europe/Warsaw:20250318T190000
DTSTAMP:20260425T141412
CREATED:20250224T143902Z
LAST-MODIFIED:20250224T143902Z
UID:17116-1742320800-1742324400@www.bibldop.pl
SUMMARY:Warsztaty udzielania pierwszej pomocy
DESCRIPTION:Zapraszamy na warsztaty udzielania pierwszej pomocy! \n\n\nGminna Biblioteka Publiczna i Centrum Kultury w Dopiewie zapraszają na kolejną edycję warsztatów z zakresu udzielania pierwszej pomocy\, które odbędą się w Bibliotece w Dopiewie.\n\n\nWspólnie ze strażakami z OSP KSRG Dopiewo przygotowaliśmy dla Was 3 spotkania\, podczas których będziecie mieli okazję poznać najważniejsze zasady udzielania pomocy w sytuacjach kryzysowych.\n\n\n Kiedy?  3 spotkania – 4\,11\,18 marca 2025\, godz. 18:00\n\n\n Gdzie?  Biblioteka w Dopiewie\, ul. Konarzewska 12\n\n\n Dlaczego warto?\n\n\nNauczysz się podstawowych technik udzielania pierwszej pomocy.\nZdobędziesz umiejętności\, które mogą uratować życie\nBędziesz mógł/mogła w bezpieczny sposób reagować w sytuacjach zagrożenia\n\n\n Zapisz się już teraz i bądź przygotowany na każdą sytuację! Wspólnie z profesjonalnymi strażakami przećwiczymy techniki\, które mogą okazać się kluczowe w trudnych momentach.\n\n\nWięcej informacji i zapisy:  539 360 959 WSTĘP WOLNY!\n\n\nDo zobaczenia w bibliotece!
URL:https://www.bibldop.pl/wydarzenie/warsztaty-udzielania-pierwszej-pomocy-3/
LOCATION:Biblioteka w Dopiewie\, ul. Konarzewska 12\, Dopiewo\, Poland
CATEGORIES:Biblioteka w Dopiewie
ATTACH;FMTTYPE=image/jpeg:https://www.bibldop.pl/wp-content/uploads/2025/02/Pierwsza-pomoc-2025-wpis.jpg
END:VEVENT
BEGIN:VEVENT
DTSTART;TZID=Europe/Warsaw:20250324T100000
DTEND;TZID=Europe/Warsaw:20250411T150000
DTSTAMP:20260425T141412
CREATED:20250324T070050Z
LAST-MODIFIED:20250321T074211Z
UID:17314-1742810400-1744383600@www.bibldop.pl
SUMMARY:Rodzinne JAJA - zabawa dla rodzin
DESCRIPTION:🎉 Ale jaja! Lubicie robić rodzinne jaja?? \n😃 Jeśli tak\, to super się składa\, a my Wam w tym pomożemy! Zapraszamy 16 rodzin do zabawy w malowanie jajek. Kto pierwszy ten lepszy 🙂 🐣 \nI to nie są byle jakie jajka. To aż 1-metrowe pisanki-olbrzymy! 😱😱 Te wielkie jajka staną się wielkanocną ozdobą naszej Biblioteki i Centrum Kultury w Dopiewie. Jak dołączyć? To proste! 😊 \nZrób to krok po kroku: \n👉 W dniach 24.03-1.04. zgłoś chęć udziału\, dzwoniąc pod numer 600 469 489 \n👉 W dniach 1-10.04.odbierz pisankę-olbrzyma i zabierz ją do domu. \n👉 Rodzinna zabawa – pomalujcie jajko z obu stron dowolną techniką 🎨 \n👉 Zróbcie sobie rodzinną fotę z pomalowanym jajem i wyślijcie ją na ck@bibldop.pl 📸 \n👉 Do dnia 11.04.2025 przynieście pisankę do Centrum Kultury  i odbierzcie niespodziankę dla całej rodziny 🎁 \nCzekamy na Wasze kreatywne pomysły i super zabawę! Do dzieła\, zgłaszajcie się szybko – miejsca są ograniczone! 🎨💥 \nPełen Regulamin i Karta Zgłoszeniowa dostępne TUTAJ\n#RodzinnaZabawa #WielkanocneJajka #MalowanieJajek #Dopiewo #PisankiOlbrzymy #CentrumKultury
URL:https://www.bibldop.pl/wydarzenie/rodzinne-jaja-zabawa-dla-rodzin/
LOCATION:Biblioteka w Dopiewie\, ul. Konarzewska 12\, Dopiewo\, Poland
CATEGORIES:Biblioteka w Dopiewie
ATTACH;FMTTYPE=image/jpeg:https://www.bibldop.pl/wp-content/uploads/2025/03/Rodzinne-Jaja-2025-wpis.jpg
END:VEVENT
BEGIN:VEVENT
DTSTART;TZID=Europe/Warsaw:20250327T180000
DTEND;TZID=Europe/Warsaw:20250327T193000
DTSTAMP:20260425T141412
CREATED:20250205T084622Z
LAST-MODIFIED:20260410T073448Z
UID:16806-1743098400-1743103800@www.bibldop.pl
SUMMARY:Spotkanie autorskie ze Sławomirem Gortychem
DESCRIPTION:Zapraszamy do naszej Filii Bibliotecznej w Skórzewie na spotkanie autorskie ze Sławomirem Gortychem.\n\nSławomir Gortych jest autorem bestsellerowych kryminałów\, których akcja rozgrywa się w Karkonoszach\, i wielkim miłośnikiem tych gór. Od najmłodszych lat zgłębia ich sekrety\, związane z nimi legendy i historie. Poza tym jest stomatologiem z wykształcenia i pasji. W wolnych chwilach prowadzi blog „Zagubiony w Karkonoszach”.\n\nInspirację do swojej twórczości czerpie z wędrówek po górach oraz rozmów z ich mieszkańcami. Jego pierwsza powieść\, “Schronisko”\, które przestało istnieć\, zdobyła tytuł Książki Roku 2022 w kategorii Debiut w największym plebiscycie czytelniczym w Polsce organizowanym przez serwis lubimyczytac.pl. Rok później w tym samym konkursie kontynuacja serii\, Schronisko\, które przetrwało\, została Książką Roku 2023 w kategorii Kryminał\, Sensacja\, Thriller. Trzy tomy Karkonoskiej Serii Kryminalnej doceniono także tytułem Najlepszej Górskiej Książki Roku na Festiwalu Literatury Górskiej w Lądku-Zdroju w latach 2023 i 2024. W uzasadnieniu jury zaznaczyło\, że powieści przełamują tabu dotyczące odkrywania powojennych dziejów Karkonoszy widzianych w perspektywie polsko-niemiecko-czeskiej historii ich mieszkańców. Autor został również uhonorowany Karkonoską Nagrodą Literacką przyznawaną przez polsko-niemieckie jury za wybitne osiągnięcia w dziedzinie literatury\, kultury i sztuki Śląska\, które szczególnie służą duchowi humanizmu i porozumienia.\nZAPISY: BRAK WOLNYCH MIEJSC!!
URL:https://www.bibldop.pl/wydarzenie/spotkanie-autorskie-ze-slawomirem-gortychem/
LOCATION:Filia biblioteczna w Skórzewie\, ul. Kozierowskiego 1\, Skórzewo
ATTACH;FMTTYPE=image/jpeg:https://www.bibldop.pl/wp-content/uploads/2025/02/Slawomir-Gortych-wpis.jpg
END:VEVENT
END:VCALENDAR