BEGIN:VCALENDAR
VERSION:2.0
PRODID:-//Gminna Biblioteka Publiczna i Centrum Kultury w Dopiewie - ECPv6.15.20//NONSGML v1.0//EN
CALSCALE:GREGORIAN
METHOD:PUBLISH
X-WR-CALNAME:Gminna Biblioteka Publiczna i Centrum Kultury w Dopiewie
X-ORIGINAL-URL:https://www.bibldop.pl
X-WR-CALDESC:Wydarzenia dla Gminna Biblioteka Publiczna i Centrum Kultury w Dopiewie
REFRESH-INTERVAL;VALUE=DURATION:PT1H
X-Robots-Tag:noindex
X-PUBLISHED-TTL:PT1H
BEGIN:VTIMEZONE
TZID:Europe/Warsaw
BEGIN:DAYLIGHT
TZOFFSETFROM:+0100
TZOFFSETTO:+0200
TZNAME:CEST
DTSTART:20240331T010000
END:DAYLIGHT
BEGIN:STANDARD
TZOFFSETFROM:+0200
TZOFFSETTO:+0100
TZNAME:CET
DTSTART:20241027T010000
END:STANDARD
BEGIN:DAYLIGHT
TZOFFSETFROM:+0100
TZOFFSETTO:+0200
TZNAME:CEST
DTSTART:20250330T010000
END:DAYLIGHT
BEGIN:STANDARD
TZOFFSETFROM:+0200
TZOFFSETTO:+0100
TZNAME:CET
DTSTART:20251026T010000
END:STANDARD
BEGIN:DAYLIGHT
TZOFFSETFROM:+0100
TZOFFSETTO:+0200
TZNAME:CEST
DTSTART:20260329T010000
END:DAYLIGHT
BEGIN:STANDARD
TZOFFSETFROM:+0200
TZOFFSETTO:+0100
TZNAME:CET
DTSTART:20261025T010000
END:STANDARD
END:VTIMEZONE
BEGIN:VEVENT
DTSTART;TZID=Europe/Warsaw:20250203T170000
DTEND;TZID=Europe/Warsaw:20250203T183000
DTSTAMP:20260425T154051
CREATED:20241212T093953Z
LAST-MODIFIED:20241212T093953Z
UID:16360-1738602000-1738607400@www.bibldop.pl
SUMMARY:Spotkanie Klubu Seniora Promyk
DESCRIPTION:
URL:https://www.bibldop.pl/wydarzenie/spotkanie-klubu-seniora-promyk-10/
LOCATION:Sala widowiskowa w Konarzewie\, Poznańska 19\, Konarzewo\, Poland
CATEGORIES:CRK w Konarzewie
ATTACH;FMTTYPE=image/jpeg:https://www.bibldop.pl/wp-content/uploads/2021/07/klub-seniora-scaled.jpg
END:VEVENT
BEGIN:VEVENT
DTSTART;TZID=Europe/Warsaw:20250210T170000
DTEND;TZID=Europe/Warsaw:20250210T190000
DTSTAMP:20260425T154051
CREATED:20250115T080425Z
LAST-MODIFIED:20250115T123629Z
UID:16694-1739206800-1739214000@www.bibldop.pl
SUMMARY:Balik dla dzieci "Fluo Party"
DESCRIPTION:Zapraszamy dzieci na wyjątkowy Balik w stylu Fluo Party! \nWielka karnawałowa zabawa dla dzieci już czeka! Baw się razem z nami na niezapomnianym baliku w stylu Fluo\, gdzie wszystko będzie świecić i mienić w najróżniejszych kolorach! Czekają na Was fantastyczne animacje\, świetna muzyka\, tańce i mnóstwo radości! \nKiedy: 10 lutego 2025\nGodzina: 17.00-19.00\nWiek: od 3 do 12 lat\nGdzie: sala widowiskowa w Konarzewie ul. Poznańska 19a\nKoszt: 30 zł (płatność tylko za dziecko)\nUbierz się w kolorowe\, świecące lub odblaskowe ubrania i przygotuj na fantastyczną zabawę z GBPiCK\n\nSugerujemy aby zapisane dzieci przychodziły na balik z 1 opiekunem\nZapisy wyłącznie on-line :
URL:https://www.bibldop.pl/wydarzenie/balik-dla-dzieci-fluo-party/
LOCATION:Sala widowiskowa w Konarzewie\, Poznańska 19\, Konarzewo\, Poland
CATEGORIES:CRK w Konarzewie
ATTACH;FMTTYPE=image/png:https://www.bibldop.pl/wp-content/uploads/2025/01/Balik-Party-—-kopia.png
END:VEVENT
BEGIN:VEVENT
DTSTART;TZID=Europe/Warsaw:20250211T170000
DTEND;TZID=Europe/Warsaw:20250211T183000
DTSTAMP:20260425T154051
CREATED:20250124T125024Z
LAST-MODIFIED:20250130T130036Z
UID:16751-1739293200-1739298600@www.bibldop.pl
SUMMARY:Spotkanie autorskie z Alkiem Rogozińskim w Dąbrówce
DESCRIPTION:Autor komedii kryminalnych i powieści obyczajowych. Przez lata związany z mediami. Karierę zaczynał w połowie lat 90. w kultowej już dzisiaj Rozgłośni Harcerskiej\, potem zasiadał za mikrofonem m.in. w Radiu Plus i warszawskim Radiu Kolor. Współpracował z wieloma gazetami. W latach 2007-2020 pracował w wydawnictwie Edipresse\, gdzie piastował funkcję sekretarza redakcji magazynu „Party”. Zadebiutował w marcu 2015 roku kryminałem „Ukochany z piekła rodem”\, zdobywając 1-sze miejsce na liście bestsellerów kryminalnych EMPIK.com. Kolejną 1-szą pozycję zdobył w 2022 roku w kategorii literatura obyczajowa dzięki powieści „Przeklęta szkatułka”. W 2024 roku jego powieść „Bal wszystkich nieświętych” zdobyła 1-szą pozycję na liście bestellerów księgarni Świat Książki. W tym samym roku sukces ten powtórzyła powieść „Zapukaj\, zanim zginiesz”. Dwie jego powieści\, „Jak Cie zabić\, kochanie?” i „Do trzech razy śmierć”\, zostały nominowane w plebiscycie „Książka roku” portalu Lubimy Czytać.Za książkę „Lustereczko\, powiedz przecie” nagrodzony 1-szą nagrodą w plebiscycie „Zbrodnia z przymrużeniem oka”. Ponownie zdobył tę nagrodę rok później za powieść „Zbrodnia w wielkim mieście”\, a dwa lata później za komedię kryminalną „Raz\, dwa\, trzy… giniesz ty!”. \n\n\n\nJesienią 2019 roku jego powieść „Raz\, dwa\, trzy… giniesz ty!” doczekała się inscenizacji na deskach Teatru Druga Strefa. Bilety na kilkanaście pierwszych spektakli wyprzedały się w ciągu kilku godzin. Niestety\, pandemia Covid-19 spowodowała\, że kolejne spektakle zostały odwołane. W 2021 roku jego książka „Miasteczko morderców” została nominowana do Grand Prix Festiwalu Kryminalna Warszawa. Uwielbia spotkania autorskie. W ciągu blisko dziesięciu lat przygody z literaturą odbył ich prawie trzysta\, a jego wieczory literackie najczęściej przybierały formę stand-upu.Ma na swoim koncie także kilkanaście opowiadań\, m.in. w serii kryminalnych antologii „Zabójczy Pocisk”. \n\n\n\nW październiku 2022 roku w czasie gali wręczenia nagród „Złoty Pocisk”\, odbywającej się w ramach 25. Międzynarodowych Targów Książki w Krakowie\, został wyróżniony za swoją twórczość nagrodą specjalną. \n\n\n\n  \nWSTĘP WOLNY\, zapisy tel. 503 481 757 \n\n\n\nLiczba miejsc jest ograniczona. \n\n\n\n 
URL:https://www.bibldop.pl/wydarzenie/spotykanie-autorskie-z-alkiem-rogozinskim-w-dabrowce/
LOCATION:Filia biblioteczna w Dąbrówce\, ul. Malinowa 41\, Dąbrówka
CATEGORIES:Filia w Dąbrówce
ATTACH;FMTTYPE=image/png:https://www.bibldop.pl/wp-content/uploads/2025/01/Rogozinski.png
END:VEVENT
BEGIN:VEVENT
DTSTART;TZID=Europe/Warsaw:20250211T180000
DTEND;TZID=Europe/Warsaw:20250211T193000
DTSTAMP:20260425T154051
CREATED:20250116T113151Z
LAST-MODIFIED:20250117T110902Z
UID:16717-1739296800-1739302200@www.bibldop.pl
SUMMARY:Wiadomość z Grenlandii - spotkanie z podróżnikiem Jędrzejem Józefowiczem
DESCRIPTION:2 marca 2023 roku Jędrzej Józefowicz ze Środy Wielkopolskiej i Piotr Kilian z Istebnej wylecieli z Kopenhagi na Grenlandię. Ich celem było zmierzenie się w wersji zimowej ze szlakiem Arctic Circle Trail. Dla Jędrka i Piotrka była to pierwsza polarna wyprawa\, ale nie pierwsza piesza. Na Grenlandii spędzili miesiąc\, przechodząc w tym czasie szlak w dwie strony. Łącznie ponad 400 kilometrów. Podczas naszego spotkania Jędrzej opowie o tym\, co przeżyli na szlaku\, jak wędrowało się po zamarzniętych jeziorach\, arktycznej tundrze i ośnieżonych wzgórzach. W jaki sposób radzili sobie z gotowaniem\, mrozem i ciągnięciem kilkudziesięciokilogramowych sań oraz czy wędrówka w takich warunkach jest dla każdego. \nPo zakończeniu prelekcji będzie możliwość zakupienia książek Jędrzeja: “Dziennik wędrowca. Czyli jak dotarłem pieszo do Rzymu” oraz najnowszej: „Wiadomość z Grenlandii. Czyli jak przeszliśmy zimą Arctic Circle Trail”. \nO autorze: \nZ wykształcenia dziennikarz i pedagog. Wielkopolanin. Od kilku lat zakochany w Islandii\, na której z przerwami spędził blisko rok. Pisał dla lokalnego tygodnika „Głos Powiatu Średzkiego”\, współpracował z „Gazetą Wyborczą” w Poznaniu i miesięcznikiem „KnC” Wydawnictwa Św. Wojciecha. Z pasji podróżnik i fotograf-amator. Autor prelekcji podróżniczych oraz książek: Dziennik wędrowca. Czyli jak dotarłem pieszo do Rzymu oraz Wiadomość z Grenlandii. Czyli jak przeszliśmy zimą Arctic Circle Trail\, pomysłodawca i organizator Zaniemyskiego Dnia Podróżnika. Jego i Piotrka Kiliana wyprawa na Grenlandię była nominowana do Kolosów w kategorii „Podróż 2023 roku”\, a także zakwalifikowała się na takie festiwale jak Bydgoski Festiwal Podróżnicy czy Festiwal Podróżniczy Śladami Marzeń w Poznaniu. \nSpotkanie odbędzie się 11.02.2025 w bibliotece w Dopiewie o godz. 18.00 \nWSTĘP WOLNY\, zapisy tel. 539 360 959  \nLiczba miejsc jest ograniczona.
URL:https://www.bibldop.pl/wydarzenie/wiadomosc-z-grenlandii-spotkanie-z-podroznikiem-jedrzejem-jozefowiczem/
LOCATION:Biblioteka w Dopiewie\, ul. Konarzewska 12\, Dopiewo\, Poland
CATEGORIES:Biblioteka w Dopiewie
ATTACH;FMTTYPE=image/jpeg:https://www.bibldop.pl/wp-content/uploads/2025/01/Jedrzej-Jozefowicz-Wiadomosc-z-Grenlandii.jpg
END:VEVENT
BEGIN:VEVENT
DTSTART;TZID=Europe/Warsaw:20250216T140000
DTEND;TZID=Europe/Warsaw:20250216T160000
DTSTAMP:20260425T154051
CREATED:20250203T100420Z
LAST-MODIFIED:20250203T100420Z
UID:16783-1739714400-1739721600@www.bibldop.pl
SUMMARY:Wioska Powstańcza
DESCRIPTION:Na placu gminnym w Dopiewie\, w niedzielę 16 lutego 2025 roku odbędzie się wyjątkowe wydarzenie – Wioska Powstańcza. W godzinach 14:00-16:00 mieszkańcy będą mieli niepowtarzalną okazję przenieść się w czasy Powstania Wielkopolskiego i skorzystać z atrakcji edukacyjnych i rekonstrukcyjnych\, które pozwolą lepiej poznać historię naszego regionu. \nWioska Powstańcza to połączenie nauki z dobrą zabawą. W programie m.in. zdobywanie patentu powstańca\, ćwiczenie musztry\, zapoznanie się z funkcjonowaniem szpitala polowego i poczty powstańczej\, szycie opasek powstańczych\, czy strzelanie do celu. Ponadto\, podczas wydarzenia będzie możliwość\, poznania historii powstańczej Gminy Dopiewo oraz uczestniczyć w interaktywnych stanowiskach\, które przybliżą codzienne życie powstańców. Nie zabraknie Powstańczej Kantyny przygotowanej przez Koło Gospodyń Wiejskich „Kobiety z Pasją” z Dopiewo\, które przygotują m.in. placek z kruszonką\, pajdy chleba ze smalcem czy pyry z parownika przygotowanych według tradycyjnych receptur. \nWydarzenie odbędzie się z inicjatywy młodych mieszkańców gminy ze szczepu ZHP Dopiewo i ZSP Dopiewo\, która wsparta została przez Gminę Dopiewo\, Gminną Bibliotekę Publiczną i Centrum Kultury w Dopiewie\, Instytut Pamięci Narodowej Oddział w Poznaniu\, Muzeum Powstańców Wielkopolskich w Lusowie\, czy Towarzystwo Gimnastycznego „Sokół” oraz grupy rekonstrukcyjne. \nźródło: dopiewo.pl
URL:https://www.bibldop.pl/wydarzenie/wioska-powstancza/
LOCATION:Plac Gminny w Dopiewie\, ul. Łąkowa/Wyzwolenia\, Dopiewo\, Poland
ATTACH;FMTTYPE=image/webp:https://www.bibldop.pl/wp-content/uploads/2025/02/wioska-powstancza.webp
END:VEVENT
BEGIN:VEVENT
DTSTART;TZID=Europe/Warsaw:20250217T180000
DTEND;TZID=Europe/Warsaw:20250217T230000
DTSTAMP:20260425T154051
CREATED:20241212T095500Z
LAST-MODIFIED:20250113T121718Z
UID:16364-1739815200-1739833200@www.bibldop.pl
SUMMARY:Bal w stylu Gwiazd Filmowych dla seniorów z Gminy Dopiewo
DESCRIPTION:Drodzy Seniorzy!\nZ radością zapraszamy Was na wyjątkowy Bal Karnawałowy w stylu Gwiazd Filmowych – wieczór pełen blasku\, elegancji i niezapomnianych wspomnień!\nKiedy?\n17 lutego 2025\, godz. 18:00-23.00 (poniedziałek)\nGdzie?\nSala widowiskowa w Konarzewie ul. Poznańska 19a\nDress code:\nCzas zabłysnąć niczym gwiazdy wielkiego ekranu! Wybierzcie stroje inspirowane ulubionymi postaciami filmowymi i poczujcie się jak na czerwonym dywanie! \n Koszt: 50 zł/osoba\nW cenie: muzyka na żywo\, słodki poczęstunek\, gorące napoje\n(Przekąski i zimne napoje we własnym zakresie)\n\n\nZapisy: tel. 600 469 489 lub 882 006 090\n\npłatność przelewem w przeciągu 7 dni od zapisu na konto: 39 9043 1012 2012 0027 6245 0001 tytułem Bal Gwiazd Filmowych + imię i nazwisko uczestnika lub kartą w GBPiCK w Dopiewie ul. Konarzewska 12 (poziom -1)\n \n 
URL:https://www.bibldop.pl/wydarzenie/zabawa-karnawalowa-dla-seniora/
LOCATION:Sala widowiskowa w Konarzewie\, Poznańska 19\, Konarzewo\, Poland
CATEGORIES:CRK w Konarzewie
ATTACH;FMTTYPE=image/jpeg:https://www.bibldop.pl/wp-content/uploads/2024/12/Bal-karnawalowy-OSCARY-wpis.jpg
END:VEVENT
BEGIN:VEVENT
DTSTART;TZID=Europe/Warsaw:20250218T180000
DTEND;TZID=Europe/Warsaw:20250218T193000
DTSTAMP:20260425T154051
CREATED:20250130T131803Z
LAST-MODIFIED:20250203T094817Z
UID:16772-1739901600-1739907000@www.bibldop.pl
SUMMARY:Spotkanie autorskie z Krzysztofem Drozdowskim - Tajemnice II wojny światowej
DESCRIPTION:Zapraszamy na wyjątkowe spotkanie z Krzysztofem Drozdowskim – historykiem wojskowości\, autorem 30 książek i ponad 300 artykułów\, prezesem Fundacji Historycznej im. Mariana Rejewskiego oraz redaktorem naczelnym portalu Historia Naprawdę.\n\nPodczas spotkania zgłębimy największe tajemnice II wojny światowej – niewyjaśnione zagadki\, kulisy operacji wojskowych i mało znane fakty\, które zmieniły bieg historii.\n\nKim jest nasz gość?\nKrzysztof Drozdowski to pasjonat historii\, który od lat bada zarówno politykę wielkich mocarstw XX wieku\, jak i historię wojskowości\, a nawet seryjnych morderców. Jego pisarska droga rozpoczęła się w 2012 roku\, a prawdziwy „rollercoster” nastąpił w 2017 roku – od tego momentu nieustannie tworzy\, bada i dzieli się swoją wiedzą.\n\nDlaczego warto przyjść?\n✔ Usłyszysz o fascynujących tajemnicach II wojny światowej\n✔ Dowiesz się\, jak wygląda praca historyka i autora książek\n✔ Będziesz mieć okazję do rozmowy i zadawania pytań\n\nWSTĘP WOLNY\nZapisy pod nr telefonu: 539 360 959\n\nILOŚĆ MIEJSC OGRANICZONA!
URL:https://www.bibldop.pl/wydarzenie/spotkanie-autorskie-z-krzysztofem-drozdowskim/
LOCATION:Biblioteka w Dopiewie\, ul. Konarzewska 12\, Dopiewo\, Poland
CATEGORIES:Biblioteka w Dopiewie
ATTACH;FMTTYPE=image/png:https://www.bibldop.pl/wp-content/uploads/2025/01/WPIS_bez-napisow.png
END:VEVENT
BEGIN:VEVENT
DTSTART;TZID=Europe/Warsaw:20250227T180000
DTEND;TZID=Europe/Warsaw:20250227T190000
DTSTAMP:20260425T154051
CREATED:20250205T083653Z
LAST-MODIFIED:20250205T083749Z
UID:16801-1740679200-1740682800@www.bibldop.pl
SUMMARY:Spotkanie autorskie z Barbarą Wysoczańską
DESCRIPTION:Zapraszamy do naszej Filii Bibliotecznej w Skórzewie na spotkanie autorskie z Barbarą Wysoczańską.  \nBarbara Wysoczańska pisze książki z gatunku literatury historycznej\, obyczajowej czy romansu. \nUrodziła się w Nowej Soli w 1980 roku\, obecnie mieszkanka Zielonej Góry.\nHistoryczka z pasji i wykształcenia. Miłośniczka dobrej literatury\, muzyki i kina. Wrażliwiec kochający ludzi i życie.\nPodziwia silne i mądre kobiety i to na nich próbuje się wzorować\, równocześnie dając sobie prawo do własnych poglądów.\nJej książki osiągnęły ogromny sukces i sprzedały się w setkach tysięcy egzemplarzy. \nJest autorką takich tytułów jak: “Nigdy się nie poddam” (2024)\, “Obiecaj\, że wrócisz” (2024)\, “Cena wolności” (2023)\, “Świat na nowo” (2022)\, “Rozdzieliła nas wojna” (2022) \nZAPISY: 884 206 308\n 
URL:https://www.bibldop.pl/wydarzenie/spotkanie-autorskie-z-barbara-wysoczanska/
LOCATION:Filia biblioteczna w Skórzewie\, ul. Kozierowskiego 1\, Skórzewo
CATEGORIES:Filia w Skórzewie
ATTACH;FMTTYPE=image/jpeg:https://www.bibldop.pl/wp-content/uploads/2025/02/Barbara-Wysoczanska-wpis.jpg
END:VEVENT
END:VCALENDAR