BEGIN:VCALENDAR
VERSION:2.0
PRODID:-//Gminna Biblioteka Publiczna i Centrum Kultury w Dopiewie - ECPv6.15.20//NONSGML v1.0//EN
CALSCALE:GREGORIAN
METHOD:PUBLISH
X-WR-CALNAME:Gminna Biblioteka Publiczna i Centrum Kultury w Dopiewie
X-ORIGINAL-URL:https://www.bibldop.pl
X-WR-CALDESC:Wydarzenia dla Gminna Biblioteka Publiczna i Centrum Kultury w Dopiewie
REFRESH-INTERVAL;VALUE=DURATION:PT1H
X-Robots-Tag:noindex
X-PUBLISHED-TTL:PT1H
BEGIN:VTIMEZONE
TZID:Europe/Warsaw
BEGIN:DAYLIGHT
TZOFFSETFROM:+0100
TZOFFSETTO:+0200
TZNAME:CEST
DTSTART:20240331T010000
END:DAYLIGHT
BEGIN:STANDARD
TZOFFSETFROM:+0200
TZOFFSETTO:+0100
TZNAME:CET
DTSTART:20241027T010000
END:STANDARD
BEGIN:DAYLIGHT
TZOFFSETFROM:+0100
TZOFFSETTO:+0200
TZNAME:CEST
DTSTART:20250330T010000
END:DAYLIGHT
BEGIN:STANDARD
TZOFFSETFROM:+0200
TZOFFSETTO:+0100
TZNAME:CET
DTSTART:20251026T010000
END:STANDARD
BEGIN:DAYLIGHT
TZOFFSETFROM:+0100
TZOFFSETTO:+0200
TZNAME:CEST
DTSTART:20260329T010000
END:DAYLIGHT
BEGIN:STANDARD
TZOFFSETFROM:+0200
TZOFFSETTO:+0100
TZNAME:CET
DTSTART:20261025T010000
END:STANDARD
END:VTIMEZONE
BEGIN:VEVENT
DTSTART;TZID=Europe/Warsaw:20250113T170000
DTEND;TZID=Europe/Warsaw:20250113T183000
DTSTAMP:20260425T170308
CREATED:20241212T093512Z
LAST-MODIFIED:20250113T102704Z
UID:16358-1736787600-1736793000@www.bibldop.pl
SUMMARY:Spotkanie Klubu Seniora Promyk - Koncert Jakuba Herforda
DESCRIPTION:W ramach spotkania odbędzie się koncert młodego wokalisty Jakuba Herforda.
URL:https://www.bibldop.pl/wydarzenie/spotkanie-klubu-seniora-promyk-3/
LOCATION:Sala widowiskowa w Konarzewie\, Poznańska 19\, Konarzewo\, Poland
CATEGORIES:CRK w Konarzewie
ATTACH;FMTTYPE=image/jpeg:https://www.bibldop.pl/wp-content/uploads/2024/12/jakub-herfort_wokalista-6.jpg
END:VEVENT
BEGIN:VEVENT
DTSTART;TZID=Europe/Warsaw:20250117T180000
DTEND;TZID=Europe/Warsaw:20250117T200000
DTSTAMP:20260425T170308
CREATED:20250110T090731Z
LAST-MODIFIED:20250110T091411Z
UID:16611-1737136800-1737144000@www.bibldop.pl
SUMMARY:Wieczór z \,\,Dopiewskim Rocznikiem Historycznym"
DESCRIPTION:Drugi numer \,\,Dopiewskiego Rocznika Historycznego” to kolejna odsłona książki – napisanej pod redakcją Małgorzaty Rogal-Dropińskiej oraz Piotra Dziembowskiego – przybliżająca historie miejsc i mieszkańców naszej gminy z przed lat. \nZawarte w nim artykuły składają się na 10 oddzielnych rozdziałów\, a w śród nich: historie sięgające XVIII wieku\, miejsca warte odwiedzenia\, informacje z dawnych czasopism… i wiele więcej! \nSerdecznie zapraszamy wszystkich miłośników lokalnej historii na wieczór poświęcony tej wyjątkowej publikacji\, który rozpocznie się w w piątek 17 stycznia 2025 r. o godz. 18:00\, w sali OSP Dopiewo\, ul. Szkolna 21.
URL:https://www.bibldop.pl/wydarzenie/wieczor-z-dopiewskim-rocznikiem-historycznym/
LOCATION:Sala OSP w Dopiewie\, ul. Szkolna 21\, Dopiewo\, Poland
CATEGORIES:Sala OSP w Dopiewie
ATTACH;FMTTYPE=image/png:https://www.bibldop.pl/wp-content/uploads/2025/01/Dopiewski-Rocznik-Historyczny_Wpis_2025.png
END:VEVENT
BEGIN:VEVENT
DTSTART;VALUE=DATE:20250120
DTEND;VALUE=DATE:20250124
DTSTAMP:20260425T170308
CREATED:20250109T154504Z
LAST-MODIFIED:20250109T155848Z
UID:16597-1737331200-1737676799@www.bibldop.pl
SUMMARY:Ferie Zimowe - pierwszy tydzień
DESCRIPTION:Harmonogram zajęć\n\n\n20.01.2025\n\n\n\nGodz. 10:00 – 13:00\nMiejsce: filia biblioteczna w Skórzewie\n\n\nWarsztaty -\,\,W TYM CAŁA SZTUKA” – na których uczestnicy będą tworzyć rzeźby abstrakcyjne w technice utwardzonej tkaniny\, wykorzystując do tego drut\, tkaniny\, farby i utwardzacze. Dodatkowo dzieci będą rozwijać swoją wyobraźnię przestrzenną tworząc proste zabawki z papieru. Wszystko to pod okiem doświadczonej instruktorki.\n\n\nCena: 60 zł/os.\nGrupa max. 15 osób \n\n\n\n21.01.2025\n\n\n\nGodz. 10:00 – 13:00\nMiejsce: filia biblioteczna w Skórzewie\n\n\nKolejne warsztaty z cyklu \,\,W TYM CAŁA SZTUKA” – na uczestników czeka wyzwanie stworzenia własnych obrazów przestrzennych przedstawiających portrety zwierząt – wykorzystując materiały z recyklingu. Tego dnia dzieci będą mogły również wykonać kreatywne zabawki z papieru.\n\n\nCena: 60 zł/os.\nGrupa max. 15 osób \n\n\n\n22.01.2025\n\n\n\nGodz. 10:00 – 11.30\nMiejsce: Biblioteka w Dopiewie (poziom -1)\n\n\nWarsztaty tworzenia bransoletek. Na uczestników czeka cała gama narzędzi i materiałów – nylonowe sznurki\, żyłki oraz akrylowe koraliki w najróżniejszych kolorach kształtach i rozmiarach. Każda osoba będzie mogła wykonać kilka bransoletek i zabrać je ze sobą do domu.\n\n\nCena: 30 zł/os.\nGrupa max. 12 osób \n\n\n\n23.01.2025\n\n\n\nGodz. 10:00 – 11:30\nMiejsce: GOK w Dopiewcu\n\n\nMalowanie na bawełnianych torbach – zdobienie wytrzymałych\, bawełnianych toreb za pomocą specjalnych farb. Tematyką zdobień będą: zimowe pejzaże\, postacie z bajek oraz rośliny i zwierzęta.\n\n\nCena: 30 zł/os.\nGrupa max. 12 osób\n \n\n\nPrzedział wiekowy\nZajęcia przeznaczone są dla dzieci i młodzieży w wieku od 7 – 15 lat.Zapisy na zajęcia pod adresem:\nhttps://www.bibldop.pl/aktualnosci/ferie-zimowe-2025/
URL:https://www.bibldop.pl/wydarzenie/ferie-zimowe-pierwszy-tydzien/
CATEGORIES:Biblioteka w Dopiewie,Filia w Skórzewie,GOK Dopiewiec
ATTACH;FMTTYPE=image/jpeg:https://www.bibldop.pl/wp-content/uploads/2025/01/Ferie-2025-wpis.jpg
END:VEVENT
BEGIN:VEVENT
DTSTART;VALUE=DATE:20250127
DTEND;VALUE=DATE:20250131
DTSTAMP:20260425T170308
CREATED:20250109T152643Z
LAST-MODIFIED:20250109T155816Z
UID:16584-1737936000-1738281599@www.bibldop.pl
SUMMARY:Ferie Zimowe - drugi tydzień
DESCRIPTION:Harmonogram zajęć\n27.01.2025\n\nGodz. 11:00\nMiejsce: GOK Dopiewiec \nSpektakl teatralny dla dzieci pt. \,\,Kraina Lodowcowa” – przedstawienie inspirowane losami bohaterów znanego filmu animowanego. W przyjazny sposób uczy dzieci o wpływie zmian klimatycznych na otaczającą nas przyrodę. Pełne humoru\, interaktywne widowisko dla najmłodszych. \nLiczba miejsc ograniczona!\nBezpłatne wejściówki dostępne do odbioru w Centrum Kultury w Dopiewie od 13.01.2025 \n\n28.01.2025\n\nGodz. 10:00 – 13:00\nMiejsce: Salka przy sali widowiskowej w Konarzewie (ul. Poznańska 19a) \nWarsztaty \,\,W ZIMOWYM LESIE” – tworzenie makiety zimowego lasu\, w którym mieszkają zwierzęta ulepione z gliny. \nCena: 60 zł/os.\nGrupa max. 12 osób \n\n29.01.2025\n\nGodz. 10:00 – 13:00\nMiejsce: Salka przy sali widowiskowej w Konarzewie (ul. Poznańska 19a) \nWarsztaty \,\,WEŁNĄ MALOWANE” – Warsztaty filcowania na sucho i mokro. Uczestnicy stworzą zimowe pejzaże\, które następnie zabiorą ze sobą do domów \nCena: 60 zł/os.\nGrupa max. 12 osób \n\n30.01.2025\n\nGodz. 10:00 – 13:00\nMiejsce: Salka przy sali widowiskowej w Konarzewie (ul. Poznańska 19a)\nWarsztaty \,\,TKAMY ZIMOWE CHMURKI” – tkanie zimowych chmurek z kolorowych włóczek i wełny czesanki\nCena: 60 zł/os.\nGrupa max. 12 osób \n\nPrzedział wiekowy\nZajęcia przeznaczone są dla dzieci i młodzieży w wieku od 7 – 15 lat. \nZapisy na zajęcia pod adresem:\nhttps://www.bibldop.pl/aktualnosci/ferie-zimowe-2025/
URL:https://www.bibldop.pl/wydarzenie/ferie-zimowe-drugi-tydzien/
CATEGORIES:CRK w Konarzewie,GOK Dopiewiec
ATTACH;FMTTYPE=image/jpeg:https://www.bibldop.pl/wp-content/uploads/2025/01/Ferie-2025-wpis.jpg
END:VEVENT
END:VCALENDAR