BEGIN:VCALENDAR
VERSION:2.0
PRODID:-//Gminna Biblioteka Publiczna i Centrum Kultury w Dopiewie - ECPv6.15.20//NONSGML v1.0//EN
CALSCALE:GREGORIAN
METHOD:PUBLISH
X-WR-CALNAME:Gminna Biblioteka Publiczna i Centrum Kultury w Dopiewie
X-ORIGINAL-URL:https://www.bibldop.pl
X-WR-CALDESC:Wydarzenia dla Gminna Biblioteka Publiczna i Centrum Kultury w Dopiewie
REFRESH-INTERVAL;VALUE=DURATION:PT1H
X-Robots-Tag:noindex
X-PUBLISHED-TTL:PT1H
BEGIN:VTIMEZONE
TZID:Europe/Warsaw
BEGIN:DAYLIGHT
TZOFFSETFROM:+0100
TZOFFSETTO:+0200
TZNAME:CEST
DTSTART:20230326T010000
END:DAYLIGHT
BEGIN:STANDARD
TZOFFSETFROM:+0200
TZOFFSETTO:+0100
TZNAME:CET
DTSTART:20231029T010000
END:STANDARD
BEGIN:DAYLIGHT
TZOFFSETFROM:+0100
TZOFFSETTO:+0200
TZNAME:CEST
DTSTART:20240331T010000
END:DAYLIGHT
BEGIN:STANDARD
TZOFFSETFROM:+0200
TZOFFSETTO:+0100
TZNAME:CET
DTSTART:20241027T010000
END:STANDARD
BEGIN:DAYLIGHT
TZOFFSETFROM:+0100
TZOFFSETTO:+0200
TZNAME:CEST
DTSTART:20250330T010000
END:DAYLIGHT
BEGIN:STANDARD
TZOFFSETFROM:+0200
TZOFFSETTO:+0100
TZNAME:CET
DTSTART:20251026T010000
END:STANDARD
END:VTIMEZONE
BEGIN:VEVENT
DTSTART;TZID=Europe/Warsaw:20240813T180000
DTEND;TZID=Europe/Warsaw:20240813T180000
DTSTAMP:20260426T003747
CREATED:20240707T080931Z
LAST-MODIFIED:20240813T120257Z
UID:14347-1723572000-1723572000@www.bibldop.pl
SUMMARY:Spektakl teatralny dla dzieci "Nadchodzi Pipi" UWAGA ZMIANA GODZINY DZISIEJSZEGO SPEKTAKLU W SKÓRZEWIE na godz 18.00 (sytuacja losowa aktorów)
DESCRIPTION:Przygody rudowłosej Pipi\, która zabiera dzieci w podróż do swojego świata. W nim wszystko może się zdarzyć\, a marzenia się spełniają. Spektakl pełen słońca i pozytywnych wibracji. Motto Pipi głosi: „Aby żyć szczęśliwie myśl człowieku pozytywnie”. W każdym wieku i do końca wszyscy jesteśmy dziećmi\, choć po trosze. Nie pozwólmy sobie o tym zapomnieć.\nScenariusz inspirowany tekstem Astrid Lindgren „Pippi wchodzi na pokład” \nSpektakl z elementami języka angielskiego
URL:https://www.bibldop.pl/wydarzenie/spektakl-teatralny-dla-dzieci-nadchodzi-pipi/
LOCATION:Figowy Zakątek\, ul. Figowa\, Skórzewo
CATEGORIES:Pozostałe
ATTACH;FMTTYPE=image/jpeg:https://www.bibldop.pl/wp-content/uploads/2024/07/pippi.jpg
END:VEVENT
BEGIN:VEVENT
DTSTART;TZID=Europe/Warsaw:20240814T170000
DTEND;TZID=Europe/Warsaw:20240814T180000
DTSTAMP:20260426T003747
CREATED:20240707T081329Z
LAST-MODIFIED:20240718T082336Z
UID:14351-1723654800-1723658400@www.bibldop.pl
SUMMARY:Spektakl teatralny dla dzieci "Śmieciaki ratują świat"
DESCRIPTION:Spektakl ekologiczny. Ważny temat dotyczący aktualnej sytuacji naszej planety poruszony w sposób przystępny dla wyobraźni dziecka. Akcja dzieje się w niedalekiej przyszłości\, w której na świecie żyją już tylko tytułowe Śmieciaki. Od nich dzieci dowiadują się jak świat wyglądał kiedyś\, dlaczego wszystko się zepsuło i co zrobić\, żeby no naprawić. \nSpektakl z elementami języka angielskiego
URL:https://www.bibldop.pl/wydarzenie/spektakl-teatralny-dla-dzieci-smieciaki-ratuja-swiat/
LOCATION:Filia biblioteczna w Dąbrówce\, ul. Malinowa 41\, Dąbrówka
CATEGORIES:Filia w Dąbrówce
ATTACH;FMTTYPE=image/jpeg:https://www.bibldop.pl/wp-content/uploads/2024/07/smieciaki.jpg
END:VEVENT
BEGIN:VEVENT
DTSTART;TZID=Europe/Warsaw:20240823T200000
DTEND;TZID=Europe/Warsaw:20240823T213000
DTSTAMP:20260426T003747
CREATED:20240725T135600Z
LAST-MODIFIED:20240725T141122Z
UID:14540-1724443200-1724448600@www.bibldop.pl
SUMMARY:Koncert Konrada Bebiołka
DESCRIPTION:Konrad Bebiołka jest młodym gitarzystą i wokalistą. Na swoim koncie ma trzy Epki i single\, które są nostalgiczne jak i bardzo emocjonalne. Klimatyczny i charakterystyczny wokal w połączeniu z dźwiękami gitary akustycznej\, tworzą nastrojowe\, pełne ciepła kompozycje. Podczas swoich koncertów zapętla dźwięki na looperze. Konrad grał na takich wydarzeniach jak: Spring Break Festival\, Carphatia Rzeszów Festival. Wystąpił również w ramach akcji Sofar Sounds Poznań. Supportował grupę SNOWMAN oraz Piotra Bukartyka. Singiel artysty pod tytułem “Gin i Czeski Film” zakwalifikował się do programu My Name is New wytwórni płytowej\, agencji koncertowej Kayax. \nKiedy: 23.08.2024\nGodzina: 20.00\nGdzie: Zakątek Figowy\, ul. Figowa\, Skórzewo\nWSTĘP WOLNY! \nZAPRASZAMY!\n \nPosłuchajcie kilku utworów: \nI Ciebie też bardzo (Męskie Granie Cover) \n \nJak Chcesz – Utwór autorskie live Sofar Sounds Poznań \n \n  \nGin I czeski film – utwór autorski \n \n  \n\n 
URL:https://www.bibldop.pl/wydarzenie/koncert-konrada-bebiolka/
LOCATION:Figowy Zakątek\, ul. Figowa\, Skórzewo
ATTACH;FMTTYPE=image/jpeg:https://www.bibldop.pl/wp-content/uploads/2024/07/koncert.jpg
END:VEVENT
BEGIN:VEVENT
DTSTART;TZID=Europe/Warsaw:20240825T100000
DTEND;TZID=Europe/Warsaw:20240825T140000
DTSTAMP:20260426T003747
CREATED:20240812T130256Z
LAST-MODIFIED:20240812T130256Z
UID:14622-1724580000-1724594400@www.bibldop.pl
SUMMARY:Rowerowy Rajd Rodzinny - Życie bez Uzależnień
DESCRIPTION:Wydarzenie odbędzie się w ostatnią niedzielę sierpnia (25 sierpnia 2024r.). \nMeta rajdu\, znajdująca się w Dopiewie to miejsce\, gdzie na wszystkich czeka wiele atrakcji\, dzięki wydarzeniu towarzyszącemu czyli CUS o.p.i.e.k.a. \nRajd rozpoczyna się o godzinie 10:00. Formuła wydarzenia to rajd gwieździsty\, oznacza to\, że każdy uczestnik samodzielnie wybiera punkt startu oraz trasę jaką zamierza pokonać między punktami kontrolnymi. Punkty czynne będą do 13:00\, Meta Rajdu czynna będzie do 14:00. \nTrasa Rajdu składa się z 6 punktów informacyjnych\, a każdy dotyczy innego uzależnienia lub problemu społecznego. Punkty kontrolne znajdują się w różnych zakątkach naszej Gminy: \n\nŻYCIE BEZ PRACOHOLIZMU – Skórzewo\, Figowy Zakątek (skrzyżowanie ul. Figowej i Cytrynowej)\nŻYCIE BEZ DEPRESJI I STRESU – Dąbrówka\, Park ul. Parkowa (przy Szkole Podstawowej im. Kazimierza Nowaka)\nŻYCIE BEZ PRZEMOCY – Żarnowiec\, Wiata na terenie placu gminnego\nŻYCIE BEZ ALKOHOLU –  Zborowo\, Owocowa Plaża\nŻYCIE BEZ NARKOTYKÓW – Dopiewiec\, Leśne Stoliki ul. Wierzbowa\nŻYCIE BEZ HAZARDU – Konarzewo\, Doły Konarzewskie – teren rekreacyjny w rejonie ul. Kościelnej i Szkolnej\n\nMeta Rajdu znajdować się będzie na Placu Gminnym w Dopiewie\, u zbiegu ulic Łąkowej i Wyzwolenia. \nPunkty informacyjne czynne będą od 10:00 do 13:00\, Meta Rajdu będzie czynna do 14:00. \nMapa Rajdu dostępna jest do pobrania poniżej\, a w wersji interaktywnej pod adresem: \nhttps://www.google.com/maps/d/edit?mid=1lnvVrkJkIYANH5-GHWFtYMc4ioq2ryc&usp=sharing \nSzczegóły: https://cusdopiewo.pl/rowerowy-rajd-rodzinny-zycie-bez-uzaleznien-4/
URL:https://www.bibldop.pl/wydarzenie/rowerowy-rajd-rodzinny-zycie-bez-uzaleznien-2/
LOCATION:Plac Gminny w Dopiewie\, ul. Łąkowa/Wyzwolenia\, Dopiewo\, Poland
CATEGORIES:Pozostałe
ATTACH;FMTTYPE=image/jpeg:https://www.bibldop.pl/wp-content/uploads/2024/08/Rowerowy-Rajd-Rodzinny-2024-1536x864-1.jpg
END:VEVENT
BEGIN:VEVENT
DTSTART;TZID=Europe/Warsaw:20240830T200000
DTEND;TZID=Europe/Warsaw:20240830T213000
DTSTAMP:20260426T003747
CREATED:20240729T103700Z
LAST-MODIFIED:20240729T103820Z
UID:14575-1725048000-1725053400@www.bibldop.pl
SUMMARY:Koncert Roxany Tutaj
DESCRIPTION:ROXANA TUTAJ – jest wokalistką\, autorką tekstów\, kompozytorką\, trenerką wokalną jak i trenerką oddechu. Ukończyła Studium Piosenkarskie\, im. Czesława Niemena w Poznaniu. Jest laureatką wielu festiwalowych nagród\, w tym prestiżowej nagrody ZAKR Kryształowy Kamerton\, zdobytej podczas Festiwalu Polskiej Piosenki w Luboniu\, na którym sięgnęła również po Grand Prix. Została kilkukrotnie doceniona jako najlepsza wokalistka festiwali. Słuchacze Radio Poznań\, przyznali jej pierwsze miejsce w kategorii solistka roku\, Blues Top Wielkopolski. Zaprezentowała się całej Polsce\, będąc półfinalistką programu Must Be The Music oraz Idol. \nRoxanie na gitarze będzie akompaniować Maciej Skrzypczak \nKiedy: 30.08.2024\nGodzina: 20.00\nGdzie: Strefa Chillout w Dopiewie\, ul. Łąkowa/Konarzewska\nWSTĘP WOLNY! \nZAPRASZAMY!\n \nPosłuchajcie kilku utworów: \n \nRoxana Tutaj – Niecisza \n \nTy druha we mnie masz (Toy Story) – Roxana Tutaj \n \n 
URL:https://www.bibldop.pl/wydarzenie/koncert-roxany-tutaj/
LOCATION:Strefa Chillout przed biblioteką w Dopiewie\, ul. Konarzewska 12\, Dopiewo
ATTACH;FMTTYPE=image/jpeg:https://www.bibldop.pl/wp-content/uploads/2024/06/Lakowe-spotkania-z-kultura-wpis.jpg
END:VEVENT
END:VCALENDAR