BEGIN:VCALENDAR
VERSION:2.0
PRODID:-//Gminna Biblioteka Publiczna i Centrum Kultury w Dopiewie - ECPv6.15.20//NONSGML v1.0//EN
CALSCALE:GREGORIAN
METHOD:PUBLISH
X-ORIGINAL-URL:https://www.bibldop.pl
X-WR-CALDESC:Wydarzenia dla Gminna Biblioteka Publiczna i Centrum Kultury w Dopiewie
REFRESH-INTERVAL;VALUE=DURATION:PT1H
X-Robots-Tag:noindex
X-PUBLISHED-TTL:PT1H
BEGIN:VTIMEZONE
TZID:Europe/Warsaw
BEGIN:DAYLIGHT
TZOFFSETFROM:+0100
TZOFFSETTO:+0200
TZNAME:CEST
DTSTART:20230326T010000
END:DAYLIGHT
BEGIN:STANDARD
TZOFFSETFROM:+0200
TZOFFSETTO:+0100
TZNAME:CET
DTSTART:20231029T010000
END:STANDARD
BEGIN:DAYLIGHT
TZOFFSETFROM:+0100
TZOFFSETTO:+0200
TZNAME:CEST
DTSTART:20240331T010000
END:DAYLIGHT
BEGIN:STANDARD
TZOFFSETFROM:+0200
TZOFFSETTO:+0100
TZNAME:CET
DTSTART:20241027T010000
END:STANDARD
BEGIN:DAYLIGHT
TZOFFSETFROM:+0100
TZOFFSETTO:+0200
TZNAME:CEST
DTSTART:20250330T010000
END:DAYLIGHT
BEGIN:STANDARD
TZOFFSETFROM:+0200
TZOFFSETTO:+0100
TZNAME:CET
DTSTART:20251026T010000
END:STANDARD
END:VTIMEZONE
BEGIN:VEVENT
DTSTART;TZID=Europe/Warsaw:20240601T150000
DTEND;TZID=Europe/Warsaw:20240601T150000
DTSTAMP:20260426T035126
CREATED:20240517T110804Z
LAST-MODIFIED:20240517T110804Z
UID:14098-1717254000-1717254000@www.bibldop.pl
SUMMARY:Dni Gminy Dopiewo
DESCRIPTION:Każdy z nas jest dzieckiem\, które lubi zabawę. Za miesiąc na placu gminnym w Dopiewie będzie można się bawić do woli. Odbędzie się wtedy największe plenerowe wydarzenie w gminie Dopiewo. Gwiazdą wydarzenia\, które zaplanowano na sobotę\, 1 czerwca\, będzie zespół KOMBII (z Grzegorzem Skawińskim i Waldemarem Tkaczykiem)\, przed którym wystąpi grupa ExMAANAM (stworzona przez dwóch współzałożycieli MAANAMU – Pawła Markowskiego i Ryszarda Olesińskiego\, w którym śpiewa Karolina Leszko ze „Złotego Maanamu\,” wybrana do jego składu jeszcze przez Marka Jackowskiego). Oba koncerty przypomną po kilkanaście niezapomnianych hitów polskiej muzyki rozrywkowej. Z pewnością nie zabraknie „Słodkiego\, miłego życia” i „Kocham Cię kochanie moje”\, „Nasze randez-vous” i „Boskie Buenos”\, „Black and White” i „O! Nie rób tyle hałasu”. Będzie głośno i przebojowo. Przed koncertami na scenie będą prezentować się lokalni artyści – nie zabraknie Orkiestry Dętej Gminy Dopiewo\, Mażoretek Gminy Dopiewo i tancerzy Klubu Sportowo-Tanecznego „Activus”. Wcześniej pojawią się atrakcje i animacje dla dzieci. Po koncertach na zabawę zaprosi żeńskie trio The Move\, które na przemian z DJ’em będzie serwować najwspanialszą na świecie muzykę do tańca. \nDzień później 2 czerwca w tym samym miejscu odbędzie się festyn z okazji Dnia Dziecka. Zapraszamy. \n 
URL:https://www.bibldop.pl/wydarzenie/dni-gminy-dopiewo/
LOCATION:Plac Gminny w Dopiewie\, ul. Łąkowa/Wyzwolenia\, Dopiewo\, Poland
CATEGORIES:Pozostałe
ATTACH;FMTTYPE=image/webp:https://www.bibldop.pl/wp-content/uploads/2024/05/Dni-Gminy.webp
END:VEVENT
BEGIN:VEVENT
DTSTART;TZID=Europe/Warsaw:20240602T140000
DTEND;TZID=Europe/Warsaw:20240602T190000
DTSTAMP:20260426T035126
CREATED:20240516T153207Z
LAST-MODIFIED:20240516T153207Z
UID:13984-1717336800-1717354800@www.bibldop.pl
SUMMARY:Dzień Dziecka w Dopiewie
DESCRIPTION:Już niedługo Dzień Dziecka! No i właśnie z tej okazji zapraszamy wszystkie dzieciaki z Gminy Dopiewo w niedzielę\, 2 czerwca od g. 14.00 do 19.00 na Plac Gminny na imprezkę! Będą między innymi dmuchańce\, wioska indiańska i PIANA PARTY. Wszystkich atrakcji nie sposób wymienić. Po prostu tego dnia bądźcie i bawcie się razem z nami! Będzie czadersko!!  ZAPRASZAMY! Wstęp oczywiście WOLNY!
URL:https://www.bibldop.pl/wydarzenie/dzien-dziecka-w-dopiewie/
LOCATION:Plac Gminny w Dopiewie\, ul. Łąkowa/Wyzwolenia\, Dopiewo\, Poland
CATEGORIES:Pozostałe
ATTACH;FMTTYPE=image/jpeg:https://www.bibldop.pl/wp-content/uploads/2024/05/Dzien-dziecka-2024-slider.jpg
END:VEVENT
BEGIN:VEVENT
DTSTART;TZID=Europe/Warsaw:20240604T170000
DTEND;TZID=Europe/Warsaw:20240604T180000
DTSTAMP:20260426T035126
CREATED:20240528T134457Z
LAST-MODIFIED:20240528T134457Z
UID:14122-1717520400-1717524000@www.bibldop.pl
SUMMARY:Występ grupy teatralnej Baj na Fabianowie "Kandydatki na żonę"
DESCRIPTION:
URL:https://www.bibldop.pl/wydarzenie/wystep-grupy-teatralnej-baj-na-fabianowie-kandydatki-na-zone/
CATEGORIES:Pozostałe
ATTACH;FMTTYPE=image/jpeg:https://www.bibldop.pl/wp-content/uploads/2022/02/teatr-BAJ.jpg
END:VEVENT
BEGIN:VEVENT
DTSTART;TZID=Europe/Warsaw:20240617T170000
DTEND;TZID=Europe/Warsaw:20240617T200000
DTSTAMP:20260426T035126
CREATED:20240108T141720Z
LAST-MODIFIED:20240617T093045Z
UID:13023-1718643600-1718654400@www.bibldop.pl
SUMMARY:Spotkanie Klubu Seniora Promyk - wyjazd do Lisówek
DESCRIPTION:Transport na spotkanie\, rozkład jazdy: \n\n\n\nOdjazd\n\nPowrót\n\n\nPrzystanek\nGodz. odjazdu\n\nPrzystanek\nGodz. odjazdu\n\n\nSkórzewo/Kościół\n16:00\n\nLisówki/DPS\n20:05\n\n\nSkórzewo/Osiedle Makowe\n16:02\n\nTrzcielin/Leśne Zacisze\n20:07\n\n\nDąbrówka/Parkowa\n16:06\n\nTrzcielin/Pętla\n20:08\n\n\nDąbrówka/Kasztanowa\n16:08\n\nTrzcielin/Zwierzyniecka\n20:09\n\n\nPalędzie/Nowa\n16:10\n\nKonarzewo/Cmentarz\n20:10\n\n\nPalędzie/Leśna\n16:11\n\nKonarzewo / Kościelna\n20:11\n\n\nDopiewiec/Szkoła\n16:14\n\nKonarzewo / Pętla\n19:30\n\n\nDopiewiec/Przejazd Kolejowy\n16:16\n\nKonarzewo / Kościelna\n20:13\n\n\nDopiewo/Ośrodek Zdrowia\n16:17\n\nKonarzewo/Dopiewska\n20:14\n\n\nDopiewo/Kościół\n16:18\n\nKonarzewo/Sezamkowa\n20:15\n\n\nDopiewo/Dworzec Kolejowy\n16:19\n\nKonarzewo/Perłowa\n20:16\n\n\nDopiewo/Wyzwolenia\n16:21\n\nKonarzewo/Ks. Hartlieba\n20:16\n\n\nKonarzewo/Ks. Hartlieba\n16:21\n\nDopiewo/Wyzwolenia\n20:30\n\n\nKonarzewo/Perłowa\n16:22\n\nDopiewo/Dworzec Kolejowy\n20:18\n\n\nKonarzewo/Sezamkowa\n16:22\n\nDopiewo/Kościół\n20:19\n\n\nKonarzewo/Dopiewska\n16:23\n\nDopiewo/Ośrodek Zdrowia\n20:20\n\n\nKonarzewo / Kościelna\n16:24\n\nDopiewiec/Przejazd Kolejowy\n20:20\n\n\nKonarzewo / Pętla\n16:25\n\nDopiewiec/Szkoła\n20:22\n\n\nKonarzewo / Kościelna\n16:26\n\nPalędzie/Leśna\n21:30\n\n\nKonarzewo/Cmentarz\n16:27\n\nPalędzie/Nowa\n20:26\n\n\nTrzcielin/Zwierzyniecka\n16:28\n\nDąbrówka/Kasztanowa\n20:28\n\n\nTrzcielin/Pętla\n16:29\n\nDąbrówka/Parkowa\n20:30\n\n\nTrzcielin/Leśne Zacisze\n16:30\n\nSkórzewo/Osiedle Makowe\n20:35\n\n\nLisówki/DPS\n16:32\n\nSkórzewo/Kościół\n20:37\n\n\n\n 
URL:https://www.bibldop.pl/wydarzenie/spotkanie-klubu-seniora-promyk-7/
CATEGORIES:Pozostałe
ATTACH;FMTTYPE=image/jpeg:https://www.bibldop.pl/wp-content/uploads/2021/07/klub-seniora-scaled.jpg
END:VEVENT
BEGIN:VEVENT
DTSTART;TZID=Europe/Warsaw:20240617T181500
DTEND;TZID=Europe/Warsaw:20240617T191500
DTSTAMP:20260426T035126
CREATED:20240610T113028Z
LAST-MODIFIED:20240610T113028Z
UID:14139-1718648100-1718651700@www.bibldop.pl
SUMMARY:Czerwcowy Dyskusyjny Klub Książki
DESCRIPTION:Zapraszamy na spotkanie Dyskusyjnego Klubu Książki w poniedziałek 17 czerwca 2024 o godz. 18:15. Będziemy rozmawiać o książkach japońskich autorów Ito Ogawy\, “Kameliowy sklep papierniczy” oraz Nanae Aojamy\, “Idealny czas na smuteczek”.
URL:https://www.bibldop.pl/wydarzenie/czerwcowy-dyskusyjny-klub-ksiazki/
LOCATION:Filia biblioteczna w Skórzewie\, ul. Kozierowskiego 1\, Skórzewo
CATEGORIES:Filia w Skórzewie
ATTACH;FMTTYPE=image/jpeg:https://www.bibldop.pl/wp-content/uploads/2023/12/DKK.jpg
END:VEVENT
BEGIN:VEVENT
DTSTART;TZID=Europe/Warsaw:20240622T100000
DTEND;TZID=Europe/Warsaw:20240622T150000
DTSTAMP:20260426T035126
CREATED:20240614T071801Z
LAST-MODIFIED:20240614T071847Z
UID:14202-1719050400-1719068400@www.bibldop.pl
SUMMARY:Śniadanie na trawie w Dąbrówce
DESCRIPTION:Zapraszamy mieszkańców Dąbrówki na „Śniadanie na trawie” \,będące otwarciem projektu PARK – Pomysł\, Aktywizacja\, Rozwój\, Kooperacja. Zapraszamy 22.06 w godz. 10:00 – 15:00 do zabytkowego parku w Dąbrówce. Wydarzenie zostanie zorganizowane przy współpracy wielu lokalnych liderów\, organizacji pozarządowych i instytucji publicznych\, działających na terenie Gminy Dopiewo. Oprócz warsztatów “zdrowe śniadanie” i porad dietetycznych\, będzie wiele atrakcji od dmuchawców\, plecenia wianków po alpaki\, zawody na pumptracku. Bedzie także nasze stoisko i kiermasz “Książka za złotówkę”.„Śniadanie” dofinansowane jest z Narodowego Instytutu Wolności i jest częścią projektu\, mającego na celu stworzenie kompleksowej Strategii Rozwoju Wsi oraz projektu zagospodarowania zabytkowego parku.
URL:https://www.bibldop.pl/wydarzenie/sniadanie-na-trawie-w-dabrowce/
LOCATION:Park w Dąbrówce\, ul. Parkowa 1\, Dąbrówka
CATEGORIES:Pozostałe
ATTACH;FMTTYPE=image/jpeg:https://www.bibldop.pl/wp-content/uploads/2024/06/sniadanie-na-trawie.jpg
END:VEVENT
BEGIN:VEVENT
DTSTART;TZID=Europe/Warsaw:20240628T170000
DTEND;TZID=Europe/Warsaw:20240628T190000
DTSTAMP:20260426T035126
CREATED:20240614T090548Z
LAST-MODIFIED:20240614T090548Z
UID:14217-1719594000-1719601200@www.bibldop.pl
SUMMARY:Gala Zajęć Edu-Art
DESCRIPTION:Koncertem galowym uczestników zajęć EDU-ART podsumujemy i zakończymy sezon 2023/24. Zapraszamy chętnych do sali widowiskowej w Konarzewie 28.06. o godz. 17.00.
URL:https://www.bibldop.pl/wydarzenie/gala-zajec-edu-art/
LOCATION:Sala widowiskowa w Konarzewie\, Poznańska 19\, Konarzewo\, Poland
CATEGORIES:CRK w Konarzewie
ATTACH;FMTTYPE=image/jpeg:https://www.bibldop.pl/wp-content/uploads/2024/06/gala-uczestnikow-EDU-ART.jpg
END:VEVENT
END:VCALENDAR