BEGIN:VCALENDAR
VERSION:2.0
PRODID:-//Gminna Biblioteka Publiczna i Centrum Kultury w Dopiewie - ECPv6.15.20//NONSGML v1.0//EN
CALSCALE:GREGORIAN
METHOD:PUBLISH
X-ORIGINAL-URL:https://www.bibldop.pl
X-WR-CALDESC:Wydarzenia dla Gminna Biblioteka Publiczna i Centrum Kultury w Dopiewie
REFRESH-INTERVAL;VALUE=DURATION:PT1H
X-Robots-Tag:noindex
X-PUBLISHED-TTL:PT1H
BEGIN:VTIMEZONE
TZID:Europe/Warsaw
BEGIN:DAYLIGHT
TZOFFSETFROM:+0100
TZOFFSETTO:+0200
TZNAME:CEST
DTSTART:20230326T010000
END:DAYLIGHT
BEGIN:STANDARD
TZOFFSETFROM:+0200
TZOFFSETTO:+0100
TZNAME:CET
DTSTART:20231029T010000
END:STANDARD
BEGIN:DAYLIGHT
TZOFFSETFROM:+0100
TZOFFSETTO:+0200
TZNAME:CEST
DTSTART:20240331T010000
END:DAYLIGHT
BEGIN:STANDARD
TZOFFSETFROM:+0200
TZOFFSETTO:+0100
TZNAME:CET
DTSTART:20241027T010000
END:STANDARD
BEGIN:DAYLIGHT
TZOFFSETFROM:+0100
TZOFFSETTO:+0200
TZNAME:CEST
DTSTART:20250330T010000
END:DAYLIGHT
BEGIN:STANDARD
TZOFFSETFROM:+0200
TZOFFSETTO:+0100
TZNAME:CET
DTSTART:20251026T010000
END:STANDARD
END:VTIMEZONE
BEGIN:VEVENT
DTSTART;VALUE=DATE:20240501
DTEND;VALUE=DATE:20240601
DTSTAMP:20260426T052434
CREATED:20240405T073646Z
LAST-MODIFIED:20240423T130345Z
UID:13675-1714521600-1717199999@www.bibldop.pl
SUMMARY:Wystawa "Dziś początek nowej drogi\, którą razem iść będziecie..."
DESCRIPTION:Przed budynkiem GBPiCK  od dnia 1-31 maja można obejrzeć wystawę przygotowaną przez Małgorzatę Rogal-Dropińską we współpracy z mieszkańcami Gminy Dopiewo oraz GBPiCK. Wystawa przedstawia fotografie z uroczystości ślubnych odbywających się na terenie gminy Dopiewo. \n 
URL:https://www.bibldop.pl/wydarzenie/wystawa-dzis-poczatek-nowej-drogi-ktora-razem-isc-bedziecie/
LOCATION:Biblioteka w Dopiewie\, ul. Konarzewska 12\, Dopiewo\, Poland
CATEGORIES:Biblioteka w Dopiewie
ATTACH;FMTTYPE=image/jpeg:https://www.bibldop.pl/wp-content/uploads/2024/04/Dzis-poczatek.jpg
END:VEVENT
BEGIN:VEVENT
DTSTART;VALUE=DATE:20240506
DTEND;VALUE=DATE:20240525
DTSTAMP:20260426T052434
CREATED:20240423T091314Z
LAST-MODIFIED:20240423T124838Z
UID:13832-1714953600-1716595199@www.bibldop.pl
SUMMARY:Wystawa prac uczestników zajęć rysunku i malarstwa "Wystarczy zamknąć oczy"
DESCRIPTION:W filii bibliotecznej w Skórzewie odbędzie się wystawa prac uczestników zajęć rysunku i malarstwa. Temat wystawy w tym roku to: „ Wystarczy zamknąć oczy”. Wystawę rozpocznie wernisaż\, który odbędzie się 6 maja o godz. 18.00\nWystawę można oglądać w terminie 6-24 maja.
URL:https://www.bibldop.pl/wydarzenie/wystawa-uczestnikow-zajec-rysunku-i-malarstwa-wystarczy-zamknac-oczy/
LOCATION:Filia biblioteczna w Skórzewie\, ul. Kozierowskiego 1\, Skórzewo
CATEGORIES:Filia w Skórzewie
ATTACH;FMTTYPE=image/jpeg:https://www.bibldop.pl/wp-content/uploads/2024/04/wystarczy-zamknac-oczy.jpg
END:VEVENT
BEGIN:VEVENT
DTSTART;TZID=Europe/Warsaw:20240506T170000
DTEND;TZID=Europe/Warsaw:20240506T190000
DTSTAMP:20260426T052434
CREATED:20240108T141424Z
LAST-MODIFIED:20240108T141424Z
UID:13021-1715014800-1715022000@www.bibldop.pl
SUMMARY:Spotkanie Klubu Seniora Promyk
DESCRIPTION:
URL:https://www.bibldop.pl/wydarzenie/spotkanie-klubu-seniora-promyk-6/
LOCATION:Sala widowiskowa w Konarzewie\, Poznańska 19\, Konarzewo\, Poland
CATEGORIES:CRK w Konarzewie
ATTACH;FMTTYPE=image/jpeg:https://www.bibldop.pl/wp-content/uploads/2021/07/klub-seniora-scaled.jpg
END:VEVENT
BEGIN:VEVENT
DTSTART;VALUE=DATE:20240508
DTEND;VALUE=DATE:20240516
DTSTAMP:20260426T052434
CREATED:20240423T123246Z
LAST-MODIFIED:20240423T124850Z
UID:13857-1715126400-1715817599@www.bibldop.pl
SUMMARY:"OBLICZA BIBLIOTEKI" - wystawa
DESCRIPTION:Z okazji Ogólnopolskiego Tygodnia Bibliotek\, Filia biblioteczna w Dąbrówce zaprasza na wystawę pt.” OBLICZA BIBLIOTEKI”. \nWystawa zgodnie z hasłem tygodnia „Biblioteka na czasie” zaprezentuje jak zmieniało się oblicze biblioteki na świecie na przestrzeni lat i współcześnie. Serdecznie zapraszamy! WSTĘP WOLNY
URL:https://www.bibldop.pl/wydarzenie/oblicza-biblioteki-wystawa/
LOCATION:Filia biblioteczna w Dąbrówce\, ul. Malinowa 41\, Dąbrówka
CATEGORIES:Filia w Dąbrówce
ATTACH;FMTTYPE=image/jpeg:https://www.bibldop.pl/wp-content/uploads/2024/04/Oblicza-biblioteki.jpg
ORGANIZER;CN="Filia biblioteczna w D%C4%85br%C3%B3wce":MAILTO:dabrowka@bibldop.pl
END:VEVENT
BEGIN:VEVENT
DTSTART;VALUE=DATE:20240508
DTEND;VALUE=DATE:20240516
DTSTAMP:20260426T052434
CREATED:20240423T141545Z
LAST-MODIFIED:20240423T141545Z
UID:13877-1715126400-1715817599@www.bibldop.pl
SUMMARY:Maroko - wystawa
DESCRIPTION:Wystawa zdjęć z podróży do Maroko\, która odbyła się w lutym 2024r. Autorami zdjęć są zawodowi muzycy\, Grzegorz Piotrowski i Jan Sawiński\,  ale amatorzy jeśli chodzi o fotografię. Niemniej warto spojrzeć na zdjęcia\, które zostały uchwycone okiem artysty i dostrzec w nich ducha marokańskiej przestrzeni na refleksję i równowagę. \nPrzy okazji zapraszamy na spotkanie z podróżnikiem Piotrem Kowalczykiem dotyczącym właśnie Maroko\, które odbędzie się 9 maja w bibliotece w Dopiewie. WSTĘP WOLNY \n 
URL:https://www.bibldop.pl/wydarzenie/maroko-wystawa/
LOCATION:Biblioteka w Dopiewie\, ul. Konarzewska 12\, Dopiewo\, Poland
CATEGORIES:Biblioteka w Dopiewie
ATTACH;FMTTYPE=image/jpeg:https://www.bibldop.pl/wp-content/uploads/2024/04/Maroko-wystawa.jpg
END:VEVENT
BEGIN:VEVENT
DTSTART;VALUE=DATE:20240508
DTEND;VALUE=DATE:20240516
DTSTAMP:20260426T052434
CREATED:20240424T073218Z
LAST-MODIFIED:20240424T073218Z
UID:13894-1715126400-1715817599@www.bibldop.pl
SUMMARY:Bądź na czasie\, czytaj książki!
DESCRIPTION:Hej dorośli\, hej dzieciaki! \nZ okazji Tygodnia Bibliotek w dniach 8-15 maja zapraszamy Was\, Czytelników\, do wzięcia udziału w zabawie. “Bądź na czasie\, czytaj książki”. \nJeżeli jeszcze nie jesteś naszym Czytelnikiem\, nic się nie stało\, będziesz mieć okazję\, aby się zapisać! \nWaszym celem jest zebranie 4 pieczątek z 4 naszych bibliotek i wymienienie ich na nagrodę! Turbo proste! \nCo trzeba zrobić? \n1. Musisz posiadać specjalną kartę uczestnika\, którą zdobędziesz w każdej bibliotece lub pobierzesz ją TUTAJ \n2. Następnie musisz odwiedzić  w dowolnej kolejności nasze 4 biblioteki (w Dopiewie\, Konarzewie\, Skórzewie\, Dąbrówce) \n3. Jak już będziesz na miejscu\, wypożycz na swoje konto Czytelnika  książki lub audiobooki i wykonaj drobne zadanie \n4. W zamian otrzymasz pieczęć danej biblioteki. I tak 4 razy! 🙂 \n5. Komplet zebranych pieczątek ZAMIEŃ NA FAJNĄ NAGRODĘ\, którą odbierzesz w dowolnej bibliotece \nCIESZYMY SIĘ\, ŻE JESTEŚCIE Z NAMI! \nBądź na czasie\, czytaj książki!\n \n  \n 
URL:https://www.bibldop.pl/wydarzenie/badz-na-czasie-czytaj-ksiazki/
ATTACH;FMTTYPE=image/jpeg:https://www.bibldop.pl/wp-content/uploads/2024/04/Badz-na-czasie-zajawka.jpg
END:VEVENT
BEGIN:VEVENT
DTSTART;TZID=Europe/Warsaw:20240508T093000
DTEND;TZID=Europe/Warsaw:20240508T103000
DTSTAMP:20260426T052434
CREATED:20240321T123736Z
LAST-MODIFIED:20240321T123935Z
UID:13562-1715160600-1715164200@www.bibldop.pl
SUMMARY:Spotkanie edukacyjne z Michałem Filipiakiem
DESCRIPTION:Michał Filipiak – Trener tenisa\, organizator imprez sportowych dla dzieci\, menedżer sportu\, popularyzator zdrowego\, aktywnego trybu życia wśród najmłodszych. Autor wielu książek i innych publikacji z redaktorem Marchewką skierowanych do dzieci przedszkolnych i wczesnoszkolnych. \nPodczas spotkania dzieci wysłuchają historii z książki – wyruszą do magicznych sportowych krain. Zapoznają się z wybranymi dyscyplinami sportu. Wezmą udział w dyskusji na temat roli sportu i zdrowego trybu życia. \nCzas spotkania 45 min \nSpotkanie adresowane dla grup zorganizowanych. Brak wolnych miejsc
URL:https://www.bibldop.pl/wydarzenie/spotkanie-edukacyjne-z-michalem-filipiakiem-2/
LOCATION:Filia biblioteczna w Konarzewie\, ul. Poznańska 19a\, Konarzewo
CATEGORIES:Filia w Konarzewie
ATTACH;FMTTYPE=image/jpeg:https://www.bibldop.pl/wp-content/uploads/2024/01/marchewka.jpg
END:VEVENT
BEGIN:VEVENT
DTSTART;TZID=Europe/Warsaw:20240508T113000
DTEND;TZID=Europe/Warsaw:20240508T123000
DTSTAMP:20260426T052434
CREATED:20240321T123859Z
LAST-MODIFIED:20240321T123859Z
UID:13566-1715167800-1715171400@www.bibldop.pl
SUMMARY:Spotkanie edukacyjne z Michałem Filipiakiem
DESCRIPTION:Michał Filipiak – Trener tenisa\, organizator imprez sportowych dla dzieci\, menedżer sportu\, popularyzator zdrowego\, aktywnego trybu życia wśród najmłodszych. Autor wielu książek i innych publikacji z redaktorem Marchewką skierowanych do dzieci przedszkolnych i wczesnoszkolnych. \nPodczas spotkania dzieci wysłuchają historii z książki – wyruszą do magicznych sportowych krain. Zapoznają się z wybranymi dyscyplinami sportu. Wezmą udział w dyskusji na temat roli sportu i zdrowego trybu życia. \nCzas spotkania 45 min \nSpotkanie adresowane dla grup zorganizowanych. Brak wolnych miejsc
URL:https://www.bibldop.pl/wydarzenie/spotkanie-edukacyjne-z-michalem-filipiakiem-3/
LOCATION:Filia biblioteczna w Dąbrówce\, ul. Malinowa 41\, Dąbrówka
CATEGORIES:Filia w Dąbrówce
ATTACH;FMTTYPE=image/jpeg:https://www.bibldop.pl/wp-content/uploads/2024/01/marchewka.jpg
END:VEVENT
BEGIN:VEVENT
DTSTART;TZID=Europe/Warsaw:20240509T100000
DTEND;TZID=Europe/Warsaw:20240509T110000
DTSTAMP:20260426T052434
CREATED:20240312T134400Z
LAST-MODIFIED:20240429T073108Z
UID:13453-1715248800-1715252400@www.bibldop.pl
SUMMARY:Spotkanie z podróżnikiem Piotrem Kowalczykiem - "W pustyni i w puszczy"- podróż do miejsc opisanych przez H. Sienkiewicza
DESCRIPTION:Piotr Kowalczyk – Z wykształcenia jest geografem i geologiem. Od zawsze towarzyszyła mu pasja poznawania świata. Jest twórcą kultury\, zajmuje się fotografią. Prowadzi wycieczki i publikuje w magazynach podróżniczych. Organizuje prelekcje dla młodzieży i dorosłych w całej Polsce. Jest założycielem portalu Globtroterzy.net i pomysłodawcą festiwalu „Tydzień Ziemi” w Szczecinie. Spotkania dla młodzieży mają edukacyjny charakter. Dla dorosłych przedstawia tematy reporterskie. \nSpotkanie dla grup zorganizowanych. Brak wolnych miejsc.
URL:https://www.bibldop.pl/wydarzenie/spotkanie-z-podroznikiem-piotrem-kowalczykiem-w-pustyni-i-w-puszczy-podroz-do-miejsc-opisanych-przez-h-sienkiewicza/
LOCATION:Biblioteka w Dopiewie\, ul. Konarzewska 12\, Dopiewo\, Poland
CATEGORIES:Biblioteka w Dopiewie
ATTACH;FMTTYPE=image/jpeg:https://www.bibldop.pl/wp-content/uploads/2024/03/Piotr-Kowalczyk.jpg
END:VEVENT
BEGIN:VEVENT
DTSTART;TZID=Europe/Warsaw:20240509T120000
DTEND;TZID=Europe/Warsaw:20240509T133000
DTSTAMP:20260426T052434
CREATED:20240312T143948Z
LAST-MODIFIED:20240429T073208Z
UID:13456-1715256000-1715261400@www.bibldop.pl
SUMMARY:Spotkanie z podróżnikiem Piotrem Kowalczykiem - Afryka czy nadal dzika?
DESCRIPTION:Piotr Kowalczyk – Z wykształcenia jest geografem i geologiem. Od zawsze towarzyszyła mu pasja poznawania świata. Jest twórcą kultury\, zajmuje się fotografią. Prowadzi wycieczki i publikuje w magazynach podróżniczych. Organizuje prelekcje dla młodzieży i dorosłych w całej Polsce. Jest założycielem portalu Globtroterzy.net i pomysłodawcą festiwalu „Tydzień Ziemi” w Szczecinie. Spotkania dla młodzieży mają edukacyjny charakter. Dla dorosłych przedstawia tematy reporterskie. \nSpotkanie dla grup zorganizowanych. Brak wolnych miejsc.
URL:https://www.bibldop.pl/wydarzenie/spotkanie-z-podroznikiem-piotrem-kowalczykiem/
LOCATION:Filia biblioteczna w Dąbrówce\, ul. Malinowa 41\, Dąbrówka
CATEGORIES:Filia w Dąbrówce
ATTACH;FMTTYPE=image/jpeg:https://www.bibldop.pl/wp-content/uploads/2024/03/Piotr-Kowalczyk.jpg
END:VEVENT
BEGIN:VEVENT
DTSTART;TZID=Europe/Warsaw:20240509T170000
DTEND;TZID=Europe/Warsaw:20240509T180000
DTSTAMP:20260426T052434
CREATED:20240405T065919Z
LAST-MODIFIED:20240422T134241Z
UID:13671-1715274000-1715277600@www.bibldop.pl
SUMMARY:Spektakl teatralny dla dzieci "Szałaputki"
DESCRIPTION:“Szałaputki” to pełen humoru spektakl dla najmłodszych widzów z wartką\, czasami wręcz dramatyczną akcją. Bajka opowiada o przygodach nie do końca rozsądnych kurczaków\, które niepomne przestróg swojej mamy narażają się na niebezpieczeństwa. Zapraszamy z okazji Ogólnopolskiego Tygodnia Bibliotek na przedstawienie na podstawie scenariusza autorstwa Janusza Ryl-Krystianowskiego w wykonaniu TeatRyle.\n \nSpektakl dedykowany dla dzieci od lat 3. \nBrak wejściówek
URL:https://www.bibldop.pl/wydarzenie/spektakl-teatralny-dla-dzieci-szalaputki/
LOCATION:sala GOK w Dopiewcu\, ul. Szkolna 11\, Dopiewiec\, Poland
CATEGORIES:GOK Dopiewiec
ATTACH;FMTTYPE=image/jpeg:https://www.bibldop.pl/wp-content/uploads/2024/04/szalaputki.jpg
END:VEVENT
BEGIN:VEVENT
DTSTART;TZID=Europe/Warsaw:20240509T180000
DTEND;TZID=Europe/Warsaw:20240509T193000
DTSTAMP:20260426T052434
CREATED:20240312T144904Z
LAST-MODIFIED:20240312T144904Z
UID:13475-1715277600-1715283000@www.bibldop.pl
SUMMARY:Spotkanie z podróżnikiem Piotrem Kowalczykiem - MAROKO\, brama do orientu
DESCRIPTION:Piotr Kowalczyk – Z wykształcenia jest geografem i geologiem. Od zawsze towarzyszyła mu pasja poznawania świata. Jest twórcą kultury\, zajmuje się fotografią. Prowadzi wycieczki i publikuje w magazynach podróżniczych. Organizuje prelekcje dla młodzieży i dorosłych w całej Polsce. Jest założycielem portalu Globtroterzy.net i pomysłodawcą festiwalu „Tydzień Ziemi” w Szczecinie. Spotkania dla młodzieży mają edukacyjny charakter. Dla dorosłych przedstawia tematy reporterskie. \nZapisy na spotkanie: tel. 539 360 959 \n 
URL:https://www.bibldop.pl/wydarzenie/spotkanie-z-podroznikiem-piotrem-kowalczykiem-maroko-brama-do-orientu/
LOCATION:Biblioteka w Dopiewie\, ul. Konarzewska 12\, Dopiewo\, Poland
CATEGORIES:Biblioteka w Dopiewie
ATTACH;FMTTYPE=image/jpeg:https://www.bibldop.pl/wp-content/uploads/2024/03/Piotr-Kowalczyk.jpg
END:VEVENT
BEGIN:VEVENT
DTSTART;TZID=Europe/Warsaw:20240510T170000
DTEND;TZID=Europe/Warsaw:20240510T183000
DTSTAMP:20260426T052434
CREATED:20240403T071645Z
LAST-MODIFIED:20240403T071803Z
UID:13655-1715360400-1715365800@www.bibldop.pl
SUMMARY:Koncert dla dzieci "Bajki naszego dzieciństwa"
DESCRIPTION:Babcia Jaga postanowiła wyciągnąć nos z chatki na kurzej łapce\, aby dać dowód że nie taka ona straszna jak ją malują. Jak postanowiła\, tak też zrobiła. Spakowała worek by zaprezentować iluzje wszystkim niedowiarkom zaprzeczającym istnieniu czarów\, zaparkowała miotłę na scenie Teatru Pana O. i wraz z Maszą\, drugą wodzirejką\, przybyła poprowadzić wokalną podróż zakamarkami dzieciństwa. KAŻDEGO DZIECIŃSTWA! Dzieciństwa Twojego\, mojego i Twojej pociechy. Maskotki XXL – pokaz iluzji – taniec Maszy dla wszystkich gości – animacje z nagrodami Jagi – Quizy – piosenki ze znanych bajek. \nZapraszamy na to niecodzienne widowisko\, podczas którego\, każda piosenka łączy się z przybyciem bajkowej postaci\, a nasi goście dziarsko wchodzą w interakcje z widownią. Dodatkowo czeka dzieci lekcja z bajkologii\, tańce\, iluzja i przede wszystkim śmieszne sytuacje stworzone przez niesforną Babcie Jagę. Z dzieciństwa się nie wyrasta\, więc nie rozpamiętuj\, a poddaj się na nowo fantazji. \nSpektakl przeznaczony dla dzieci przedszkolnych i wczesnoszkolnych. \nBilety w cenie 20 zł do nabycia na: https://www.bibldop.pl/bilety/ od 15 kwietnia
URL:https://www.bibldop.pl/wydarzenie/koncert-dla-dzieci-bajki-naszego-dziecinstwa/
LOCATION:Sala widowiskowa w Konarzewie\, Poznańska 19\, Konarzewo\, Poland
CATEGORIES:CRK w Konarzewie
ATTACH;FMTTYPE=image/jpeg:https://www.bibldop.pl/wp-content/uploads/2024/04/Bajki-naszego-dziecinstwa.jpg
END:VEVENT
BEGIN:VEVENT
DTSTART;TZID=Europe/Warsaw:20240511T130000
DTEND;TZID=Europe/Warsaw:20240511T150000
DTSTAMP:20260426T052434
CREATED:20240124T075227Z
LAST-MODIFIED:20240124T075227Z
UID:13169-1715432400-1715439600@www.bibldop.pl
SUMMARY:Spotkanie autorskie z Magdaleną Witkiewicz
DESCRIPTION:Uwielbiana nie tylko przez kobiety autorka wszechstronna\, pisząca dla młodych i starszych czytelników\, już w maju odwiedzi filię biblioteczną w Konarzewie. \nMagdalena Witkiewicz \nPolska pisarka\, autorka kilkunastu powieści mniej i bardziej poważnych dla dzieci oraz dorosłych. Ma na swoim koncie już 67 książek. W 2021 roku Magdalenę Witkiewicz nominowano do bestsellerów Empiku 2021 w kategorii audiobook za powieść “Wizjer”. Utwór został uznany za najlepszy kryminał tegoż roku w plebiscycie Złotego Kościeja. \nTwórczość Magdaleny Witkiewicz jest skierowana tak naprawdę do wszystkich – od najstarszego do najmłodszego czytelnika. Oprócz literatury pięknej\, autorka podjęła się również napisania książek z gatunku m.in. kryminał\, sensacja czy też poradnik. \nOficjalna strona autorki: https://www.magdalenawitkiewicz.pl/ \nSpotkanie odbędzie się w sobotę 11 maja 2024 w filii bibliotecznej w Konarzewie o godz. 13.00 \nWSTĘP WOLNY\, zapisy tel.  694 904 690 \nLiczba miejsc jest ograniczona.
URL:https://www.bibldop.pl/wydarzenie/spotkanie-autorskie-z-magdalena-witkiewicz/
LOCATION:Filia biblioteczna w Konarzewie\, ul. Poznańska 19a\, Konarzewo
CATEGORIES:Filia w Konarzewie
ATTACH;FMTTYPE=image/jpeg:https://www.bibldop.pl/wp-content/uploads/2024/01/Witkiewicz.jpg
END:VEVENT
BEGIN:VEVENT
DTSTART;TZID=Europe/Warsaw:20240513T090000
DTEND;TZID=Europe/Warsaw:20240513T100000
DTSTAMP:20260426T052434
CREATED:20240404T082025Z
LAST-MODIFIED:20240509T140733Z
UID:13664-1715590800-1715594400@www.bibldop.pl
SUMMARY:Wykład o obozie na Przemysłowej
DESCRIPTION:Jolanta Sowińska-Gogacz – kulturoznawca\, publicystka i pedagog\, autorka książki „Mały Oświęcim” i wielu artykułów na temat obozu na Przemysłowej\, pracownik merytoryczny Muzeum Dzieci Polskich – ofiar totalitaryzmu w Łodzi. \n  \nJako pisarka zadebiutowała w roku 1992 książką poetycką “Przednieble” (Wydawnictwo K.K. Baczyńskiego\, UŁ)\, w roku 2010 wydała tomik “Pomieszczenie” (wydawnictwo Kwadratura)\, a od roku 2013 przygotowywała publikację “Mały Oświęcim. Dziecięcy obóz w Łodzi” (Warszawa 2020)\, będącą efektem wieloletniej pracy nad upamiętnianiem dziejów hitlerowskiego obozu dla polskich dzieci przy ulicy Przemysłowej. \nJest autorką artykułów prasowych na temat łódzkiego obozu\, publikowanych m.in. na łamach tygodnika Sieci\, w Przewodniku Katolickim\, miesięczniku WNET oraz portalu wpolityce.pl. \nLaureatka nagrody Znak Dobra (Poznań 2015)\, Plastra Kultury (Książka Roku 2020) oraz wyróżnienia im. Janusza Kurtyki przyznane przez jury Stowarzyszenia Dziennikarzy Polskich za pracę publicystyczną w roku 2020. \nJako osoba\, której udało się dotrzeć do ostatnich żyjących ocalałych i spisać ich relacje\, zapraszana jest często do realizacji medialnych opowiadających historię łódzkiego obozu – filmów dokumentalnych\, reportaży filmowych\, audycji radiowych. Autorka obszernej i unikatowej dokumentacji – pisanej\, fotograficznej i filmowej – związanej z łódzkim obozem\, współautorka wielu inicjatyw medialnych\, filmowych i edukacyjnych upamiętniających jego dzieje i losy byłych więźniów po zakończeniu wojny. \nW ostatniej dekadzie pracowała w Akademii Muzycznej im. G. i K. Bacewiczów (koordynacja wydarzeń artystycznych\, prowadzenie koncertów)\, w łódzkim Teatrze Powszechnym (Dział Promocji)\, po ukończeniu studiów podyplomowych jako nauczyciel\, a obecnie pracuje w dziale edukacji w powstałym trzy lata temu w Łodzi Muzeum Dzieci Polskich – ofiar totalitaryzmu. \n  \nSpotkanie składać się będzie z wykładu i prezentacji multimedialnej na temat dziejów obozu na Przemysłowej\, ze szczególnym uwzględnieniem losów dzieci z Wielkopolskich\, oraz rozmowy z gościem. \nSpotkanie adresowane dla grup zorganizowanych. Brak wolnych miejsc\n\n \n 
URL:https://www.bibldop.pl/wydarzenie/spotkanie-autorskie-z-jolanta-sowinska-gogacz-2/
LOCATION:Filia biblioteczna w Dąbrówce\, ul. Malinowa 41\, Dąbrówka
CATEGORIES:Filia w Dąbrówce
ATTACH;FMTTYPE=image/jpeg:https://www.bibldop.pl/wp-content/uploads/2024/04/Jola-wyklad-Zakopane-scaled.jpg
END:VEVENT
BEGIN:VEVENT
DTSTART;TZID=Europe/Warsaw:20240513T110000
DTEND;TZID=Europe/Warsaw:20240513T120000
DTSTAMP:20260426T052434
CREATED:20240404T082123Z
LAST-MODIFIED:20240509T140716Z
UID:13666-1715598000-1715601600@www.bibldop.pl
SUMMARY:Wykład o obozie na Przemysłowej
DESCRIPTION:Jolanta Sowińska-Gogacz – kulturoznawca\, publicystka i pedagog\, autorka książki „Mały Oświęcim” i wielu artykułów na temat obozu na Przemysłowej\, pracownik merytoryczny Muzeum Dzieci Polskich – ofiar totalitaryzmu w Łodzi. \n  \nJako pisarka zadebiutowała w roku 1992 książką poetycką “Przednieble” (Wydawnictwo K.K. Baczyńskiego\, UŁ)\, w roku 2010 wydała tomik “Pomieszczenie” (wydawnictwo Kwadratura)\, a od roku 2013 przygotowywała publikację “Mały Oświęcim. Dziecięcy obóz w Łodzi” (Warszawa 2020)\, będącą efektem wieloletniej pracy nad upamiętnianiem dziejów hitlerowskiego obozu dla polskich dzieci przy ulicy Przemysłowej. \nJest autorką artykułów prasowych na temat łódzkiego obozu\, publikowanych m.in. na łamach tygodnika Sieci\, w Przewodniku Katolickim\, miesięczniku WNET oraz portalu wpolityce.pl. \nLaureatka nagrody Znak Dobra (Poznań 2015)\, Plastra Kultury (Książka Roku 2020) oraz wyróżnienia im. Janusza Kurtyki przyznane przez jury Stowarzyszenia Dziennikarzy Polskich za pracę publicystyczną w roku 2020. \nJako osoba\, której udało się dotrzeć do ostatnich żyjących ocalałych i spisać ich relacje\, zapraszana jest często do realizacji medialnych opowiadających historię łódzkiego obozu – filmów dokumentalnych\, reportaży filmowych\, audycji radiowych. Autorka obszernej i unikatowej dokumentacji – pisanej\, fotograficznej i filmowej – związanej z łódzkim obozem\, współautorka wielu inicjatyw medialnych\, filmowych i edukacyjnych upamiętniających jego dzieje i losy byłych więźniów po zakończeniu wojny. \nW ostatniej dekadzie pracowała w Akademii Muzycznej im. G. i K. Bacewiczów (koordynacja wydarzeń artystycznych\, prowadzenie koncertów)\, w łódzkim Teatrze Powszechnym (Dział Promocji)\, po ukończeniu studiów podyplomowych jako nauczyciel\, a obecnie pracuje w dziale edukacji w powstałym trzy lata temu w Łodzi Muzeum Dzieci Polskich – ofiar totalitaryzmu. \n  \nSpotkanie składać się będzie z wykładu i prezentacji multimedialnej na temat dziejów obozu na Przemysłowej\, ze szczególnym uwzględnieniem losów dzieci z Wielkopolskich\, oraz rozmowy z gościem. \nSpotkanie adresowane dla grup zorganizowanych. Brak wolnych miejsc
URL:https://www.bibldop.pl/wydarzenie/spotkanie-autorskie-z-jolanta-sowinska-gogacz-3/
LOCATION:Filia biblioteczna w Skórzewie\, ul. Kozierowskiego 1\, Skórzewo
CATEGORIES:Filia w Skórzewie
ATTACH;FMTTYPE=image/jpeg:https://www.bibldop.pl/wp-content/uploads/2024/04/Jola-Dopiewo-03.jpg
END:VEVENT
BEGIN:VEVENT
DTSTART;TZID=Europe/Warsaw:20240513T180000
DTEND;TZID=Europe/Warsaw:20240513T193000
DTSTAMP:20260426T052434
CREATED:20240404T081704Z
LAST-MODIFIED:20240508T092506Z
UID:13661-1715623200-1715628600@www.bibldop.pl
SUMMARY:Spotkanie z Jolantą Sowińską-Gogacz
DESCRIPTION:Jolanta Sowińska-Gogacz – kulturoznawca\, publicystka i pedagog\, autorka książki „Mały Oświęcim” i wielu artykułów na temat obozu na Przemysłowej\, pracownik merytoryczny Muzeum Dzieci Polskich – ofiar totalitaryzmu w Łodzi. \nJako pisarka zadebiutowała w roku 1992 książką poetycką “Przednieble” (Wydawnictwo K.K. Baczyńskiego\, UŁ)\, w roku 2010 wydała tomik “Pomieszczenie” (wydawnictwo Kwadratura)\, a od roku 2013 przygotowywała publikację “Mały Oświęcim. Dziecięcy obóz w Łodzi” (Warszawa 2020)\, będącą efektem wieloletniej pracy nad upamiętnianiem dziejów hitlerowskiego obozu dla polskich dzieci przy ulicy Przemysłowej. \nJest autorką artykułów prasowych na temat łódzkiego obozu\, publikowanych m.in. na łamach tygodnika Sieci\, w Przewodniku Katolickim\, miesięczniku WNET oraz portalu wpolityce.pl. \nLaureatka nagrody Znak Dobra (Poznań 2015)\, Plastra Kultury (Książka Roku 2020) oraz wyróżnienia im. Janusza Kurtyki przyznane przez jury Stowarzyszenia Dziennikarzy Polskich za pracę publicystyczną w roku 2020. \nJako osoba\, której udało się dotrzeć do ostatnich żyjących ocalałych i spisać ich relacje\, zapraszana jest często do realizacji medialnych opowiadających historię łódzkiego obozu – filmów dokumentalnych\, reportaży filmowych\, audycji radiowych. Autorka obszernej i unikatowej dokumentacji – pisanej\, fotograficznej i filmowej – związanej z łódzkim obozem\, współautorka wielu inicjatyw medialnych\, filmowych i edukacyjnych upamiętniających jego dzieje i losy byłych więźniów po zakończeniu wojny. \nW ostatniej dekadzie pracowała w Akademii Muzycznej im. G. i K. Bacewiczów (koordynacja wydarzeń artystycznych\, prowadzenie koncertów)\, w łódzkim Teatrze Powszechnym (Dział Promocji)\, po ukończeniu studiów podyplomowych jako nauczyciel\, a obecnie pracuje w dziale edukacji w powstałym trzy lata temu w Łodzi Muzeum Dzieci Polskich – ofiar totalitaryzmu. \n  \nSpotkanie składać się będzie z wykładu i prezentacji multimedialnej na temat dziejów obozu na Przemysłowej\, ze szczególnym uwzględnieniem losów dzieci z Wielkopolskich\, oraz rozmowy z gościem. \nZe względów organizacyjnych prowadzimy zapisy pod nr tel. 539 360 959 \nWSTĘP WOLNY
URL:https://www.bibldop.pl/wydarzenie/spotkanie-autorskie-z-jolanta-sowinska-gogacz/
LOCATION:Biblioteka w Dopiewie\, ul. Konarzewska 12\, Dopiewo\, Poland
CATEGORIES:Biblioteka w Dopiewie
ATTACH;FMTTYPE=image/jpeg:https://www.bibldop.pl/wp-content/uploads/2024/04/Jola-Sowinska-fot.-Justyna-Tomczak-2.jpg
END:VEVENT
BEGIN:VEVENT
DTSTART;TZID=Europe/Warsaw:20240514T180000
DTEND;TZID=Europe/Warsaw:20240514T193000
DTSTAMP:20260426T052434
CREATED:20240312T150318Z
LAST-MODIFIED:20240312T150448Z
UID:13477-1715709600-1715715000@www.bibldop.pl
SUMMARY:Spotkanie autorskie z Borysem Tynką\, przewodnikiem po Odessie\, honorowym Ambasadorem Odessy w Polsce.
DESCRIPTION:Zapraszamy na kolejne fascynujące spotkanie autorskie z Borysem Tynką\, który tym razem zabierze nas do ukraińskiej Odessy. \nSpotkanie 14 maja 2024 o godz. 18.00 w filii bibliotecznej w Dąbrówce.  \nWSTĘP WOLNY\, zapisy tel. 503 481 757\n \nBorys Tynka – Ogromny pasjonat Ukrainy\, pilot wycieczek\, certyfikowany przewodnik po Odessie i jedyny Polak\, który ukończył specjalistyczny kurs przewodnicki po czarnobylskiej strefie wykluczenia. Należy do Stowarzyszenia Przewodników Ukraińskich. W 2020 r. został wybrany przez Urząd Miasta w Odessie na symboliczne stanowisko honorowego Ambasadora Odessy w Polsce. Kilka ostatnich lat poświęcił na organizację wypoczynku polskich turystów na Ukrainie\, głównie we Lwowie\, Kijowie i ukochanej Odessie. Zajmuje się promocją Ukrainy\, współpracuje z tamtejszymi organizacjami turystycznymi\, pomaga w organizacji turystycznych targów\, wspierając wielokrotnie wystawców z ukraińskich miast. Jego książki zostały wydane przez polskie oraz ukraińskie wydawnictwa. Na Ukrainie książki zostały przetłumaczone również na język ukraiński. \n 
URL:https://www.bibldop.pl/wydarzenie/spotkanie-autorskie-z-borysem-tynka-przewodnikiem-po-odessie/
LOCATION:Filia biblioteczna w Dąbrówce\, ul. Malinowa 41\, Dąbrówka
CATEGORIES:Filia w Dąbrówce
ATTACH;FMTTYPE=image/jpeg:https://www.bibldop.pl/wp-content/uploads/2024/03/Odessa.jpg
END:VEVENT
BEGIN:VEVENT
DTSTART;TZID=Europe/Warsaw:20240521T100000
DTEND;TZID=Europe/Warsaw:20240521T110000
DTSTAMP:20260426T052434
CREATED:20240509T110840Z
LAST-MODIFIED:20240509T110840Z
UID:13958-1716285600-1716289200@www.bibldop.pl
SUMMARY:Koncert zespołu Tango Fogg "Zapomniana piosenka"
DESCRIPTION:Koncert zorganizowany w ramach II Powiatowych Dni Sztuki i Zdrowia dla podopiecznych WTZ Promyk oraz Klubu Seniora.
URL:https://www.bibldop.pl/wydarzenie/koncert-zespolu-tango-fogg-zapomniana-piosenka/
LOCATION:Sala widowiskowa w Konarzewie\, Poznańska 19\, Konarzewo\, Poland
CATEGORIES:CRK w Konarzewie
ATTACH;FMTTYPE=image/jpeg:https://www.bibldop.pl/wp-content/uploads/2024/05/II-Powiatowe-Dni-Sztuki-i-Zdrowia-zbiorczy.jpg
END:VEVENT
BEGIN:VEVENT
DTSTART;TZID=Europe/Warsaw:20240527T181500
DTEND;TZID=Europe/Warsaw:20240527T191500
DTSTAMP:20260426T052434
CREATED:20240416T122347Z
LAST-MODIFIED:20240516T144610Z
UID:13771-1716833700-1716837300@www.bibldop.pl
SUMMARY:Majowy Dyskusyjny Klub Książki
DESCRIPTION:Zapraszamy na spotkanie Dyskusyjnego Klubu Książki w poniedziałek 27 maja 2024 o godz. 18:15.\nBędziemy rozmawiać o twórczości Carlosa Ruiza Zafona.
URL:https://www.bibldop.pl/wydarzenie/kwietniowy-dyskusyjny-klub-ksiazki/
LOCATION:Filia biblioteczna w Skórzewie\, ul. Kozierowskiego 1\, Skórzewo
CATEGORIES:Filia w Skórzewie
ATTACH;FMTTYPE=image/jpeg:https://www.bibldop.pl/wp-content/uploads/2023/12/DKK.jpg
END:VEVENT
END:VCALENDAR