BEGIN:VCALENDAR
VERSION:2.0
PRODID:-//Gminna Biblioteka Publiczna i Centrum Kultury w Dopiewie - ECPv6.15.20//NONSGML v1.0//EN
CALSCALE:GREGORIAN
METHOD:PUBLISH
X-WR-CALNAME:Gminna Biblioteka Publiczna i Centrum Kultury w Dopiewie
X-ORIGINAL-URL:https://www.bibldop.pl
X-WR-CALDESC:Wydarzenia dla Gminna Biblioteka Publiczna i Centrum Kultury w Dopiewie
REFRESH-INTERVAL;VALUE=DURATION:PT1H
X-Robots-Tag:noindex
X-PUBLISHED-TTL:PT1H
BEGIN:VTIMEZONE
TZID:Europe/Warsaw
BEGIN:DAYLIGHT
TZOFFSETFROM:+0100
TZOFFSETTO:+0200
TZNAME:CEST
DTSTART:20250330T010000
END:DAYLIGHT
BEGIN:STANDARD
TZOFFSETFROM:+0200
TZOFFSETTO:+0100
TZNAME:CET
DTSTART:20251026T010000
END:STANDARD
BEGIN:DAYLIGHT
TZOFFSETFROM:+0100
TZOFFSETTO:+0200
TZNAME:CEST
DTSTART:20260329T010000
END:DAYLIGHT
BEGIN:STANDARD
TZOFFSETFROM:+0200
TZOFFSETTO:+0100
TZNAME:CET
DTSTART:20261025T010000
END:STANDARD
BEGIN:DAYLIGHT
TZOFFSETFROM:+0100
TZOFFSETTO:+0200
TZNAME:CEST
DTSTART:20270328T010000
END:DAYLIGHT
BEGIN:STANDARD
TZOFFSETFROM:+0200
TZOFFSETTO:+0100
TZNAME:CET
DTSTART:20271031T010000
END:STANDARD
END:VTIMEZONE
BEGIN:VEVENT
DTSTART;TZID=Europe/Warsaw:20260508T080000
DTEND;TZID=Europe/Warsaw:20260515T200000
DTSTAMP:20260424T222200
CREATED:20260410T140800Z
LAST-MODIFIED:20260421T101456Z
UID:21136-1778227200-1778875200@www.bibldop.pl
SUMMARY:Tydzień Bibliotek - Wszystko w jednym miejscu
DESCRIPTION:Zapoznaj się z całym planem naszych wydarzeń z okazji Tygodnia Bibliotek i sprawdź co przygotowaliśmy. \n\n\n\n  \n\n\n\nDATA/GODZINAMIEJSCEWYDARZENIEDLA KOGO?ODPŁATNOŚĆUCZESTNICTWO8 majagodz. 18.00sala widowiskowa w Konarzewie ul. Poznańska 19aKoncert Zosi KarbowiakDla wszystkich30.00 złKUP BILET08-15 majaFilia bibliotecznaw KonarzewieWystawa obrazów i szkiców oraz masek aktorskich autorstwa Kaliny BartkowiakDla wszystkichbezpłatniewstęp wolny09 maja10.00-11.30Bibliotekaw DopiewieMotyle w kolorach tęczy – rodzinne warsztaty plastyczneDzieci (3-6 lat)bezpłatnietel. 539 360 95911-29 majaFilia bibliotecznaw SkórzewieWystawa prac uczestników zajęć Rysunku i Malarstwa oraz Twórczych WieczorówDla wszystkichbezpłatniewstęp wolny11 majagodz. 18.00Bibliotekaw DopiewieJak budować  relacje z dzieckiem bez krzyku i kar w oparciu o metodę Gordona – spotkanie dla rodzicówDla dorosłychbezpłatnietel. 539 360 95911 majagodz. 18.00sala widowiskowa w Konarzewieul. Poznańska 19aSpotkanie autorskie z Sławomirem GortychemDla wszystkichbezpłatnietel. 503 481 75712 majagodz. 17.00Biblioteka w DopiewieWarsztaty pszczelarskiez Krzysztofem WawrzyniakiemDla dziecibezpłatnietel. 539 360 95912 majagodz. 17.00Filia bibliotecznaw SkórzewieSpotkanie autorskie z Łukaszem WierzbickimDla dzieci i dorosłychbezpłatnietel. 884 206 30812 majagodz. 18.00Filia bibliotecznaw KonarzewieBezglutenowa Oliwka – spotkanie z dietetykiemDla dorosłychbezpłatnietel. 694 904 69013 majagodz. 09.00Biblioteka w DopiewieSpotkanie autorskie z Anetą Kmieć-WawrzyniakGrupy szkolnebezpłatniebrak miejsc13 majagodz. 11.30Filia biblioteczna w DąbrówceSpotkanie autorskie z Anetą Kmieć-WawrzyniakGrupy szkolnebezpłatniebrak miejsc13 majagodz. 18.00Filia bibliotecznaw KonarzewieSpotkanie autorskie z Dianą BrzezińskąDla dorosłychbezpłatnietel. 694 904 69014 majagodz. 09.00Filia bibliotecznaw KonarzewieSpotkanie autorskie z Krzysztofem DrozdowskimGrupy szkolnebezpłatniebrak miejsc14 majagodz. 17.30Filia  bibliotecznaw SkórzewiePan Wojtek na krańcach świata – spotkanie z bibliotekarzemDla dziecibezpłatnietel. 884 206 30814 majagodz. 18.00Filia bibliotecznaw KonarzewieOlimpijczyk w bibliotece „Z Pekinu na ring”Dla dzieci i dorosłychbezpłatnietel. 694 904 69015 maja godz. 08.30Biblioteka w DopiewieSpotkanie autorskie z Jolantą ReischGrupy szkolnebezpłatniebrak miejsc15 maja godz. 09.45Filia biblioteczna w KonarzewieSpotkanie autorskie z Jolantą ReischGrupy szkolnebezpłatniebrak miejsc15 maja godz.11.00Filia  bibliotecznaw SkórzewieSpotkanie autorskie z Jolantą ReischGrupy szkolnebezpłatniebrak miejsc15 majagodz. 18.00Sala widowiskowaw KonarzewieSpektakl teatralny “Muzyczne ZOO” – Teatr KatarynkaDla dzieci i dorosłych20.00 złKUP BILET\n\n\n\n\n\n\n\n 
URL:https://www.bibldop.pl/wydarzenie/tydzien-bibliotek-wszystko-w-jednym-miejscu/
ATTACH;FMTTYPE=image/jpeg:https://www.bibldop.pl/wp-content/uploads/2026/03/Tydzien-bibliotek-2026-wpis.jpg
END:VEVENT
BEGIN:VEVENT
DTSTART;TZID=Europe/Warsaw:20260511T100000
DTEND;TZID=Europe/Warsaw:20260529T150000
DTSTAMP:20260424T222200
CREATED:20260306T110051Z
LAST-MODIFIED:20260306T122211Z
UID:20880-1778493600-1780066800@www.bibldop.pl
SUMMARY:Wystawa prac uczestników zajęć Rysunku i Malarstwa oraz Twórczych Wieczorów pod kierunkiem Anny Perek Sobierajskiej
DESCRIPTION:W filii bibliotecznej w Skórzewie odbędzie się wystawa prac uczestników zajęć Rysunku i Malarstwa dla dzieci oraz Twórczych Wieczorów dla dorosłych\, które odbywają się co tydzień w ramach zajęć Edu Art.\nWystawę można oglądać w terminie 11-29 maja w filii bibliotecznej w Skórzewie w godzinach otwarcia biblioteki.\nWernisaż wystawy odbędzie się dnia 11 maja o godz. 17.00.
URL:https://www.bibldop.pl/wydarzenie/wystawa-prac-uczestnikow-zajec-rysunku-i-malarstwa-oraz-tworczych-wieczorow-pod-kierunkiem-anny-perek-sobierajskiej/
LOCATION:Filia biblioteczna w Skórzewie\, ul. Kozierowskiego 1\, Skórzewo
CATEGORIES:Filia w Skórzewie
ATTACH;FMTTYPE=image/jpeg:https://www.bibldop.pl/wp-content/uploads/2025/04/wernisaz.jpg
END:VEVENT
BEGIN:VEVENT
DTSTART;TZID=Europe/Warsaw:20260514T090000
DTEND;TZID=Europe/Warsaw:20260514T100000
DTSTAMP:20260424T222200
CREATED:20260324T155833Z
LAST-MODIFIED:20260324T160131Z
UID:21061-1778749200-1778752800@www.bibldop.pl
SUMMARY:Spotkanie autorskie z Krzysztofem Drozdowskim - Tajemnice II wojny światowej
DESCRIPTION:Zapraszamy na wyjątkowe spotkanie z Krzysztofem Drozdowskim – historykiem wojskowości\, autorem 30 książek i ponad 300 artykułów\, prezesem Fundacji Historycznej im. Mariana Rejewskiego oraz redaktorem naczelnym portalu Historia Naprawdę.\n\nPodczas spotkania zgłębimy największe tajemnice II wojny światowej – niewyjaśnione zagadki\, kulisy operacji wojskowych i mało znane fakty\, które zmieniły bieg historii.\n\nKim jest nasz gość?\nKrzysztof Drozdowski to pasjonat historii\, który od lat bada zarówno politykę wielkich mocarstw XX wieku\, jak i historię wojskowości\, a nawet seryjnych morderców. Jego pisarska droga rozpoczęła się w 2012 roku\, a prawdziwy „rollercoster” nastąpił w 2017 roku – od tego momentu nieustannie tworzy\, bada i dzieli się swoją wiedzą.\n\nDlaczego warto przyjść?\n✔ Usłyszysz o fascynujących tajemnicach II wojny światowej\n✔ Dowiesz się\, jak wygląda praca historyka i autora książek\n✔ Będziesz mieć okazję do rozmowy i zadawania pytań\n\nSpotkanie adresowane dla grup zorganizowanych (brak wolnych miejsc)
URL:https://www.bibldop.pl/wydarzenie/spotkanie-autorskie-z-krzysztofem-drozdowskim-tajemnice-ii-wojny-swiatowej/
LOCATION:Filia biblioteczna w Konarzewie\, ul. Poznańska 19a\, Konarzewo
CATEGORIES:Filia w Konarzewie
ATTACH;FMTTYPE=image/png:https://www.bibldop.pl/wp-content/uploads/2025/01/WPIS_bez-napisow.png
END:VEVENT
BEGIN:VEVENT
DTSTART;TZID=Europe/Warsaw:20260514T173000
DTEND;TZID=Europe/Warsaw:20260514T183000
DTSTAMP:20260424T222200
CREATED:20250909T100226Z
LAST-MODIFIED:20260306T111223Z
UID:19349-1778779800-1778783400@www.bibldop.pl
SUMMARY:Pan Wojtek na krańcach świata - spotkania z baśniami różnych narodów
DESCRIPTION:Zapraszamy najmłodszych na spotkanie “Pan Wojtek na krańcach świata” – czyli spotkanie z bibliotekarzem. Podczas tego spotkania Pan Wojtek opowie historie które na pewno zaciekawią i rozbawią dzieci.To wydarzenie jest idealne dla najmłodszych\, którzy lubią słuchać bajek i poznawać świat w ciekawy sposób. \nWstęp wolny. Ilość miejsc ograniczona.\nZapisy tel. 884 206 308
URL:https://www.bibldop.pl/wydarzenie/pan-wojtek-na-krancach-swiata-spotkania-z-basniami-roznych-narodow/
LOCATION:Filia biblioteczna w Skórzewie\, ul. Kozierowskiego 1\, Skórzewo
CATEGORIES:Filia w Skórzewie
ATTACH;FMTTYPE=image/jpeg:https://www.bibldop.pl/wp-content/uploads/2025/04/czytanie-scaled.jpg
END:VEVENT
BEGIN:VEVENT
DTSTART;TZID=Europe/Warsaw:20260514T180000
DTEND;TZID=Europe/Warsaw:20260514T190000
DTSTAMP:20260424T222200
CREATED:20260330T143129Z
LAST-MODIFIED:20260407T111716Z
UID:21113-1778781600-1778785200@www.bibldop.pl
SUMMARY:Olimpijczyk w bibliotece - Z Pekinu na ring
DESCRIPTION:Zapraszamy do filii bibliotecznej w Konarzewie na spotkanie ze znanymi sportowcami Marcinem Zabłockim i Jakubem Wawrzyniakiem. Będzie możliwość zrobienia zdjęcia\, otrzymania autografu jak i wysłuchania historii życia sportowców. Poznamy podstawy samoobrony\, tajniki relacji uczeń-nauczyciel. \nMarcin Zabłocki – Absolwent AWF Poznań\, Trener Mistrzów Polski i Świata. Posiadacz czarnego pasa 3 dan w Taekwondo Olimpijskim.\nWażniejsze osiągnięcia: Reprezentant kadry Olimpijskiej Pekin 2008\, wielokrotny Mistrz Polski Seniorów\, zdobywca V miejsca Mistrzostw Europy 200Jakub Wawrzyniak \nJakub Wawrzyniak – Boks\, K1\, Muay Thai\nWażniejsze osiągnięcia: Medalista Mistrzostw Polski Muay Thai\, medalista wielu turniejów i gal w K1\, Muay Thai i MMA\, medalista Mistrzostw Polski Bjj gi & no gi \nWstęp wolny/ Ilość miejsc ograniczona.\nZapisy: tel. 694 904 690
URL:https://www.bibldop.pl/wydarzenie/olimpijczyk-w-bibliotece-od-pekinu-do-ringu/
LOCATION:Filia biblioteczna w Konarzewie\, ul. Poznańska 19a\, Konarzewo
CATEGORIES:Filia w Konarzewie
ATTACH;FMTTYPE=image/png:https://www.bibldop.pl/wp-content/uploads/2026/03/karate-scaled.png
END:VEVENT
BEGIN:VEVENT
DTSTART;TZID=Europe/Warsaw:20260514T170000
DTEND;TZID=Europe/Warsaw:20260514T183000
DTSTAMP:20260424T222200
CREATED:20260416T113850Z
LAST-MODIFIED:20260421T144755Z
UID:21402-1778778000-1778783400@www.bibldop.pl
SUMMARY:Warsztaty „Magia filcu”
DESCRIPTION:Zapraszamy na warsztaty zorganizowane we współpracy z Kołem Gospodyń Wiejskich z Trzcielina podczas których uczestnicy samodzielnie udekorują saszetki/kosmetyczki metodą filcowania na sucho. Warsztaty są odpowiednie zarówno dla początkujących\, jak i osób\, które miały już styczność z rękodziełem. Będzie to także okazja\, by przygotować wyjątkowy\, ręcznie wykonany prezent z okazji zbliżającego się Dnia Mamy \n\n\n\nDla kogo? Dzieci od 9 lat i dorośli \n\n\n\nKiedy: 14 maja\, godzina: 17:00\, \n\n\n\nObowiązują zapisy tel.539 360 959 Ilość miejsc ograniczona
URL:https://www.bibldop.pl/wydarzenie/warsztaty-magia-filcu/
LOCATION:Biblioteka w Dopiewie\, ul. Konarzewska 12\, Dopiewo\, Poland
ATTACH;FMTTYPE=image/png:https://www.bibldop.pl/wp-content/uploads/2026/04/magia-filcu.png
END:VEVENT
END:VCALENDAR