BEGIN:VCALENDAR
VERSION:2.0
PRODID:-//Gminna Biblioteka Publiczna i Centrum Kultury w Dopiewie - ECPv6.15.20//NONSGML v1.0//EN
CALSCALE:GREGORIAN
METHOD:PUBLISH
X-ORIGINAL-URL:https://www.bibldop.pl
X-WR-CALDESC:Wydarzenia dla Gminna Biblioteka Publiczna i Centrum Kultury w Dopiewie
REFRESH-INTERVAL;VALUE=DURATION:PT1H
X-Robots-Tag:noindex
X-PUBLISHED-TTL:PT1H
BEGIN:VTIMEZONE
TZID:Europe/Warsaw
BEGIN:DAYLIGHT
TZOFFSETFROM:+0100
TZOFFSETTO:+0200
TZNAME:CEST
DTSTART:20250330T010000
END:DAYLIGHT
BEGIN:STANDARD
TZOFFSETFROM:+0200
TZOFFSETTO:+0100
TZNAME:CET
DTSTART:20251026T010000
END:STANDARD
BEGIN:DAYLIGHT
TZOFFSETFROM:+0100
TZOFFSETTO:+0200
TZNAME:CEST
DTSTART:20260329T010000
END:DAYLIGHT
BEGIN:STANDARD
TZOFFSETFROM:+0200
TZOFFSETTO:+0100
TZNAME:CET
DTSTART:20261025T010000
END:STANDARD
BEGIN:DAYLIGHT
TZOFFSETFROM:+0100
TZOFFSETTO:+0200
TZNAME:CEST
DTSTART:20270328T010000
END:DAYLIGHT
BEGIN:STANDARD
TZOFFSETFROM:+0200
TZOFFSETTO:+0100
TZNAME:CET
DTSTART:20271031T010000
END:STANDARD
END:VTIMEZONE
BEGIN:VEVENT
DTSTART;TZID=Europe/Warsaw:20260508T080000
DTEND;TZID=Europe/Warsaw:20260515T200000
DTSTAMP:20260424T222402
CREATED:20260410T140800Z
LAST-MODIFIED:20260421T101456Z
UID:21136-1778227200-1778875200@www.bibldop.pl
SUMMARY:Tydzień Bibliotek - Wszystko w jednym miejscu
DESCRIPTION:Zapoznaj się z całym planem naszych wydarzeń z okazji Tygodnia Bibliotek i sprawdź co przygotowaliśmy. \n\n\n\n  \n\n\n\nDATA/GODZINAMIEJSCEWYDARZENIEDLA KOGO?ODPŁATNOŚĆUCZESTNICTWO8 majagodz. 18.00sala widowiskowa w Konarzewie ul. Poznańska 19aKoncert Zosi KarbowiakDla wszystkich30.00 złKUP BILET08-15 majaFilia bibliotecznaw KonarzewieWystawa obrazów i szkiców oraz masek aktorskich autorstwa Kaliny BartkowiakDla wszystkichbezpłatniewstęp wolny09 maja10.00-11.30Bibliotekaw DopiewieMotyle w kolorach tęczy – rodzinne warsztaty plastyczneDzieci (3-6 lat)bezpłatnietel. 539 360 95911-29 majaFilia bibliotecznaw SkórzewieWystawa prac uczestników zajęć Rysunku i Malarstwa oraz Twórczych WieczorówDla wszystkichbezpłatniewstęp wolny11 majagodz. 18.00Bibliotekaw DopiewieJak budować  relacje z dzieckiem bez krzyku i kar w oparciu o metodę Gordona – spotkanie dla rodzicówDla dorosłychbezpłatnietel. 539 360 95911 majagodz. 18.00sala widowiskowa w Konarzewieul. Poznańska 19aSpotkanie autorskie z Sławomirem GortychemDla wszystkichbezpłatnietel. 503 481 75712 majagodz. 17.00Biblioteka w DopiewieWarsztaty pszczelarskiez Krzysztofem WawrzyniakiemDla dziecibezpłatnietel. 539 360 95912 majagodz. 17.00Filia bibliotecznaw SkórzewieSpotkanie autorskie z Łukaszem WierzbickimDla dzieci i dorosłychbezpłatnietel. 884 206 30812 majagodz. 18.00Filia bibliotecznaw KonarzewieBezglutenowa Oliwka – spotkanie z dietetykiemDla dorosłychbezpłatnietel. 694 904 69013 majagodz. 09.00Biblioteka w DopiewieSpotkanie autorskie z Anetą Kmieć-WawrzyniakGrupy szkolnebezpłatniebrak miejsc13 majagodz. 11.30Filia biblioteczna w DąbrówceSpotkanie autorskie z Anetą Kmieć-WawrzyniakGrupy szkolnebezpłatniebrak miejsc13 majagodz. 18.00Filia bibliotecznaw KonarzewieSpotkanie autorskie z Dianą BrzezińskąDla dorosłychbezpłatnietel. 694 904 69014 majagodz. 09.00Filia bibliotecznaw KonarzewieSpotkanie autorskie z Krzysztofem DrozdowskimGrupy szkolnebezpłatniebrak miejsc14 majagodz. 17.30Filia  bibliotecznaw SkórzewiePan Wojtek na krańcach świata – spotkanie z bibliotekarzemDla dziecibezpłatnietel. 884 206 30814 majagodz. 18.00Filia bibliotecznaw KonarzewieOlimpijczyk w bibliotece „Z Pekinu na ring”Dla dzieci i dorosłychbezpłatnietel. 694 904 69015 maja godz. 08.30Biblioteka w DopiewieSpotkanie autorskie z Jolantą ReischGrupy szkolnebezpłatniebrak miejsc15 maja godz. 09.45Filia biblioteczna w KonarzewieSpotkanie autorskie z Jolantą ReischGrupy szkolnebezpłatniebrak miejsc15 maja godz.11.00Filia  bibliotecznaw SkórzewieSpotkanie autorskie z Jolantą ReischGrupy szkolnebezpłatniebrak miejsc15 majagodz. 18.00Sala widowiskowaw KonarzewieSpektakl teatralny “Muzyczne ZOO” – Teatr KatarynkaDla dzieci i dorosłych20.00 złKUP BILET\n\n\n\n\n\n\n\n 
URL:https://www.bibldop.pl/wydarzenie/tydzien-bibliotek-wszystko-w-jednym-miejscu/
ATTACH;FMTTYPE=image/jpeg:https://www.bibldop.pl/wp-content/uploads/2026/03/Tydzien-bibliotek-2026-wpis.jpg
END:VEVENT
BEGIN:VEVENT
DTSTART;TZID=Europe/Warsaw:20260511T100000
DTEND;TZID=Europe/Warsaw:20260529T150000
DTSTAMP:20260424T222402
CREATED:20260306T110051Z
LAST-MODIFIED:20260306T122211Z
UID:20880-1778493600-1780066800@www.bibldop.pl
SUMMARY:Wystawa prac uczestników zajęć Rysunku i Malarstwa oraz Twórczych Wieczorów pod kierunkiem Anny Perek Sobierajskiej
DESCRIPTION:W filii bibliotecznej w Skórzewie odbędzie się wystawa prac uczestników zajęć Rysunku i Malarstwa dla dzieci oraz Twórczych Wieczorów dla dorosłych\, które odbywają się co tydzień w ramach zajęć Edu Art.\nWystawę można oglądać w terminie 11-29 maja w filii bibliotecznej w Skórzewie w godzinach otwarcia biblioteki.\nWernisaż wystawy odbędzie się dnia 11 maja o godz. 17.00.
URL:https://www.bibldop.pl/wydarzenie/wystawa-prac-uczestnikow-zajec-rysunku-i-malarstwa-oraz-tworczych-wieczorow-pod-kierunkiem-anny-perek-sobierajskiej/
LOCATION:Filia biblioteczna w Skórzewie\, ul. Kozierowskiego 1\, Skórzewo
CATEGORIES:Filia w Skórzewie
ATTACH;FMTTYPE=image/jpeg:https://www.bibldop.pl/wp-content/uploads/2025/04/wernisaz.jpg
END:VEVENT
BEGIN:VEVENT
DTSTART;TZID=Europe/Warsaw:20260513T090000
DTEND;TZID=Europe/Warsaw:20260513T100000
DTSTAMP:20260424T222402
CREATED:20260331T151638Z
LAST-MODIFIED:20260331T151638Z
UID:21155-1778662800-1778666400@www.bibldop.pl
SUMMARY:Spotkanie autorskie z Anetą Kmieć-Wawrzyniak
DESCRIPTION:Aneta Kmieć-Wawrzyniak to autorka\, której twórczość przenosi młodych czytelników w świat przygód\, emocji i wartości edukacyjnych. Jej książki\, takie jak cykl o Rawawiku\, oferują nie tylko rozrywkę\, ale także ważne lekcje o przyjaźni\, akceptacji i odkrywaniu świata. W każdym tytule pojawia się wyjątkowa mieszanka fabuły\, która wciąga dzieci\, jednocześnie dostarczając im ważnych informacji o otaczającym ich świecie i budowaniu relacji z innymi.\nW centrum opowieści Anety Kmieć-Wawrzyniak znajduje się postać Rawawika\, którego przygody zachwycają nie tylko najmłodszych\, ale i ich rodziców. Różnorodność tematów poruszanych w książkach sprawia\, że każde dziecko może znaleźć coś dla siebie. Od fantastycznych podróży\, które rozwijają wyobraźnię\, po historie o codziennych\, ale nie mniej ważnych sytuacjach\, które pomagają w zrozumieniu emocji i interpersonalnych relacji. \nSpotkanie adresowane dla grup zorganizowanych (brak wolnych miejsc)
URL:https://www.bibldop.pl/wydarzenie/spotkanie-autorskie-z-aneta-kmiec-wawrzyniak-2/
LOCATION:Biblioteka w Dopiewie\, ul. Konarzewska 12\, Dopiewo\, Poland
CATEGORIES:Biblioteka w Dopiewie
ATTACH;FMTTYPE=image/jpeg:https://www.bibldop.pl/wp-content/uploads/2026/03/Rawawik.jpg
END:VEVENT
BEGIN:VEVENT
DTSTART;TZID=Europe/Warsaw:20260513T113000
DTEND;TZID=Europe/Warsaw:20260513T123000
DTSTAMP:20260424T222402
CREATED:20260331T151442Z
LAST-MODIFIED:20260331T151442Z
UID:21149-1778671800-1778675400@www.bibldop.pl
SUMMARY:Spotkanie autorskie z Anetą Kmieć-Wawrzyniak
DESCRIPTION:Aneta Kmieć-Wawrzyniak to autorka\, której twórczość przenosi młodych czytelników w świat przygód\, emocji i wartości edukacyjnych. Jej książki\, takie jak cykl o Rawawiku\, oferują nie tylko rozrywkę\, ale także ważne lekcje o przyjaźni\, akceptacji i odkrywaniu świata. W każdym tytule pojawia się wyjątkowa mieszanka fabuły\, która wciąga dzieci\, jednocześnie dostarczając im ważnych informacji o otaczającym ich świecie i budowaniu relacji z innymi.\nW centrum opowieści Anety Kmieć-Wawrzyniak znajduje się postać Rawawika\, którego przygody zachwycają nie tylko najmłodszych\, ale i ich rodziców. Różnorodność tematów poruszanych w książkach sprawia\, że każde dziecko może znaleźć coś dla siebie. Od fantastycznych podróży\, które rozwijają wyobraźnię\, po historie o codziennych\, ale nie mniej ważnych sytuacjach\, które pomagają w zrozumieniu emocji i interpersonalnych relacji. \nSpotkanie adresowane dla grup zorganizowanych (brak wolnych miejsc)
URL:https://www.bibldop.pl/wydarzenie/spotkanie-autorskie-z-aneta-kmiec-wawrzyniak/
LOCATION:Filia biblioteczna w Dąbrówce\, ul. Malinowa 41\, Dąbrówka
CATEGORIES:Filia w Dąbrówce
ATTACH;FMTTYPE=image/jpeg:https://www.bibldop.pl/wp-content/uploads/2026/03/Rawawik.jpg
END:VEVENT
BEGIN:VEVENT
DTSTART;TZID=Europe/Warsaw:20260513T180000
DTEND;TZID=Europe/Warsaw:20260513T190000
DTSTAMP:20260424T222402
CREATED:20260305T120830Z
LAST-MODIFIED:20260414T144104Z
UID:20830-1778695200-1778698800@www.bibldop.pl
SUMMARY:Spotkanie autorskie z Dianą Brzezińską
DESCRIPTION:Zapraszamy do udziału w spotkaniu autorskim z Dianą Brzezińską \nPisarka\, prawniczka\, mediatorka\, asystentka w Katedrze Studiów nad Bezpieczeństwem INoPiB Uniwersytetu Szczecińskiego. Autorka bestsellerowej serii o profilerce Adriannie Czarneckiej i komisarzu Krystianie Wilku. Miłośniczka wszelkich zagadnień kryminalistycznych i dobrej literatury. Od lat biega po sądach\, budynkach prokuratur\, komisariatach i zakładach karnych\, zgłębiając niezliczone śledztwa i badając popełnione w Polsce zabójstwa. Nieraz widziała rzeczy dla wielu niedostępne. To\, co odkrywa za aktami spraw\, inspiruje ją do tworzenia powieści kryminalnych. \nWstęp wolny. Ilość miejsc ograniczona! \nZapisy tel. 694 904 690
URL:https://www.bibldop.pl/wydarzenie/spotkanie-autorskie-z-diana-brzezinska/
LOCATION:Filia biblioteczna w Konarzewie\, ul. Poznańska 19a\, Konarzewo
CATEGORIES:Filia w Konarzewie
ATTACH;FMTTYPE=image/jpeg:https://www.bibldop.pl/wp-content/uploads/2026/03/Diana-Brzezinska-wpis.jpg
END:VEVENT
END:VCALENDAR