BEGIN:VCALENDAR
VERSION:2.0
PRODID:-//Gminna Biblioteka Publiczna i Centrum Kultury w Dopiewie - ECPv6.15.20//NONSGML v1.0//EN
CALSCALE:GREGORIAN
METHOD:PUBLISH
X-WR-CALNAME:Gminna Biblioteka Publiczna i Centrum Kultury w Dopiewie
X-ORIGINAL-URL:https://www.bibldop.pl
X-WR-CALDESC:Wydarzenia dla Gminna Biblioteka Publiczna i Centrum Kultury w Dopiewie
REFRESH-INTERVAL;VALUE=DURATION:PT1H
X-Robots-Tag:noindex
X-PUBLISHED-TTL:PT1H
BEGIN:VTIMEZONE
TZID:Europe/Warsaw
BEGIN:DAYLIGHT
TZOFFSETFROM:+0100
TZOFFSETTO:+0200
TZNAME:CEST
DTSTART:20250330T010000
END:DAYLIGHT
BEGIN:STANDARD
TZOFFSETFROM:+0200
TZOFFSETTO:+0100
TZNAME:CET
DTSTART:20251026T010000
END:STANDARD
BEGIN:DAYLIGHT
TZOFFSETFROM:+0100
TZOFFSETTO:+0200
TZNAME:CEST
DTSTART:20260329T010000
END:DAYLIGHT
BEGIN:STANDARD
TZOFFSETFROM:+0200
TZOFFSETTO:+0100
TZNAME:CET
DTSTART:20261025T010000
END:STANDARD
BEGIN:DAYLIGHT
TZOFFSETFROM:+0100
TZOFFSETTO:+0200
TZNAME:CEST
DTSTART:20270328T010000
END:DAYLIGHT
BEGIN:STANDARD
TZOFFSETFROM:+0200
TZOFFSETTO:+0100
TZNAME:CET
DTSTART:20271031T010000
END:STANDARD
END:VTIMEZONE
BEGIN:VEVENT
DTSTART;TZID=Europe/Warsaw:20260508T080000
DTEND;TZID=Europe/Warsaw:20260515T200000
DTSTAMP:20260424T222227
CREATED:20260410T140800Z
LAST-MODIFIED:20260421T101456Z
UID:21136-1778227200-1778875200@www.bibldop.pl
SUMMARY:Tydzień Bibliotek - Wszystko w jednym miejscu
DESCRIPTION:Zapoznaj się z całym planem naszych wydarzeń z okazji Tygodnia Bibliotek i sprawdź co przygotowaliśmy. \n\n\n\n  \n\n\n\nDATA/GODZINAMIEJSCEWYDARZENIEDLA KOGO?ODPŁATNOŚĆUCZESTNICTWO8 majagodz. 18.00sala widowiskowa w Konarzewie ul. Poznańska 19aKoncert Zosi KarbowiakDla wszystkich30.00 złKUP BILET08-15 majaFilia bibliotecznaw KonarzewieWystawa obrazów i szkiców oraz masek aktorskich autorstwa Kaliny BartkowiakDla wszystkichbezpłatniewstęp wolny09 maja10.00-11.30Bibliotekaw DopiewieMotyle w kolorach tęczy – rodzinne warsztaty plastyczneDzieci (3-6 lat)bezpłatnietel. 539 360 95911-29 majaFilia bibliotecznaw SkórzewieWystawa prac uczestników zajęć Rysunku i Malarstwa oraz Twórczych WieczorówDla wszystkichbezpłatniewstęp wolny11 majagodz. 18.00Bibliotekaw DopiewieJak budować  relacje z dzieckiem bez krzyku i kar w oparciu o metodę Gordona – spotkanie dla rodzicówDla dorosłychbezpłatnietel. 539 360 95911 majagodz. 18.00sala widowiskowa w Konarzewieul. Poznańska 19aSpotkanie autorskie z Sławomirem GortychemDla wszystkichbezpłatnietel. 503 481 75712 majagodz. 17.00Biblioteka w DopiewieWarsztaty pszczelarskiez Krzysztofem WawrzyniakiemDla dziecibezpłatnietel. 539 360 95912 majagodz. 17.00Filia bibliotecznaw SkórzewieSpotkanie autorskie z Łukaszem WierzbickimDla dzieci i dorosłychbezpłatnietel. 884 206 30812 majagodz. 18.00Filia bibliotecznaw KonarzewieBezglutenowa Oliwka – spotkanie z dietetykiemDla dorosłychbezpłatnietel. 694 904 69013 majagodz. 09.00Biblioteka w DopiewieSpotkanie autorskie z Anetą Kmieć-WawrzyniakGrupy szkolnebezpłatniebrak miejsc13 majagodz. 11.30Filia biblioteczna w DąbrówceSpotkanie autorskie z Anetą Kmieć-WawrzyniakGrupy szkolnebezpłatniebrak miejsc13 majagodz. 18.00Filia bibliotecznaw KonarzewieSpotkanie autorskie z Dianą BrzezińskąDla dorosłychbezpłatnietel. 694 904 69014 majagodz. 09.00Filia bibliotecznaw KonarzewieSpotkanie autorskie z Krzysztofem DrozdowskimGrupy szkolnebezpłatniebrak miejsc14 majagodz. 17.30Filia  bibliotecznaw SkórzewiePan Wojtek na krańcach świata – spotkanie z bibliotekarzemDla dziecibezpłatnietel. 884 206 30814 majagodz. 18.00Filia bibliotecznaw KonarzewieOlimpijczyk w bibliotece „Z Pekinu na ring”Dla dzieci i dorosłychbezpłatnietel. 694 904 69015 maja godz. 08.30Biblioteka w DopiewieSpotkanie autorskie z Jolantą ReischGrupy szkolnebezpłatniebrak miejsc15 maja godz. 09.45Filia biblioteczna w KonarzewieSpotkanie autorskie z Jolantą ReischGrupy szkolnebezpłatniebrak miejsc15 maja godz.11.00Filia  bibliotecznaw SkórzewieSpotkanie autorskie z Jolantą ReischGrupy szkolnebezpłatniebrak miejsc15 majagodz. 18.00Sala widowiskowaw KonarzewieSpektakl teatralny “Muzyczne ZOO” – Teatr KatarynkaDla dzieci i dorosłych20.00 złKUP BILET\n\n\n\n\n\n\n\n 
URL:https://www.bibldop.pl/wydarzenie/tydzien-bibliotek-wszystko-w-jednym-miejscu/
ATTACH;FMTTYPE=image/jpeg:https://www.bibldop.pl/wp-content/uploads/2026/03/Tydzien-bibliotek-2026-wpis.jpg
END:VEVENT
BEGIN:VEVENT
DTSTART;TZID=Europe/Warsaw:20260511T100000
DTEND;TZID=Europe/Warsaw:20260529T150000
DTSTAMP:20260424T222227
CREATED:20260306T110051Z
LAST-MODIFIED:20260306T122211Z
UID:20880-1778493600-1780066800@www.bibldop.pl
SUMMARY:Wystawa prac uczestników zajęć Rysunku i Malarstwa oraz Twórczych Wieczorów pod kierunkiem Anny Perek Sobierajskiej
DESCRIPTION:W filii bibliotecznej w Skórzewie odbędzie się wystawa prac uczestników zajęć Rysunku i Malarstwa dla dzieci oraz Twórczych Wieczorów dla dorosłych\, które odbywają się co tydzień w ramach zajęć Edu Art.\nWystawę można oglądać w terminie 11-29 maja w filii bibliotecznej w Skórzewie w godzinach otwarcia biblioteki.\nWernisaż wystawy odbędzie się dnia 11 maja o godz. 17.00.
URL:https://www.bibldop.pl/wydarzenie/wystawa-prac-uczestnikow-zajec-rysunku-i-malarstwa-oraz-tworczych-wieczorow-pod-kierunkiem-anny-perek-sobierajskiej/
LOCATION:Filia biblioteczna w Skórzewie\, ul. Kozierowskiego 1\, Skórzewo
CATEGORIES:Filia w Skórzewie
ATTACH;FMTTYPE=image/jpeg:https://www.bibldop.pl/wp-content/uploads/2025/04/wernisaz.jpg
END:VEVENT
BEGIN:VEVENT
DTSTART;TZID=Europe/Warsaw:20260512T170000
DTEND;TZID=Europe/Warsaw:20260512T180000
DTSTAMP:20260424T222227
CREATED:20260331T150246Z
LAST-MODIFIED:20260410T074029Z
UID:21142-1778605200-1778608800@www.bibldop.pl
SUMMARY:Warsztaty pszczelarskie z Krzysztofem Wawrzyniakiem
DESCRIPTION:Zapraszamy na zajęcia pszczelarskie dla dzieci! \nChcesz zobaczyć\, jak wygląda życie w ulu? Dowiedzieć się\, dlaczego pszczoły są tak ważne dla świata i jak powstaje miód? Podczas naszych zajęć dzieci poznają tajniki pracy pszczelarza\, zobaczą prawdziwy sprzęt pszczelarski i odkryją fascynujący świat pszczół! \nUdział: dziecko + jeden opiekun \nGwarantujemy ciekawą atmosferę\, sporą dawkę wiedzy i mnóstwo pszczelich ciekawostek! \nZapisy tel. 539 360 959/ ilość miejsc ograniczona
URL:https://www.bibldop.pl/wydarzenie/warsztaty-pszczelarskie-z-krzysztofem-wawrzyniakiem/
LOCATION:Biblioteka w Dopiewie\, ul. Konarzewska 12\, Dopiewo\, Poland
CATEGORIES:Biblioteka w Dopiewie
ATTACH;FMTTYPE=image/png:https://www.bibldop.pl/wp-content/uploads/2026/03/warsztaty-pszczelarskie.png
END:VEVENT
BEGIN:VEVENT
DTSTART;TZID=Europe/Warsaw:20260512T170000
DTEND;TZID=Europe/Warsaw:20260512T183000
DTSTAMP:20260424T222227
CREATED:20260306T103348Z
LAST-MODIFIED:20260306T103458Z
UID:20877-1778605200-1778610600@www.bibldop.pl
SUMMARY:Spotkanie autorskie z Łukaszem Wierzbickim
DESCRIPTION:Zapraszamy na spotkanie autorskie z Łukaszem Wierzbickim \nAutor książek dla dzieci\, redaktor i podróżnik. Swoją pierwszą powieść przygodową Łukasz Wierzbicki wydał w 2008 roku. Książka nosiła tytuł “Afryka Kazika” i przedstawiała przygody Kazimierza Nowaka oraz jego podróż do Afryki. Rok później pojawiła się książka “Dziadek i niedźwiadek”. Na uwagę zasługuje również książka zatytułowana “Drzewo”\, w której ten autor podjął się próby przedstawienia mitologii słowiańskiej w formie\, która jest przystępna dla współczesnego czytelnika. Jego książki są rekomendowane przez Radę Literacką Fundacji ABCXXI – Cała Polska czyta dzieciom. Laureat wyróżnienia Jury Dziecięcego w konkursie Małego Donga polskiej sekcji IBBY za „Dziadka i niedźwiadka”\, nominowany do Nagrody Literackiej im. Kornela Makuszyńskiego za „Afrykę Kazika”. Współzałożyciel Fundacji im. Kazimierza Nowaka.\nŁukasz Wierzbicki nie tylko opowiada historie – on sprawia\, że stają się one żywe. Jego twórczość jest doskonałym przykładem\, jak literatura dziecięca potrafi łączyć pokolenia\, a także jak ważne jest wprowadzenie młodych czytelników w świat książek. Wierzbicki ma talent do przedstawiania skomplikowanych tematów w sposób przystępny i zrozumiały\, co czyni go idealnym autorem dla dzieci\, które stawiają pierwsze kroki w literackiej rzeczywistości. Każda z jego książek to nie tylko opowieść\, ale i narzędzie edukacyjne\, które rozwija wyobraźnię i wzbogaca słownictwo. \nWstęp wolny. Ilość miejsc ograniczona.\nZapisy tel. 884 206 308
URL:https://www.bibldop.pl/wydarzenie/spotkanie-autorskie-z-lukaszem-wierzbickim/
LOCATION:Filia biblioteczna w Skórzewie\, ul. Kozierowskiego 1\, Skórzewo
CATEGORIES:Filia w Skórzewie
ATTACH;FMTTYPE=image/jpeg:https://www.bibldop.pl/wp-content/uploads/2026/03/wierzbicki.jpg
END:VEVENT
BEGIN:VEVENT
DTSTART;TZID=Europe/Warsaw:20260512T180000
DTEND;TZID=Europe/Warsaw:20260512T190000
DTSTAMP:20260424T222227
CREATED:20260305T123427Z
LAST-MODIFIED:20260313T071410Z
UID:20833-1778608800-1778612400@www.bibldop.pl
SUMMARY:Bezglutenowa Oliwka - spotkanie autorskie
DESCRIPTION:Zapraszamy na spotkanie z Bezglutenową Oliwką.\nOliwia Abraś – założycielka centrum kliniczno-społecznościowego Przystań bez glutenu. Z wykształcenia dziennikarka ze specjalizacją w marketingu\, reklamie i tworzeniu marek\, z potrzeby serca – dyplomowana dietetyczka kliniczna specjalizująca się w celiakii i diecie bezglutenowej. Od 2019 roku buduje w internecie społeczność “celiaczków”. Stworzyła Przystań jako odpowiedź na chaos\, lęk i niewiedzę z jakimi mierzy się wiele osób po diagnozie celiakii i innych chorób XXI wieku. W swojej pracy pomaga zrozumieć chorobę\, odzyskać spokój i stworzyć codzienność w której naprawdę da się odetchnąć. Wraz z zespołem specjalistek tworzy przestrzeń realnego wsparcia dla „celiaczków” i ich rodzin. \nlink do profilu: https://www.facebook.com/profile.php?id=100076721917944 \nZapisy tel. 694 904 690 \, Ilość miejsc ograniczona \n 
URL:https://www.bibldop.pl/wydarzenie/bezglutenowa-oliwka-spotkanie-autorskie/
LOCATION:Filia biblioteczna w Konarzewie\, ul. Poznańska 19a\, Konarzewo
CATEGORIES:Filia w Konarzewie
ATTACH;FMTTYPE=image/jpeg:https://www.bibldop.pl/wp-content/uploads/2026/03/bezg-scaled.jpeg
END:VEVENT
END:VCALENDAR