BEGIN:VCALENDAR
VERSION:2.0
PRODID:-//Gminna Biblioteka Publiczna i Centrum Kultury w Dopiewie - ECPv6.15.20//NONSGML v1.0//EN
CALSCALE:GREGORIAN
METHOD:PUBLISH
X-ORIGINAL-URL:https://www.bibldop.pl
X-WR-CALDESC:Wydarzenia dla Gminna Biblioteka Publiczna i Centrum Kultury w Dopiewie
REFRESH-INTERVAL;VALUE=DURATION:PT1H
X-Robots-Tag:noindex
X-PUBLISHED-TTL:PT1H
BEGIN:VTIMEZONE
TZID:Europe/Warsaw
BEGIN:DAYLIGHT
TZOFFSETFROM:+0100
TZOFFSETTO:+0200
TZNAME:CEST
DTSTART:20250330T010000
END:DAYLIGHT
BEGIN:STANDARD
TZOFFSETFROM:+0200
TZOFFSETTO:+0100
TZNAME:CET
DTSTART:20251026T010000
END:STANDARD
BEGIN:DAYLIGHT
TZOFFSETFROM:+0100
TZOFFSETTO:+0200
TZNAME:CEST
DTSTART:20260329T010000
END:DAYLIGHT
BEGIN:STANDARD
TZOFFSETFROM:+0200
TZOFFSETTO:+0100
TZNAME:CET
DTSTART:20261025T010000
END:STANDARD
BEGIN:DAYLIGHT
TZOFFSETFROM:+0100
TZOFFSETTO:+0200
TZNAME:CEST
DTSTART:20270328T010000
END:DAYLIGHT
BEGIN:STANDARD
TZOFFSETFROM:+0200
TZOFFSETTO:+0100
TZNAME:CET
DTSTART:20271031T010000
END:STANDARD
END:VTIMEZONE
BEGIN:VEVENT
DTSTART;TZID=Europe/Warsaw:20260417T180000
DTEND;TZID=Europe/Warsaw:20260417T203000
DTSTAMP:20260424T210036
CREATED:20260210T114205Z
LAST-MODIFIED:20260410T065243Z
UID:20505-1776448800-1776457800@www.bibldop.pl
SUMMARY:Koncert MarsaAlam & Mirosław Szołtysek
DESCRIPTION:Kup bilet\n\nSzlagierowy Zawrót Głowy – dwa pokolenia\nJedyny taki koncert! \nZapraszamy na wyjątkowe muzyczne wydarzenie\, które łączy pokolenia i gwarantuje doskonałą zabawę! „Szlagierowy Zawrót Głowy – dwa pokolenia” to projekt cieszący się ogromnym zainteresowaniem w całej Polsce. Artyści koncertują w wielu miastach\, a bilety na ich występy znikają w mgnieniu oka. \nPubliczność czeka ponad dwie godziny znakomitej rozrywki\, świetnej muzyki i dobrego humoru. To koncert\, który porywa do wspólnego śpiewania\, wzrusza i wywołuje uśmiech — niezależnie od wieku. \nWystępujący artyści posiadają bogaty repertuar muzyczny\, trafiający bezpośrednio do serc odbiorców. Ich utwory można usłyszeć w licznych rozgłośniach radiowych\, a także w ogólnopolskich i regionalnych stacjach telewizyjnych. Regularnie goszczą m.in. na antenach: TVS Silesia\, Polo TV\, TV Trwam\, TV Katowice\, TVT oraz TVC. \n\nArtyści\nMirosław SzołtysekPrawdziwa legenda śląskich szlagierów. Urodzony w Wielkich Hajdukach (Chorzów Batory)\, Ślązak z krwi i kości\, wywodzący się z tradycyjnej śląskiej rodziny. Laureat prestiżowych nagród\, m.in. Hanysy\, Śląska Perła Telewizji TVS oraz Osobowość Roku Miasta Chorzów.Uczestnik Letniej Trasy Dwójki TVP\, gdzie zaprezentował się milionom widzów jako autentyczna „Śląska Perła”. Wokalista i tekściarz\, na scenie występujący wspólnie z żoną Bożeną. \nMarsaAlamProfesjonalny duet dwóch młodych\, energicznych muzyków\, wyróżniających się klasą i oryginalnością. Na rynku muzycznym od 9 lat. W 2025 roku wydali swoją trzecią autorską płytę.Ich najnowszy utwór „Mój magiczny świat” szybko zyskał popularność i podbija stacje radiowe oraz telewizyjne. Melodyjne\, wpadające w ucho piosenki oraz bogate doświadczenie koncertowe sprawiają\, że MarsaAlam to jeden z najbardziej rozpoznawalnych duetów młodego pokolenia. \n🎶 Nie przegap tego wydarzenia!Szlagierowy Zawrót Głowy to koncert\, który na długo zostaje w pamięci. Do miłego zobaczenia pod sceną! \n \n \nKup bilet
URL:https://www.bibldop.pl/wydarzenie/koncert-marsaalam-miroslaw-szoltysek/
LOCATION:Sala widowiskowa w Konarzewie\, Poznańska 19\, Konarzewo\, Poland
CATEGORIES:CRK w Konarzewie
ATTACH;FMTTYPE=image/jpeg:https://www.bibldop.pl/wp-content/uploads/2026/02/Marsa-Alam-wpis.jpg
END:VEVENT
END:VCALENDAR