BEGIN:VCALENDAR
VERSION:2.0
PRODID:-//Gminna Biblioteka Publiczna i Centrum Kultury w Dopiewie - ECPv6.15.20//NONSGML v1.0//EN
CALSCALE:GREGORIAN
METHOD:PUBLISH
X-ORIGINAL-URL:https://www.bibldop.pl
X-WR-CALDESC:Wydarzenia dla Gminna Biblioteka Publiczna i Centrum Kultury w Dopiewie
REFRESH-INTERVAL;VALUE=DURATION:PT1H
X-Robots-Tag:noindex
X-PUBLISHED-TTL:PT1H
BEGIN:VTIMEZONE
TZID:Europe/Warsaw
BEGIN:DAYLIGHT
TZOFFSETFROM:+0100
TZOFFSETTO:+0200
TZNAME:CEST
DTSTART:20250330T010000
END:DAYLIGHT
BEGIN:STANDARD
TZOFFSETFROM:+0200
TZOFFSETTO:+0100
TZNAME:CET
DTSTART:20251026T010000
END:STANDARD
BEGIN:DAYLIGHT
TZOFFSETFROM:+0100
TZOFFSETTO:+0200
TZNAME:CEST
DTSTART:20260329T010000
END:DAYLIGHT
BEGIN:STANDARD
TZOFFSETFROM:+0200
TZOFFSETTO:+0100
TZNAME:CET
DTSTART:20261025T010000
END:STANDARD
BEGIN:DAYLIGHT
TZOFFSETFROM:+0100
TZOFFSETTO:+0200
TZNAME:CEST
DTSTART:20270328T010000
END:DAYLIGHT
BEGIN:STANDARD
TZOFFSETFROM:+0200
TZOFFSETTO:+0100
TZNAME:CET
DTSTART:20271031T010000
END:STANDARD
END:VTIMEZONE
BEGIN:VEVENT
DTSTART;TZID=Europe/Warsaw:20260411T100000
DTEND;TZID=Europe/Warsaw:20260411T110000
DTSTAMP:20260424T210035
CREATED:20260331T101614Z
LAST-MODIFIED:20260331T101708Z
UID:21118-1775901600-1775905200@www.bibldop.pl
SUMMARY:Prelekcja-opieka nad pszczołami Know-how
DESCRIPTION:Zapraszamy na wyjątkową prelekcję pt. „Opieka nad pszczołami – know-how” 🐝\, prowadzoną przez harcerzy z 35 Drużyny Wędrowniczej „Cedr”\, którzy z pasją i zaangażowaniem dzielą się swoją wiedzą! Będzie to okazja\, by poznać podstawy opieki nad tymi niezwykle ważnymi zapylaczami\, dowiedzieć się\, jak wygląda życie w ulu oraz jakie wyzwania stoją dziś przed pszczołami.\nDlaczego warto wziąć udział?\n– zdobędziesz praktyczną wiedzę w przystępnej formie\n– dowiesz się\, jak realnie pomagać pszczołom\n– poznasz inspirujących młodych ludzi z pasją\n– spędzisz czas w przyjaznej i pełnej energii atmosferze \n👉 Liczba miejsc jest ograniczona – zapisz się już dziś tel. 503 481 757
URL:https://www.bibldop.pl/wydarzenie/prelekcja-opieka-nad-pszczolami-know-how/
LOCATION:Filia biblioteczna w Dąbrówce\, ul. Malinowa 41\, Dąbrówka
CATEGORIES:Filia w Dąbrówce
ATTACH;FMTTYPE=image/jpeg:https://www.bibldop.pl/wp-content/uploads/2026/03/pszczola-scaled.jpg
END:VEVENT
END:VCALENDAR