BEGIN:VCALENDAR
VERSION:2.0
PRODID:-//Gminna Biblioteka Publiczna i Centrum Kultury w Dopiewie - ECPv6.15.20//NONSGML v1.0//EN
CALSCALE:GREGORIAN
METHOD:PUBLISH
X-WR-CALNAME:Gminna Biblioteka Publiczna i Centrum Kultury w Dopiewie
X-ORIGINAL-URL:https://www.bibldop.pl
X-WR-CALDESC:Wydarzenia dla Gminna Biblioteka Publiczna i Centrum Kultury w Dopiewie
REFRESH-INTERVAL;VALUE=DURATION:PT1H
X-Robots-Tag:noindex
X-PUBLISHED-TTL:PT1H
BEGIN:VTIMEZONE
TZID:Europe/Warsaw
BEGIN:DAYLIGHT
TZOFFSETFROM:+0100
TZOFFSETTO:+0200
TZNAME:CEST
DTSTART:20250330T010000
END:DAYLIGHT
BEGIN:STANDARD
TZOFFSETFROM:+0200
TZOFFSETTO:+0100
TZNAME:CET
DTSTART:20251026T010000
END:STANDARD
BEGIN:DAYLIGHT
TZOFFSETFROM:+0100
TZOFFSETTO:+0200
TZNAME:CEST
DTSTART:20260329T010000
END:DAYLIGHT
BEGIN:STANDARD
TZOFFSETFROM:+0200
TZOFFSETTO:+0100
TZNAME:CET
DTSTART:20261025T010000
END:STANDARD
BEGIN:DAYLIGHT
TZOFFSETFROM:+0100
TZOFFSETTO:+0200
TZNAME:CEST
DTSTART:20270328T010000
END:DAYLIGHT
BEGIN:STANDARD
TZOFFSETFROM:+0200
TZOFFSETTO:+0100
TZNAME:CET
DTSTART:20271031T010000
END:STANDARD
END:VTIMEZONE
BEGIN:VEVENT
DTSTART;VALUE=DATE:20260324
DTEND;VALUE=DATE:20260404
DTSTAMP:20260424T222238
CREATED:20260323T134924Z
LAST-MODIFIED:20260323T135106Z
UID:21055-1774310400-1775260799@www.bibldop.pl
SUMMARY:Wielkanocne Poszukiwania Jajek w Gminie Dopiewo
DESCRIPTION:Wracamy z naszą świąteczną zabawą!\nWielkanocne Poszukiwania Jajek w Gminie Dopiewo!\nCzy jesteście gotowi na kolejną wielkanocną przygodę?  W różnych zakątkach naszej gminy sprytny Zając Dopcio ponownie ukryje czekoladowe jajka! Waszym zadaniem jest je odnaleźć!\nJak to działa?\nKażdego dnia będziemy publikować wskazówkę – video z miejsca\, w którym ukryte jest jajko.\nZadanie dla Was?\nZnaleźć jajko i dać nam znać w komentarzu!\nStartujemy już 24 marca!\nJajka pojawią się w różnych miejscach – miejcie oczy szeroko otwarte!\nGotowi na poszukiwania? Śledźcie nasz profil na FACEBOOKU!
URL:https://www.bibldop.pl/wydarzenie/wielkanocne-poszukiwania-jajek-w-gminie-dopiewo/
ATTACH;FMTTYPE=image/jpeg:https://www.bibldop.pl/wp-content/uploads/2026/03/Wpis-zajaczek.jpg
END:VEVENT
BEGIN:VEVENT
DTSTART;TZID=Europe/Warsaw:20260325T180000
DTEND;TZID=Europe/Warsaw:20260325T193000
DTSTAMP:20260424T222238
CREATED:20260226T125644Z
LAST-MODIFIED:20260227T081702Z
UID:20729-1774461600-1774467000@www.bibldop.pl
SUMMARY:Spotkanie z Dawidem Andresem
DESCRIPTION:Już 25 marca odwiedzi nas Dawid Andres Najbardziej znany kierowca ciężarówki\, osobowość TV oraz podróżnik. Jeśli chcesz posłuchać inspirujących opowieści\, fascynujących historii z najdalszych zakątków świata oraz autentycznych przeżyć człowieka z pasją – nie może Cię zabraknąć! \n\n\n\nWSZYSTKIE MIEJSCA ZAJĘTE !
URL:https://www.bibldop.pl/wydarzenie/spotkanie-z-dawidem-andresem/
LOCATION:Sala widowiskowa w Konarzewie\, Poznańska 19\, Konarzewo\, Poland
CATEGORIES:CRK w Konarzewie
ATTACH;FMTTYPE=image/png:https://www.bibldop.pl/wp-content/uploads/2026/02/Andres-brak-miejsc-strona-www-scaled.png
END:VEVENT
END:VCALENDAR