BEGIN:VCALENDAR
VERSION:2.0
PRODID:-//Gminna Biblioteka Publiczna i Centrum Kultury w Dopiewie - ECPv6.15.20//NONSGML v1.0//EN
CALSCALE:GREGORIAN
METHOD:PUBLISH
X-ORIGINAL-URL:https://www.bibldop.pl
X-WR-CALDESC:Wydarzenia dla Gminna Biblioteka Publiczna i Centrum Kultury w Dopiewie
REFRESH-INTERVAL;VALUE=DURATION:PT1H
X-Robots-Tag:noindex
X-PUBLISHED-TTL:PT1H
BEGIN:VTIMEZONE
TZID:Europe/Warsaw
BEGIN:DAYLIGHT
TZOFFSETFROM:+0100
TZOFFSETTO:+0200
TZNAME:CEST
DTSTART:20250330T010000
END:DAYLIGHT
BEGIN:STANDARD
TZOFFSETFROM:+0200
TZOFFSETTO:+0100
TZNAME:CET
DTSTART:20251026T010000
END:STANDARD
BEGIN:DAYLIGHT
TZOFFSETFROM:+0100
TZOFFSETTO:+0200
TZNAME:CEST
DTSTART:20260329T010000
END:DAYLIGHT
BEGIN:STANDARD
TZOFFSETFROM:+0200
TZOFFSETTO:+0100
TZNAME:CET
DTSTART:20261025T010000
END:STANDARD
BEGIN:DAYLIGHT
TZOFFSETFROM:+0100
TZOFFSETTO:+0200
TZNAME:CEST
DTSTART:20270328T010000
END:DAYLIGHT
BEGIN:STANDARD
TZOFFSETFROM:+0200
TZOFFSETTO:+0100
TZNAME:CET
DTSTART:20271031T010000
END:STANDARD
END:VTIMEZONE
BEGIN:VEVENT
DTSTART;TZID=Europe/Warsaw:20260318T170000
DTEND;TZID=Europe/Warsaw:20260318T180000
DTSTAMP:20260424T222401
CREATED:20250828T101027Z
LAST-MODIFIED:20260310T122907Z
UID:19051-1773853200-1773856800@www.bibldop.pl
SUMMARY:Spektakl teatralny "Kukła z wiejskiego podwórza" Teatr Pod Orzełkiem
DESCRIPTION:🎭 Spektakl teatralny „Kukła z wiejskiego podwórza” – Teatr Pod Orzełkiem\nZapraszamy na wyjątkowy spektakl teatralny „Kukła z wiejskiego podwórza” w wykonaniu Teatru Pod Orzełkiem — pełen zabawy\, ludowych obrzędów i wyjątkowych kukieł! \n🗓 Data i godzina: 18 marca 2026\, godz. 17:00–18:00📍 Miejsce: Sala OSP w Dopiewie\, ul. Szkolna 21🎟️ Wstęp: wolny \n👉 Kliknij „Zapisz się na spektakl”\, aby zarezerwować miejsce! \n🎬 O spektaklu\n„Kukła z wiejskiego podwórza” to barwne przedstawienie dla dzieci i rodzin\, które przenosi widzów do zaczarowanej polskiej wsi Kukiełkowa\, pełnej tradycji i ludowych zwyczajów. Główny bohater\, Profesor Wyobraźni Hilary Szczebrzeszyński\, zabiera najmłodszych w podróż po wiejskim podwórzu\, gdzie uczestnicy: \n– poznają ludowe obrzędy takie jak topienie Marzanny\, noc sobótkowa i dożynki\, \n– bawią się z tradycyjnymi kukłami\, \n– występują w Teatrze Jarzynowym im. Królowej Bony\, \n– spotykają Stracha na Wróble\, tańczą i śpiewają. \nW spektaklu wykorzystano ok. 20 kukieł\, a oprawę muzyczną tworzą piosenki skomponowane przez Agnieszkę Glińską — co czyni spektakl interaktywnym\, kolorowym i angażującym dla młodych widzów. \n🌟 Dlaczego warto przyjść?\n🎭 Interaktywna gra z widownią – dzieci aktywnie uczestniczą w wydarzeniach scenicznych. \n🎶 Muzyka na żywo wzbogaca teatralne doznania. \n🪆 Lalki i kukły pobudzają wyobraźnię i przybliżają ludowe tradycje. \n👨‍👩‍👧‍👦 Dla całej rodziny – idealne popołudnie pełne zabawy i nauki poprzez teatr. \n  \n📌 Zapraszamy serdecznie wszystkie dzieci i miłośników teatru!Nie przegapcie tej fascynującej teatralnej podróży prosto na wiejskie podwórko wyobraźni!
URL:https://www.bibldop.pl/wydarzenie/spektakl-teatralny-kukla-z-wiejskiego-podworza-teatr-pod-orzelkiem/
LOCATION:Sala OSP w Dopiewie\, ul. Szkolna 21\, Dopiewo\, Poland
CATEGORIES:Sala OSP w Dopiewie
ATTACH;FMTTYPE=image/jpeg:https://www.bibldop.pl/wp-content/uploads/2025/08/Kukla-z-wiejskiego-podworza-1-scaled.jpg
END:VEVENT
END:VCALENDAR