BEGIN:VCALENDAR
VERSION:2.0
PRODID:-//Gminna Biblioteka Publiczna i Centrum Kultury w Dopiewie - ECPv6.15.20//NONSGML v1.0//EN
CALSCALE:GREGORIAN
METHOD:PUBLISH
X-ORIGINAL-URL:https://www.bibldop.pl
X-WR-CALDESC:Wydarzenia dla Gminna Biblioteka Publiczna i Centrum Kultury w Dopiewie
REFRESH-INTERVAL;VALUE=DURATION:PT1H
X-Robots-Tag:noindex
X-PUBLISHED-TTL:PT1H
BEGIN:VTIMEZONE
TZID:Europe/Warsaw
BEGIN:DAYLIGHT
TZOFFSETFROM:+0100
TZOFFSETTO:+0200
TZNAME:CEST
DTSTART:20250330T010000
END:DAYLIGHT
BEGIN:STANDARD
TZOFFSETFROM:+0200
TZOFFSETTO:+0100
TZNAME:CET
DTSTART:20251026T010000
END:STANDARD
BEGIN:DAYLIGHT
TZOFFSETFROM:+0100
TZOFFSETTO:+0200
TZNAME:CEST
DTSTART:20260329T010000
END:DAYLIGHT
BEGIN:STANDARD
TZOFFSETFROM:+0200
TZOFFSETTO:+0100
TZNAME:CET
DTSTART:20261025T010000
END:STANDARD
BEGIN:DAYLIGHT
TZOFFSETFROM:+0100
TZOFFSETTO:+0200
TZNAME:CEST
DTSTART:20270328T010000
END:DAYLIGHT
BEGIN:STANDARD
TZOFFSETFROM:+0200
TZOFFSETTO:+0100
TZNAME:CET
DTSTART:20271031T010000
END:STANDARD
END:VTIMEZONE
BEGIN:VEVENT
DTSTART;TZID=Europe/Warsaw:20260202T180000
DTEND;TZID=Europe/Warsaw:20260202T230000
DTSTAMP:20260424T234508
CREATED:20260108T155029Z
LAST-MODIFIED:20260108T155029Z
UID:20349-1770055200-1770073200@www.bibldop.pl
SUMMARY:Cygański Bal Karnawałowy dla seniora
DESCRIPTION:Zapraszamy na wyjątkowy Cygański Bal Karnawałowy\, pełen barw\, muzyki i radosnej atmosfery. Czekają na Państwa taneczne rytmy\, wspaniała zabawa\, miłe towarzystwo oraz chwile pełne uśmiechu i wspomnień. Mile widziane kolorowe stroje inspirowane cygańską tradycją\, które dodadzą balowi jeszcze więcej magii. \n\nKoszt: 50 zł/osoba\nW cenie: muzyka na żywo\, słodki poczęstunek\, gorące napoje\n(Przekąski i zimne napoje we własnym zakresie)\n\n\nZapisy: tel. 600 469 489 lub 882 006 090\n\nPłatność przelewem w przeciągu 7 dni od zapisu na konto: 39 9043 1012 2012 0027 6245 0001 tytułem Cygański Bal + imię i nazwisko uczestnika lub kartą w GBPiCK w Dopiewie ul. Konarzewska 12 (poziom -1)\n \n \n 
URL:https://www.bibldop.pl/wydarzenie/cyganski-bal-karnawalowy-dla-seniora/
LOCATION:Sala widowiskowa w Konarzewie\, Poznańska 19\, Konarzewo\, Poland
CATEGORIES:CRK w Konarzewie
ATTACH;FMTTYPE=image/png:https://www.bibldop.pl/wp-content/uploads/2026/01/Bal-karnawalowy-—-kopia-scaled.png
END:VEVENT
END:VCALENDAR