BEGIN:VCALENDAR
VERSION:2.0
PRODID:-//Gminna Biblioteka Publiczna i Centrum Kultury w Dopiewie - ECPv6.15.20//NONSGML v1.0//EN
CALSCALE:GREGORIAN
METHOD:PUBLISH
X-WR-CALNAME:Gminna Biblioteka Publiczna i Centrum Kultury w Dopiewie
X-ORIGINAL-URL:https://www.bibldop.pl
X-WR-CALDESC:Wydarzenia dla Gminna Biblioteka Publiczna i Centrum Kultury w Dopiewie
REFRESH-INTERVAL;VALUE=DURATION:PT1H
X-Robots-Tag:noindex
X-PUBLISHED-TTL:PT1H
BEGIN:VTIMEZONE
TZID:Europe/Warsaw
BEGIN:DAYLIGHT
TZOFFSETFROM:+0100
TZOFFSETTO:+0200
TZNAME:CEST
DTSTART:20240331T010000
END:DAYLIGHT
BEGIN:STANDARD
TZOFFSETFROM:+0200
TZOFFSETTO:+0100
TZNAME:CET
DTSTART:20241027T010000
END:STANDARD
BEGIN:DAYLIGHT
TZOFFSETFROM:+0100
TZOFFSETTO:+0200
TZNAME:CEST
DTSTART:20250330T010000
END:DAYLIGHT
BEGIN:STANDARD
TZOFFSETFROM:+0200
TZOFFSETTO:+0100
TZNAME:CET
DTSTART:20251026T010000
END:STANDARD
BEGIN:DAYLIGHT
TZOFFSETFROM:+0100
TZOFFSETTO:+0200
TZNAME:CEST
DTSTART:20260329T010000
END:DAYLIGHT
BEGIN:STANDARD
TZOFFSETFROM:+0200
TZOFFSETTO:+0100
TZNAME:CET
DTSTART:20261025T010000
END:STANDARD
END:VTIMEZONE
BEGIN:VEVENT
DTSTART;TZID=Europe/Warsaw:20251226T160000
DTEND;TZID=Europe/Warsaw:20251226T170000
DTSTAMP:20260425T023946
CREATED:20251218T102655Z
LAST-MODIFIED:20251218T102746Z
UID:20282-1766764800-1766768400@www.bibldop.pl
SUMMARY:Przyjazd pociągu "Mistrz Paderewski"
DESCRIPTION:“Pociąg Mistrz Paderewski” to historyczny skład Kolei Wielkopolskich\, który co roku odtwarza przyjazd Ignacego Paderewskiego do Poznania. Wydarzenie to upamiętnia jego podróż z 1918 roku\, czyli moment symbolicznie rozpoczynający obchody wybuchu Powstania Wielkopolskiego. W tym roku pociąg po raz drugi zatrzyma się na Dworcu Kolejowym w Palędziu.
URL:https://www.bibldop.pl/wydarzenie/przyjazd-pociagu-mistrz-paderewski/
LOCATION:Dworzec Palędzie\, Kolejowa
CATEGORIES:Pozostałe
ATTACH;FMTTYPE=image/jpeg:https://www.bibldop.pl/wp-content/uploads/2025/12/Paderewski.jpg
END:VEVENT
END:VCALENDAR