BEGIN:VCALENDAR
VERSION:2.0
PRODID:-//Gminna Biblioteka Publiczna i Centrum Kultury w Dopiewie - ECPv6.15.20//NONSGML v1.0//EN
CALSCALE:GREGORIAN
METHOD:PUBLISH
X-WR-CALNAME:Gminna Biblioteka Publiczna i Centrum Kultury w Dopiewie
X-ORIGINAL-URL:https://www.bibldop.pl
X-WR-CALDESC:Wydarzenia dla Gminna Biblioteka Publiczna i Centrum Kultury w Dopiewie
REFRESH-INTERVAL;VALUE=DURATION:PT1H
X-Robots-Tag:noindex
X-PUBLISHED-TTL:PT1H
BEGIN:VTIMEZONE
TZID:Europe/Warsaw
BEGIN:DAYLIGHT
TZOFFSETFROM:+0100
TZOFFSETTO:+0200
TZNAME:CEST
DTSTART:20240331T010000
END:DAYLIGHT
BEGIN:STANDARD
TZOFFSETFROM:+0200
TZOFFSETTO:+0100
TZNAME:CET
DTSTART:20241027T010000
END:STANDARD
BEGIN:DAYLIGHT
TZOFFSETFROM:+0100
TZOFFSETTO:+0200
TZNAME:CEST
DTSTART:20250330T010000
END:DAYLIGHT
BEGIN:STANDARD
TZOFFSETFROM:+0200
TZOFFSETTO:+0100
TZNAME:CET
DTSTART:20251026T010000
END:STANDARD
BEGIN:DAYLIGHT
TZOFFSETFROM:+0100
TZOFFSETTO:+0200
TZNAME:CEST
DTSTART:20260329T010000
END:DAYLIGHT
BEGIN:STANDARD
TZOFFSETFROM:+0200
TZOFFSETTO:+0100
TZNAME:CET
DTSTART:20261025T010000
END:STANDARD
END:VTIMEZONE
BEGIN:VEVENT
DTSTART;TZID=Europe/Warsaw:20251207T150000
DTEND;TZID=Europe/Warsaw:20251207T190000
DTSTAMP:20260425T023859
CREATED:20251029T130610Z
LAST-MODIFIED:20251029T131359Z
UID:19876-1765119600-1765134000@www.bibldop.pl
SUMMARY:Wielkie Ubieranie Choinki w Dopiewie - IX Jarmark Świąteczny
DESCRIPTION:Wielkie Ubieranie Choinki w Dopiewie – IX Jarmark Świąteczny \nZbliża się jedno z najbardziej magicznych wydarzeń w roku! Już wkrótce Dopiewo rozbłyśnie świątecznym światłem podczas Wielkiego Ubierania Choinki – corocznego jarmarku\, który łączy mieszkańców we wspólnym\, radosnym oczekiwaniu na Boże Narodzenie. \nNa uczestników czeka mnóstwo atrakcji dla całej rodziny. Na scenie wystąpią lokalni artyści\, a wyjątkową muzyczną gwiazdą tegorocznej edycji będzie Alicja Janosz z programem „Alicja Janosz Dzieciom #Idą Święta” – koncert pełen świątecznych melodii\, które poruszą serca zarówno dzieci\, jak i dorosłych. \nNie zabraknie także świątecznych gości! Na placu pojawi się Święty Mikołaj w towarzystwie swoich reniferów\, gotowy na wspólne zdjęcia i rozmowy z najmłodszymi. Dzieci będą mogły skorzystać z wielu zimowych atrakcji – czeka na nie strefa VR\, świąteczna kolejka\, karuzela\, snowtubing i wiele innych niespodzianek. \nPodczas jarmarku nie zabraknie również stoisk pełnych rękodzieła\, smakołyków i lokalnych przysmaków. \nPrzyjdźcie całą rodziną i poczujcie magię nadchodzących świąt – razem ubierzmy choinkę i rozświetlmy Dopiewo!
URL:https://www.bibldop.pl/wydarzenie/wielkie-ubieranie-choinki-w-dopiewie-ix-jarmark-swiateczny/
LOCATION:Plac Gminny w Dopiewie\, ul. Łąkowa/Wyzwolenia\, Dopiewo\, Poland
ATTACH;FMTTYPE=image/png:https://www.bibldop.pl/wp-content/uploads/2025/10/Frame-1.png
END:VEVENT
END:VCALENDAR