BEGIN:VCALENDAR
VERSION:2.0
PRODID:-//Gminna Biblioteka Publiczna i Centrum Kultury w Dopiewie - ECPv6.15.20//NONSGML v1.0//EN
CALSCALE:GREGORIAN
METHOD:PUBLISH
X-ORIGINAL-URL:https://www.bibldop.pl
X-WR-CALDESC:Wydarzenia dla Gminna Biblioteka Publiczna i Centrum Kultury w Dopiewie
REFRESH-INTERVAL;VALUE=DURATION:PT1H
X-Robots-Tag:noindex
X-PUBLISHED-TTL:PT1H
BEGIN:VTIMEZONE
TZID:Europe/Warsaw
BEGIN:DAYLIGHT
TZOFFSETFROM:+0100
TZOFFSETTO:+0200
TZNAME:CEST
DTSTART:20240331T010000
END:DAYLIGHT
BEGIN:STANDARD
TZOFFSETFROM:+0200
TZOFFSETTO:+0100
TZNAME:CET
DTSTART:20241027T010000
END:STANDARD
BEGIN:DAYLIGHT
TZOFFSETFROM:+0100
TZOFFSETTO:+0200
TZNAME:CEST
DTSTART:20250330T010000
END:DAYLIGHT
BEGIN:STANDARD
TZOFFSETFROM:+0200
TZOFFSETTO:+0100
TZNAME:CET
DTSTART:20251026T010000
END:STANDARD
BEGIN:DAYLIGHT
TZOFFSETFROM:+0100
TZOFFSETTO:+0200
TZNAME:CEST
DTSTART:20260329T010000
END:DAYLIGHT
BEGIN:STANDARD
TZOFFSETFROM:+0200
TZOFFSETTO:+0100
TZNAME:CET
DTSTART:20261025T010000
END:STANDARD
END:VTIMEZONE
BEGIN:VEVENT
DTSTART;TZID=Europe/Warsaw:20251205T170000
DTEND;TZID=Europe/Warsaw:20251205T190000
DTSTAMP:20260425T024020
CREATED:20251014T112446Z
LAST-MODIFIED:20251029T132403Z
UID:19770-1764954000-1764961200@www.bibldop.pl
SUMMARY:Mikołajkowe Spotkanie w Skórzewie - Zimowy Koncert Stwora Głodomora
DESCRIPTION:Zapraszamy całe rodziny na świąteczne spotkanie w Skórzewie!\nW tym roku przygotowaliśmy dla mieszkańców wieczór pełen atrakcji\, którego kulminacyjnym momentem będzie wspólnie rozświetlenie świątecznej choinki na Figowym Zakątku. \nZimowy Koncert Stwora GłodomoraNa scenie pojawią się uwielbiane przez dzieci postacie znane z przygód Stwora Głodomora oraz nowe – między innymi bohaterowie z Krainy Lodu\, leśne skrzaty i Pani Zima.Podczas interaktywnego spektaklu dzieci nie tylko będą się świetnie bawić\, ale także dowiedzą się\, że najcenniejszym prezentem nie są zabawki\, lecz rodzinne ciepło\, przyjaźń i radość dzielenia się z innymi. \nKoncert wypełnią świąteczne przeboje i znane zimowe piosenki – w tym takie utwory jak „Zima lubi dzieci”\, „Pada śnieg” czy „Ding-dong”. Wszystko to w wykonaniu grupy wokalnej 4Mation\, której członkowie są finalistami programów takich jak Szansa na sukces.To spektakl pełen muzyki\, humoru i magii\, przygotowany we współpracy z Konradem „KONY” Czarkowskim – lalkarzem medialnym i finalistą Mam Talent oraz Britain’s Got Talent. \nPokaz Ognia – „Magia Ognia”Niezwykłe widowisko w wykonaniu zespołu Papuga Fireshow – pełne płomieni\, światła i muzyki.To spektakl łączący taniec\, pirotechnikę sceniczną i ogień w fascynującą opowieść o cieple i magii światła.Pokaz jest w pełni bezpieczny\, bez hukowych efektów – idealny także dla najmłodszych widzów. \n \n 
URL:https://www.bibldop.pl/wydarzenie/mikolajkowe-spotkanie-dla-dzieci-w-skorzewie-2/
LOCATION:Figowy Zakątek\, ul. Figowa\, Skórzewo
CATEGORIES:Pozostałe
ATTACH;FMTTYPE=image/png:https://www.bibldop.pl/wp-content/uploads/2024/11/Mikolajki-Dabrowka-2024.png
END:VEVENT
END:VCALENDAR