BEGIN:VCALENDAR
VERSION:2.0
PRODID:-//Gminna Biblioteka Publiczna i Centrum Kultury w Dopiewie - ECPv6.15.20//NONSGML v1.0//EN
CALSCALE:GREGORIAN
METHOD:PUBLISH
X-ORIGINAL-URL:https://www.bibldop.pl
X-WR-CALDESC:Wydarzenia dla Gminna Biblioteka Publiczna i Centrum Kultury w Dopiewie
REFRESH-INTERVAL;VALUE=DURATION:PT1H
X-Robots-Tag:noindex
X-PUBLISHED-TTL:PT1H
BEGIN:VTIMEZONE
TZID:Europe/Warsaw
BEGIN:DAYLIGHT
TZOFFSETFROM:+0100
TZOFFSETTO:+0200
TZNAME:CEST
DTSTART:20240331T010000
END:DAYLIGHT
BEGIN:STANDARD
TZOFFSETFROM:+0200
TZOFFSETTO:+0100
TZNAME:CET
DTSTART:20241027T010000
END:STANDARD
BEGIN:DAYLIGHT
TZOFFSETFROM:+0100
TZOFFSETTO:+0200
TZNAME:CEST
DTSTART:20250330T010000
END:DAYLIGHT
BEGIN:STANDARD
TZOFFSETFROM:+0200
TZOFFSETTO:+0100
TZNAME:CET
DTSTART:20251026T010000
END:STANDARD
BEGIN:DAYLIGHT
TZOFFSETFROM:+0100
TZOFFSETTO:+0200
TZNAME:CEST
DTSTART:20260329T010000
END:DAYLIGHT
BEGIN:STANDARD
TZOFFSETFROM:+0200
TZOFFSETTO:+0100
TZNAME:CET
DTSTART:20261025T010000
END:STANDARD
END:VTIMEZONE
BEGIN:VEVENT
DTSTART;TZID=Europe/Warsaw:20251119T130000
DTEND;TZID=Europe/Warsaw:20251119T150000
DTSTAMP:20260425T040115
CREATED:20251114T122429Z
LAST-MODIFIED:20251114T122429Z
UID:20003-1763557200-1763564400@www.bibldop.pl
SUMMARY:Spotkanie poetyckie ze Stanisławem Chutkowskim w Skórzewie
DESCRIPTION:19 listopada o godzinie 13:00 w filii bibliotecznej w Skórzewie odbędzie się wyjątkowe spotkanie autorskie ze Stanisławem Chutkowskim – poetą\, którego twórczość wyrasta z codziennych obserwacji życia\, natury i ludzkich emocji. \nAutor pochodzi z Liszyna niedaleko Płocka\, a od wielu lat związany jest z Poznaniem. Z wykształcenia inżynier mechanik\, z zamiłowania – poeta\, dla którego słowo stało się narzędziem refleksji i duchowych poszukiwań. Jest członkiem Związku Literatów Polskich Oddział w Poznaniu\, autorem ośmiu tomików poezji oraz zbioru „Mea culpa”\, w którym zagląda w głąb ludzkiej natury i własnej wrażliwości. \nStanisław Chutkowski od lat działa w środowisku literackim – współtworzy Klub Literacki Dąbrówka\, współpracuje z „ReWirami”\, „Protokołem Kulturalnym” i miesięcznikiem „Akant”\, a także prowadzi cykl spotkań poetycko-wspomnieniowych „Słów–miarka”\, w którym łączy artystyczną pasję z inżynierską precyzją. \nSpotkanie w Skórzewie będzie doskonałą okazją\, by poznać autora\, posłuchać jego wierszy\, porozmawiać o poezji i codziennych inspiracjach\, które kształtują jego twórczość.
URL:https://www.bibldop.pl/wydarzenie/spotkanie-poetyckie-ze-stanislawem-chutkowskim-w-skorzewie/
LOCATION:Filia biblioteczna w Skórzewie\, ul. Kozierowskiego 1\, Skórzewo
CATEGORIES:Filia w Skórzewie
ATTACH;FMTTYPE=image/jpeg:https://www.bibldop.pl/wp-content/uploads/2025/11/Spotkanie-autorskie-z-1920-x-1220-px.jpg
END:VEVENT
END:VCALENDAR