BEGIN:VCALENDAR
VERSION:2.0
PRODID:-//Gminna Biblioteka Publiczna i Centrum Kultury w Dopiewie - ECPv6.15.20//NONSGML v1.0//EN
CALSCALE:GREGORIAN
METHOD:PUBLISH
X-ORIGINAL-URL:https://www.bibldop.pl
X-WR-CALDESC:Wydarzenia dla Gminna Biblioteka Publiczna i Centrum Kultury w Dopiewie
REFRESH-INTERVAL;VALUE=DURATION:PT1H
X-Robots-Tag:noindex
X-PUBLISHED-TTL:PT1H
BEGIN:VTIMEZONE
TZID:Europe/Warsaw
BEGIN:DAYLIGHT
TZOFFSETFROM:+0100
TZOFFSETTO:+0200
TZNAME:CEST
DTSTART:20240331T010000
END:DAYLIGHT
BEGIN:STANDARD
TZOFFSETFROM:+0200
TZOFFSETTO:+0100
TZNAME:CET
DTSTART:20241027T010000
END:STANDARD
BEGIN:DAYLIGHT
TZOFFSETFROM:+0100
TZOFFSETTO:+0200
TZNAME:CEST
DTSTART:20250330T010000
END:DAYLIGHT
BEGIN:STANDARD
TZOFFSETFROM:+0200
TZOFFSETTO:+0100
TZNAME:CET
DTSTART:20251026T010000
END:STANDARD
BEGIN:DAYLIGHT
TZOFFSETFROM:+0100
TZOFFSETTO:+0200
TZNAME:CEST
DTSTART:20260329T010000
END:DAYLIGHT
BEGIN:STANDARD
TZOFFSETFROM:+0200
TZOFFSETTO:+0100
TZNAME:CET
DTSTART:20261025T010000
END:STANDARD
END:VTIMEZONE
BEGIN:VEVENT
DTSTART;TZID=Europe/Warsaw:20251117T130000
DTEND;TZID=Europe/Warsaw:20251117T190000
DTSTAMP:20260425T040100
CREATED:20250919T074917Z
LAST-MODIFIED:20251008T110759Z
UID:19447-1763384400-1763406000@www.bibldop.pl
SUMMARY:XVII Dopiewska Jesień Teatralna
DESCRIPTION:Gminna Biblioteka Publiczna i Centrum Kultury w Dopiewie serdecznie zaprasza do wzięcia udziału w Wielkopolskim Przeglądzie Teatrów Amatorskich dla Seniorów „Dopiewska Jesień Teatralna”\, który organizujemy 17 listopada br o godz. 13:00-19.00. W tym roku odbędzie się już XVII edycja przeglądu dla seniorów z ośrodków zlokalizowanych w całym Województwie Wielkopolskim. Przegląd ma na celu popularyzację dorobku amatorskich grup teatralnych\, propagowanie sztuki teatralnej\, inspirowanie i poszukiwanie nowych form pracy z seniorami. \nWstęp na wydarzenie koszt 30 zł (zapewniamy ciepły posiłek i słodki poczęstunek) \nZapis telefoniczny: \nJan Sawiński +48 600 469 489\nŁukasz Mańczak +48 882 006 090 \nLiczba miejsc ograniczona
URL:https://www.bibldop.pl/wydarzenie/xvii-dopiewska-jesien-teatralna/
LOCATION:Sala widowiskowa w Konarzewie\, Poznańska 19\, Konarzewo\, Poland
CATEGORIES:CRK w Konarzewie
ATTACH;FMTTYPE=image/jpeg:https://www.bibldop.pl/wp-content/uploads/2021/09/Dopiewska-jesien-teatralna-2019-plakat.jpg
END:VEVENT
END:VCALENDAR