BEGIN:VCALENDAR
VERSION:2.0
PRODID:-//Gminna Biblioteka Publiczna i Centrum Kultury w Dopiewie - ECPv6.15.20//NONSGML v1.0//EN
CALSCALE:GREGORIAN
METHOD:PUBLISH
X-ORIGINAL-URL:https://www.bibldop.pl
X-WR-CALDESC:Wydarzenia dla Gminna Biblioteka Publiczna i Centrum Kultury w Dopiewie
REFRESH-INTERVAL;VALUE=DURATION:PT1H
X-Robots-Tag:noindex
X-PUBLISHED-TTL:PT1H
BEGIN:VTIMEZONE
TZID:Europe/Warsaw
BEGIN:DAYLIGHT
TZOFFSETFROM:+0100
TZOFFSETTO:+0200
TZNAME:CEST
DTSTART:20240331T010000
END:DAYLIGHT
BEGIN:STANDARD
TZOFFSETFROM:+0200
TZOFFSETTO:+0100
TZNAME:CET
DTSTART:20241027T010000
END:STANDARD
BEGIN:DAYLIGHT
TZOFFSETFROM:+0100
TZOFFSETTO:+0200
TZNAME:CEST
DTSTART:20250330T010000
END:DAYLIGHT
BEGIN:STANDARD
TZOFFSETFROM:+0200
TZOFFSETTO:+0100
TZNAME:CET
DTSTART:20251026T010000
END:STANDARD
BEGIN:DAYLIGHT
TZOFFSETFROM:+0100
TZOFFSETTO:+0200
TZNAME:CEST
DTSTART:20260329T010000
END:DAYLIGHT
BEGIN:STANDARD
TZOFFSETFROM:+0200
TZOFFSETTO:+0100
TZNAME:CET
DTSTART:20261025T010000
END:STANDARD
END:VTIMEZONE
BEGIN:VEVENT
DTSTART;TZID=Europe/Warsaw:20251109T190000
DTEND;TZID=Europe/Warsaw:20251109T203000
DTSTAMP:20260425T040122
CREATED:20251014T105915Z
LAST-MODIFIED:20251014T110106Z
UID:19758-1762714800-1762720200@www.bibldop.pl
SUMMARY:Wieczór Muzyki Klasycznej w Skórzewie
DESCRIPTION:W niedzielę\, 9 listopada o godz. 19:00\, w kościele św. Marcina i św. Wincentego w Skórzewie odbędzie się koncert muzyki klasycznej – najpiękniejsze dzieła mistrzów\, takich jak J. S. Bach\, W. A. Mozart czy G. Bizet. \n\n\n\nWystąpią: Zhanna Rudaya – sopran Absolwentka Akademii Muzycznej im. I.J. Paderewskiego w Poznaniu\, laureatka międzynarodowych konkursów wokalnych „Bella Voce” (2023\, 2025) i „Złoty Lwiątko” w Lidzie. \n\n\n\nPiù Mosso – duet: Zofia Andersz (skrzypce) i Piotr Górski (fortepian\, organy) Artyści są laureatami licznych konkursów i występują na festiwalach muzyki organowej i kameralnej w całej Polsce. Ich repertuar obejmuje muzykę klasyczną\, filmową i rozrywkową w autorskich opracowaniach. \n\n\n\nHubert Trojanek – organy Absolwent i student Akademii Muzycznej w Poznaniu\, a także uczelni „Musikene” w San Sebastian. Laureat pierwszych miejsc na międzynarodowych konkursach organowych w Gdańsku (2024) i Kolonii (2025). \n\n\n\nKoncert będzie połączeniem głosu\, skrzypiec i brzmienia organów w przestrzeni świątyni\, która dzięki swojej akustyce tworzy unikalny nastrój. \n\n\n\nWstęp wolny. \n\n  
URL:https://www.bibldop.pl/wydarzenie/wieczor-muzyki-klasycznej-w-skorzewie/
ATTACH;FMTTYPE=image/jpeg:https://www.bibldop.pl/wp-content/uploads/2025/10/WPIS.jpg
END:VEVENT
END:VCALENDAR