BEGIN:VCALENDAR
VERSION:2.0
PRODID:-//Gminna Biblioteka Publiczna i Centrum Kultury w Dopiewie - ECPv6.15.20//NONSGML v1.0//EN
CALSCALE:GREGORIAN
METHOD:PUBLISH
X-ORIGINAL-URL:https://www.bibldop.pl
X-WR-CALDESC:Wydarzenia dla Gminna Biblioteka Publiczna i Centrum Kultury w Dopiewie
REFRESH-INTERVAL;VALUE=DURATION:PT1H
X-Robots-Tag:noindex
X-PUBLISHED-TTL:PT1H
BEGIN:VTIMEZONE
TZID:Europe/Warsaw
BEGIN:DAYLIGHT
TZOFFSETFROM:+0100
TZOFFSETTO:+0200
TZNAME:CEST
DTSTART:20240331T010000
END:DAYLIGHT
BEGIN:STANDARD
TZOFFSETFROM:+0200
TZOFFSETTO:+0100
TZNAME:CET
DTSTART:20241027T010000
END:STANDARD
BEGIN:DAYLIGHT
TZOFFSETFROM:+0100
TZOFFSETTO:+0200
TZNAME:CEST
DTSTART:20250330T010000
END:DAYLIGHT
BEGIN:STANDARD
TZOFFSETFROM:+0200
TZOFFSETTO:+0100
TZNAME:CET
DTSTART:20251026T010000
END:STANDARD
BEGIN:DAYLIGHT
TZOFFSETFROM:+0100
TZOFFSETTO:+0200
TZNAME:CEST
DTSTART:20260329T010000
END:DAYLIGHT
BEGIN:STANDARD
TZOFFSETFROM:+0200
TZOFFSETTO:+0100
TZNAME:CET
DTSTART:20261025T010000
END:STANDARD
END:VTIMEZONE
BEGIN:VEVENT
DTSTART;TZID=Europe/Warsaw:20251105T090000
DTEND;TZID=Europe/Warsaw:20251105T100000
DTSTAMP:20260425T040115
CREATED:20250522T135349Z
LAST-MODIFIED:20250522T144655Z
UID:18000-1762333200-1762336800@www.bibldop.pl
SUMMARY:Spotkanie autorskie z Elizą Piotrowską
DESCRIPTION:Eliza Piotrowska – polska pisarka\, poetka\, ilustratorka\, lektorka i tłumaczka książek dla dzieci. Stworzyła ponad 200 autorskich publikacji. Jej twórczość charakteryzuje się wielowymiarową głębią\, ponadczasowym poczuciem humoru oraz uwolnionym od codziennej dosłowności językiem. Wielopoziomowość tej literatury sprawia\, że jej odbiorcami są zarówno dzieci\, jak i dorośli. Współpracuje z czasopismami dla dzieci i pismami dla dorosłych\, poświęconymi literaturze dla najmłodszych. Zdobywczyni ważnych nagród za działalność literacką\, graficzną i edukacyjną. Tłumaczona na wiele języków\, w tym na: mongolski\, czeski\, hiszpański\, niemiecki\, koreański. Ambasadorka Fundacji  „Cała Polska Czyta Dzieciom”. \nSpotkanie dla grup zorganizowanych (klasy I) \nTemat: Gwara poznańska \nzapisy w filii bibliotecznej w Dąbrówce lub tel. 503 481 757
URL:https://www.bibldop.pl/wydarzenie/spotkanie-autorskie-z-eliza-piotrowska/
LOCATION:Filia biblioteczna w Dąbrówce\, ul. Malinowa 41\, Dąbrówka
CATEGORIES:Filia w Dąbrówce
ATTACH;FMTTYPE=image/png:https://www.bibldop.pl/wp-content/uploads/2025/05/Piotrowska.png
END:VEVENT
BEGIN:VEVENT
DTSTART;TZID=Europe/Warsaw:20251105T110000
DTEND;TZID=Europe/Warsaw:20251105T120000
DTSTAMP:20260425T040115
CREATED:20250522T135623Z
LAST-MODIFIED:20250522T144636Z
UID:18003-1762340400-1762344000@www.bibldop.pl
SUMMARY:Spotkanie autorskie z Elizą Piotrowską
DESCRIPTION:Eliza Piotrowska – polska pisarka\, poetka\, ilustratorka\, lektorka i tłumaczka książek dla dzieci. Stworzyła ponad 200 autorskich publikacji. Jej twórczość charakteryzuje się wielowymiarową głębią\, ponadczasowym poczuciem humoru oraz uwolnionym od codziennej dosłowności językiem. Wielopoziomowość tej literatury sprawia\, że jej odbiorcami są zarówno dzieci\, jak i dorośli. Współpracuje z czasopismami dla dzieci i pismami dla dorosłych\, poświęconymi literaturze dla najmłodszych. Zdobywczyni ważnych nagród za działalność literacką\, graficzną i edukacyjną. Tłumaczona na wiele języków\, w tym na: mongolski\, czeski\, hiszpański\, niemiecki\, koreański. Ambasadorka Fundacji  „Cała Polska Czyta Dzieciom”. \nSpotkanie dla grup zorganizowanych (klasy I) \nTemat: Gwara poznańska \nzapisy w filii bibliotecznej w Skórzewie lub tel. 884 206 308
URL:https://www.bibldop.pl/wydarzenie/spotkanie-autorskie-z-eliza-piotrowska-2/
LOCATION:Filia biblioteczna w Skórzewie\, ul. Kozierowskiego 1\, Skórzewo
CATEGORIES:Filia w Skórzewie
ATTACH;FMTTYPE=image/png:https://www.bibldop.pl/wp-content/uploads/2025/05/Piotrowska.png
END:VEVENT
END:VCALENDAR