BEGIN:VCALENDAR
VERSION:2.0
PRODID:-//Gminna Biblioteka Publiczna i Centrum Kultury w Dopiewie - ECPv6.15.20//NONSGML v1.0//EN
CALSCALE:GREGORIAN
METHOD:PUBLISH
X-WR-CALNAME:Gminna Biblioteka Publiczna i Centrum Kultury w Dopiewie
X-ORIGINAL-URL:https://www.bibldop.pl
X-WR-CALDESC:Wydarzenia dla Gminna Biblioteka Publiczna i Centrum Kultury w Dopiewie
REFRESH-INTERVAL;VALUE=DURATION:PT1H
X-Robots-Tag:noindex
X-PUBLISHED-TTL:PT1H
BEGIN:VTIMEZONE
TZID:Europe/Warsaw
BEGIN:DAYLIGHT
TZOFFSETFROM:+0100
TZOFFSETTO:+0200
TZNAME:CEST
DTSTART:20240331T010000
END:DAYLIGHT
BEGIN:STANDARD
TZOFFSETFROM:+0200
TZOFFSETTO:+0100
TZNAME:CET
DTSTART:20241027T010000
END:STANDARD
BEGIN:DAYLIGHT
TZOFFSETFROM:+0100
TZOFFSETTO:+0200
TZNAME:CEST
DTSTART:20250330T010000
END:DAYLIGHT
BEGIN:STANDARD
TZOFFSETFROM:+0200
TZOFFSETTO:+0100
TZNAME:CET
DTSTART:20251026T010000
END:STANDARD
BEGIN:DAYLIGHT
TZOFFSETFROM:+0100
TZOFFSETTO:+0200
TZNAME:CEST
DTSTART:20260329T010000
END:DAYLIGHT
BEGIN:STANDARD
TZOFFSETFROM:+0200
TZOFFSETTO:+0100
TZNAME:CET
DTSTART:20261025T010000
END:STANDARD
END:VTIMEZONE
BEGIN:VEVENT
DTSTART;TZID=Europe/Warsaw:20251005T080000
DTEND;TZID=Europe/Warsaw:20251011T203000
DTSTAMP:20260425T052427
CREATED:20250909T102453Z
LAST-MODIFIED:20250909T102453Z
UID:19351-1759651200-1760214600@www.bibldop.pl
SUMMARY:Dopiewskie Dni Seniora 2025
DESCRIPTION:Uroczystym koncertem Eleni w Szkole Podstawowej nr 2 im. Ignacego Jana Paderewskiego w Skórzewie rozpoczną się w niedzielę 5 października Dopiewskie Dni Seniora. Wydarzenie potrwa do 10 października. \nWydarzenie organizowane jest w związku z Międzynarodowym Dniem Osób Starszych\, którzy przypada na 1 października. Przez tydzień mieszkańcy Gminy Dopiewo w wieku senioralnym będą mogli bezpłatnie uczestniczyć w wydarzeniach kulturalnych\, edukacyjnych i ruchowych. \nW programie znalazły się m.in. koncerty\, zabawa taneczna\, warsztaty manualne\, zajęcia ruchowe\, spotkania z gośćmi i specjalistami (dietetykiem\, neurologopedą\, fizjoterapeutą). \nNa koncert inauguracyjny wejściówki będzie można odebrać w Gminnej Bibliotece Publicznej i Centrum Kultury w Dopiewie oraz w jej filiach\, w Centrum Usług Społecznych w Dopiewie oraz Urzędzie Gminy. Ich ilość będzie ograniczona. O terminie odbioru poinformujemy wkrótce. Zapisy obowiązują na wybrane warsztaty\, spotkania oraz zabawę taneczną\, która zaplanowana jest na czwartek 9 października. Szczegółowe informacje dostępne poniżej. \nWydarzenie przygotowane jest przez Połączone Siły Gminy Dopiewo – Urząd Gminy\, Gminną Bibliotekę Publiczną i Centrum Kultury\, Centrum Usług Społecznych\, Gminny Ośrodek Sportu i Rekreacji oraz Zakład Usług Komunalny Sp. z o.o.
URL:https://www.bibldop.pl/wydarzenie/dopiewskie-dni-seniora-2025/
CATEGORIES:Pozostałe
ATTACH;FMTTYPE=image/jpeg:https://www.bibldop.pl/wp-content/uploads/2025/09/Dopiewskie-Dni-Seniora-2025-1.jpg
END:VEVENT
BEGIN:VEVENT
DTSTART;TZID=Europe/Warsaw:20251009T180000
DTEND;TZID=Europe/Warsaw:20251009T193000
DTSTAMP:20260425T052427
CREATED:20250522T141619Z
LAST-MODIFIED:20250522T141619Z
UID:18006-1760032800-1760038200@www.bibldop.pl
SUMMARY:Spotkanie autorskie z Piotrem Milewskim
DESCRIPTION:Piotr Milewski – Studiował w Poznaniu\, Wiedniu\, Pasawie\, Filadelfii\, Sapporo i Otaru. Dziewięć lat spędził w Japonii. Stypendysta Ministra Kultury i Dziedzictwa Narodowego. Autor bestsellerowych książek: Transsyberyjska. Drogą żelazną przez Rosję i dalej (2021)\, Dzienniki japońskie. Zapiski z roku Królika i roku Konia (2022)\, Islandia albo najzimniejsze lato od pięćdziesięciu lat (2018)\, Planeta K. Pięć lat w japońskiej korporacji (2020) oraz Tokio. Opowieści z Dolnego Miasta (2023). Współautor książek: Hokkaido – Japonia bez gejsz i samurajów (2006)\, Azja. Opowieści podróżne (2018)\, Wyspa. Opowieści podróżne (2019) oraz Antologia Wyspy. Port pierwszy (2021).\nCzterokrotny laureat Nagrody Magellana Magazynu Literackiego „Książki”. Laureat nagrody Traveler za najlepszą książkę roku magazynu „National Geographic Polska” (Planeta K.). Współpracuje z polskimi i japońskimi czasopismami oraz z prasą polonijną. Wykłada na Polsko-Japońskiej Akademii Technik Komputerowych. \nZapisy na spotkanie w filii bibliotecznej w Skórzewie lub tel. 884 206 308\nIlość miejsc ograniczona
URL:https://www.bibldop.pl/wydarzenie/spotkanie-autorskie-z-piotrem-milewskim/
LOCATION:Filia biblioteczna w Skórzewie\, ul. Kozierowskiego 1\, Skórzewo
CATEGORIES:Filia w Skórzewie
ATTACH;FMTTYPE=image/png:https://www.bibldop.pl/wp-content/uploads/2025/05/Piotr-Milewski.png
END:VEVENT
END:VCALENDAR