BEGIN:VCALENDAR
VERSION:2.0
PRODID:-//Gminna Biblioteka Publiczna i Centrum Kultury w Dopiewie - ECPv6.15.20//NONSGML v1.0//EN
CALSCALE:GREGORIAN
METHOD:PUBLISH
X-ORIGINAL-URL:https://www.bibldop.pl
X-WR-CALDESC:Wydarzenia dla Gminna Biblioteka Publiczna i Centrum Kultury w Dopiewie
REFRESH-INTERVAL;VALUE=DURATION:PT1H
X-Robots-Tag:noindex
X-PUBLISHED-TTL:PT1H
BEGIN:VTIMEZONE
TZID:Europe/Warsaw
BEGIN:DAYLIGHT
TZOFFSETFROM:+0100
TZOFFSETTO:+0200
TZNAME:CEST
DTSTART:20240331T010000
END:DAYLIGHT
BEGIN:STANDARD
TZOFFSETFROM:+0200
TZOFFSETTO:+0100
TZNAME:CET
DTSTART:20241027T010000
END:STANDARD
BEGIN:DAYLIGHT
TZOFFSETFROM:+0100
TZOFFSETTO:+0200
TZNAME:CEST
DTSTART:20250330T010000
END:DAYLIGHT
BEGIN:STANDARD
TZOFFSETFROM:+0200
TZOFFSETTO:+0100
TZNAME:CET
DTSTART:20251026T010000
END:STANDARD
BEGIN:DAYLIGHT
TZOFFSETFROM:+0100
TZOFFSETTO:+0200
TZNAME:CEST
DTSTART:20260329T010000
END:DAYLIGHT
BEGIN:STANDARD
TZOFFSETFROM:+0200
TZOFFSETTO:+0100
TZNAME:CET
DTSTART:20261025T010000
END:STANDARD
END:VTIMEZONE
BEGIN:VEVENT
DTSTART;TZID=Europe/Warsaw:20250508T100000
DTEND;TZID=Europe/Warsaw:20250515T180000
DTSTAMP:20260425T124711
CREATED:20250410T122926Z
LAST-MODIFIED:20250410T123119Z
UID:17437-1746698400-1747332000@www.bibldop.pl
SUMMARY:Wystawa ilustracji Jana Marcina Szancera
DESCRIPTION:Jan Marcin Szancer – Grafik\, rysownik\, scenograf\, kostiumograf\, znany głównie jako ilustrator książek dla dzieci\, stały współpracownik Jana Brzechwy. Profesor warszawskiej ASP. Urodził się 12 listopada 1902 roku w Krakowie\, zmarł 21 marca 1973 roku w Warszawie. Jego rysunki przeszły do kanonu literatury dziecięcej. Jeden z najwybitniejszych polskich rysowników XX wieku\, nazywany “królem ilustratorów” czy “malarzem dziecięcych marzeń”\, zasłynął jako ilustrator ok. 300 książek. Są wśród nich: “Akademia pana Kleksa”\, “O Janku\, co psom szył buty”\, “Pinokio”\, “Pan kotek był chory”\, “O krasnoludkach i o sierotce Marysi”\, “Brzechwa dzieciom”\, “Lokomotywa”\, “Rzepka”\, “Ptasie radio”\, “Dziadek do orzechów”\, “Baśnie” Andersena\, “Miś Paddington”\, “Przygody Tomka Sawyera”. Dla dorosłych zilustrował “Bajki” i “Satyry” Ignacego Krasickiego\, “Pana Tadeusza” Adama Mickiewicza\, Trylogię Henryka Sienkiewicza\, książki Amicisa\, Collodiego\, Cervantesa\, Haška\, Edith Nesbit\, Puszkina\, Swifta\, Twaina. \nWystawę można oglądać w godzinach otwarcia filii bibliotecznej w Dąbrówce \n 
URL:https://www.bibldop.pl/wydarzenie/wystawa-ilustracji-marcina-szancera/
LOCATION:Filia biblioteczna w Dąbrówce\, ul. Malinowa 41\, Dąbrówka
CATEGORIES:Filia w Dąbrówce
ATTACH;FMTTYPE=image/webp:https://www.bibldop.pl/wp-content/uploads/2025/04/Szancer.webp
END:VEVENT
BEGIN:VEVENT
DTSTART;TZID=Europe/Warsaw:20250508T100000
DTEND;TZID=Europe/Warsaw:20250530T150000
DTSTAMP:20260425T124711
CREATED:20250411T103042Z
LAST-MODIFIED:20250411T103042Z
UID:17445-1746698400-1748617200@www.bibldop.pl
SUMMARY:Wystawa prac uczestników zajęć Rysunku i Malarstwa pod kierunkiem Małgorzaty Fabian Stamm "Lubię tu być"
DESCRIPTION:W filii bibliotecznej w Skórzewie odbędzie się wystawa prac uczestników zajęć rysunku i malarstwa. Temat wystawy w tym roku to: „Lubię tu być”.\nWystawę można oglądać w terminie 8-30 maja w filii bibliotecznej w Skórzewie w godzinach otwarcia.
URL:https://www.bibldop.pl/wydarzenie/wystawa-prac-uczestnikow-zajec-rysunku-i-malarstwa-pod-kierunkiem-malgorzaty-fabian-stamm-lubie-tu-byc/
LOCATION:Filia biblioteczna w Skórzewie\, ul. Kozierowskiego 1\, Skórzewo
CATEGORIES:Filia w Skórzewie
ATTACH;FMTTYPE=image/jpeg:https://www.bibldop.pl/wp-content/uploads/2025/04/wernisaz.jpg
END:VEVENT
BEGIN:VEVENT
DTSTART;TZID=Europe/Warsaw:20250508T110000
DTEND;TZID=Europe/Warsaw:20250515T180000
DTSTAMP:20260425T124711
CREATED:20250317T162130Z
LAST-MODIFIED:20250506T102017Z
UID:17298-1746702000-1747332000@www.bibldop.pl
SUMMARY:Wystawa malarstwa Piotra Paraniaka "Dłonie-Relacje"
DESCRIPTION:Piotr Paraniak – Ur. w 1976r. w Słubicach. W 2001r uzyskał dyplom z malarstwa\, krytyki promocji i pedagogiki sztuki na ASP w Poznaniu. W jego CV są wystawy indywidualne i zbiorowe\, m.in. : K.E.O. Gallery w Atenach (2009\, 2012). Brick Line Gallery w Londynie (2015)\, Galeria u Jezuitów w Poznaniu (2011)\, Festiwal Młodej Sztuki lAbiRynT\, Słubice/Frankfurt/o (2016-2018)\, AFF Warszawa (2016-2018) \, WAF – Warszawa\, 2021. Zajmuje się również konserwcją zabytków\, krytyką\, promocją i pedagogiką sztuki.Artysta balansuje między abstrakcją a surrealizmem\, a „Dłonie” to część cyklu\, który podejmuje problematykę czasoprzestrzeni i przemijania w szerszej perspektywie. Zagwarantowane hipnotyzujące obrazy oraz moment by na chwilę pobyć ze sobą i sztuką. Dotychczasowa twórczość artysty składa się z trzech cykli: Kręgi\, Okna i Dłonie. Główną ideą i motywem przewodnim dwóch pierwszych cykli było poszukiwanie horyzontu\, jako ucieczki przed dotychczasowym życiem\, gdzie sam proces tworzenia był oczyszczający i stał się dla niego wyzwoleniem\, początkiem nowego. Piotr Paraniak poszukuje horyzontu\, aby go następnie zaakceptować lub kontestować\, gdyż horyzont fizycznie nie istnieje\, jest zjawiskiem optycznym\, jak wg słów Thomasa Bernharda\, – “horyzont\, to najpożyteczniejsza ze wszystkich bzdur”. \nCykl DŁONIE dotyka relacji międzyludzkich w obliczu sytuacji\, których codziennie doświadczamy. Oscylujemy pomiędzy empatią a asertywnością\, miłością i nienawiścią. Odnajdując się w podobnej sytuacji\, diametralnie różnie na nie reagujemy – zwalczamy się\, pomagamy\, poszukujemy\, separujemy. \nWydarzenie zorganizowane w ramach projektu : III Powiatowe Dni Sztuki i Zdrowia
URL:https://www.bibldop.pl/wydarzenie/wystawa-malarstwa-piotra-paraniaka/
LOCATION:Filia biblioteczna w Konarzewie\, ul. Poznańska 19a\, Konarzewo
CATEGORIES:Filia w Konarzewie
ATTACH;FMTTYPE=image/jpeg:https://www.bibldop.pl/wp-content/uploads/2025/03/Paraniak.jpg
END:VEVENT
BEGIN:VEVENT
DTSTART;TZID=Europe/Warsaw:20250513T160000
DTEND;TZID=Europe/Warsaw:20250513T180000
DTSTAMP:20260425T124711
CREATED:20250410T125734Z
LAST-MODIFIED:20250410T125734Z
UID:17442-1747152000-1747159200@www.bibldop.pl
SUMMARY:Teatrzyk Kamishibai – czytanie bajek dla najmłodszych
DESCRIPTION:Zapraszamy najmłodszych na czytanie bajek z bibliotekarzem. \nKamishibai to teatrzyk obrazkowy ukryty w “drewnianej skrzynce”. Z zewnątrz jest niepozorna. Zamknięta przypomina trochę walizkę. Lecz wkrótce po otworzeniu jej tajemniczych drzwiczek cała gromadka dzieci zamiera jak zahipnotyzowana. Kamishibai służy do prezentowania widzom ilustracji\, które tworzą fabułę. Zbiór obrazków (umożliwiających przedstawienie całej opowieści)\, ułożonych jeden po drugim\, umieszczany jest w butai – drewnianej skrzynce. Na odwrocie każdej ilustracji znajduje się fragment tekstu czytanego głośno przez narratora siedzącego przy teatrzyku. Tekst do obrazka pokazywanego w danym momencie\, jest wydrukowany z tyłu obrazka go poprzedzającego\, i jest widoczny jedynie dla czytającego. Dzieci natomiast oglądają piękne ilustracje zmieniające się jak slajdy. Ich prezentowaniu towarzyszy wyjątkowy nastrój\, stworzony za sprawą teatrzyku kamishibai.
URL:https://www.bibldop.pl/wydarzenie/teatrzyk-kamishibai-czytanie-bajek-dla-najmlodszych/
LOCATION:Filia biblioteczna w Dąbrówce\, ul. Malinowa 41\, Dąbrówka
CATEGORIES:Filia w Dąbrówce
ATTACH;FMTTYPE=image/jpeg:https://www.bibldop.pl/wp-content/uploads/2025/04/IMG-20250410-WA0000.jpg
END:VEVENT
BEGIN:VEVENT
DTSTART;TZID=Europe/Warsaw:20250513T170000
DTEND;TZID=Europe/Warsaw:20250513T180000
DTSTAMP:20260425T124711
CREATED:20250414T125836Z
LAST-MODIFIED:20250414T125936Z
UID:17455-1747155600-1747159200@www.bibldop.pl
SUMMARY:Tajniki dobrego makijażu\, warsztaty z Panią Agatą Siedlik
DESCRIPTION:Zapraszamy wszystkie panie 13 maja do filii bibliotecznej w Konarzewie na spotkanie i warsztaty\, które zostaną przeprowadzone pod czujnym okiem  Agaty Siedlik – profesjonalnej makijażystki i kosmetolog. Dowiemy się o sekretach perfekcyjnego a zarazem delikatnego makijażu krok po kroku. Jak wybrać odpowiedni podkład?\, Jak zrobić idealną kreskę na powiece?\, Jak w łatwy sposób konturować twarz?\, Jak dopasować makijaż do okularów?\, Co powinno się znaleźć w makijażowym niezbędniku? Na wszystkie te pytania i wiele\, wiele innych znajdziesz odpowiedzi na majowych warsztatach. Niezbędne będzie przyniesienie ze sobą kosmetyków\, które używamy do robienia makijażu jak również do demakijażu oraz lusterka. Bez względu na to ile wydajesz na kosmetyki i ile czasu poświęcasz na makijaż\, Pani Agata pokaże Ci co zrobić aby wyglądać olśniewająco. Jej fachowe rady przydadzą się każdej kobiecie\, niezależnie od wieku\, typu urody oraz umiejętności w sztuce makijażu.\nZapraszamy wszystkich do zapisów\, ponieważ ilość miejsc jest ograniczona. \nWstęp wolny! \nZapisy pod nr tel 694 904 690
URL:https://www.bibldop.pl/wydarzenie/tajniki-dobrego-makijazu-warsztaty-z-pania-agata-siedlik/
LOCATION:Filia biblioteczna w Konarzewie\, ul. Poznańska 19a\, Konarzewo
CATEGORIES:Filia w Konarzewie
ATTACH;FMTTYPE=image/jpeg:https://www.bibldop.pl/wp-content/uploads/2025/04/mak.jpeg
END:VEVENT
BEGIN:VEVENT
DTSTART;TZID=Europe/Warsaw:20250513T180000
DTEND;TZID=Europe/Warsaw:20250513T190000
DTSTAMP:20260425T124711
CREATED:20250411T104736Z
LAST-MODIFIED:20250411T105418Z
UID:17451-1747159200-1747162800@www.bibldop.pl
SUMMARY:Majowy Dyskusyjny Klub Książki
DESCRIPTION:Zapraszamy na kolejne spotkanie Dyskusyjnego Klubu Książki. Tym razem porozmawiamy o książce „Osiem gór” i W dolinie” Paulo Cognettiego.\n“Osiem gór” jest to niezwykła opowieść\, która przenosi czytelników w malowniczy świat górskich krajobrazów\, gdzie przyroda staje się nie tylko tłem\, ale i ważnym bohaterem tej historii. W tej społeczno-obyczajowej powieści zagranicznej autor zabiera nas w podróż\, która z pewnością poruszy serca wszystkich miłośników gór i natury. \n“W dolinie” – Pozwól się porwać tej niezwykłej opowieści o rodzinie\, naturze i poszukiwaniu własnego miejsca w świecie. “W dolinie” Paolo Cognettiego to lektura\, która nie tylko porusza serce\, ale także skłania do głębokiej refleksji nad własnym życiem i wyborami. \nZapraszamy zarówno stałych uczestników\, jak i osoby\, które chcą dołączyć do klubu. \nDo zobaczenia przy książce!
URL:https://www.bibldop.pl/wydarzenie/majowy-dyskusyjny-klub-ksiazki/
LOCATION:Filia biblioteczna w Skórzewie\, ul. Kozierowskiego 1\, Skórzewo
CATEGORIES:Filia w Skórzewie
ATTACH;FMTTYPE=image/jpeg:https://www.bibldop.pl/wp-content/uploads/2025/03/DKK.jpg
END:VEVENT
BEGIN:VEVENT
DTSTART;TZID=Europe/Warsaw:20250513T180000
DTEND;TZID=Europe/Warsaw:20250513T190000
DTSTAMP:20260425T124711
CREATED:20250422T120312Z
LAST-MODIFIED:20250422T120507Z
UID:17541-1747159200-1747162800@www.bibldop.pl
SUMMARY:Spotkanie ze Zbigniewem Zakrzewskim i Justinem Nnorom
DESCRIPTION:To niepowtarzalna okazja\, by spotkać się z piłkarzami\, którzy na boiskach Ekstraklasy zostawili serce\, a teraz dzielą się swoją wiedzą\, pasją i doświadczeniem z życia po karierze sportowej. \nZbigniew Zakrzewski – napastnik\, który przez lata reprezentował barwy „Kolejorza”\, jest nie tylko ikoną poznańskiego futbolu\, ale też osobą zaangażowaną w działania społeczne i sportowe w regionie. \nJustin Nnorom – były zawodnik Lecha\, dziś aktywny działacz społeczny\,  promotor integracji międzykulturowej. \nPodczas spotkania usłyszycie nie tylko piłkarskie anegdoty i wspomnienia z szatni\, ale również refleksje o wyzwaniach życia po zejściu z murawy\, o odpowiedzialności społecznej sportowców i o tym\, jak sport może łączyć ludzi ponad podziałami. \nZapisy na spotkanie :  tel. 539 360 959 \n  \n  \n 
URL:https://www.bibldop.pl/wydarzenie/spotkanie-ze-zbigniewem-zakrzewskim-i-justinem-nnorom/
LOCATION:Biblioteka w Dopiewie\, ul. Konarzewska 12\, Dopiewo\, Poland
CATEGORIES:Biblioteka w Dopiewie
ATTACH;FMTTYPE=image/png:https://www.bibldop.pl/wp-content/uploads/2025/04/Spotkanie-autorskie-1.png
END:VEVENT
END:VCALENDAR