BEGIN:VCALENDAR
VERSION:2.0
PRODID:-//Gminna Biblioteka Publiczna i Centrum Kultury w Dopiewie - ECPv6.15.20//NONSGML v1.0//EN
CALSCALE:GREGORIAN
METHOD:PUBLISH
X-WR-CALNAME:Gminna Biblioteka Publiczna i Centrum Kultury w Dopiewie
X-ORIGINAL-URL:https://www.bibldop.pl
X-WR-CALDESC:Wydarzenia dla Gminna Biblioteka Publiczna i Centrum Kultury w Dopiewie
REFRESH-INTERVAL;VALUE=DURATION:PT1H
X-Robots-Tag:noindex
X-PUBLISHED-TTL:PT1H
BEGIN:VTIMEZONE
TZID:Europe/Warsaw
BEGIN:DAYLIGHT
TZOFFSETFROM:+0100
TZOFFSETTO:+0200
TZNAME:CEST
DTSTART:20240331T010000
END:DAYLIGHT
BEGIN:STANDARD
TZOFFSETFROM:+0200
TZOFFSETTO:+0100
TZNAME:CET
DTSTART:20241027T010000
END:STANDARD
BEGIN:DAYLIGHT
TZOFFSETFROM:+0100
TZOFFSETTO:+0200
TZNAME:CEST
DTSTART:20250330T010000
END:DAYLIGHT
BEGIN:STANDARD
TZOFFSETFROM:+0200
TZOFFSETTO:+0100
TZNAME:CET
DTSTART:20251026T010000
END:STANDARD
BEGIN:DAYLIGHT
TZOFFSETFROM:+0100
TZOFFSETTO:+0200
TZNAME:CEST
DTSTART:20260329T010000
END:DAYLIGHT
BEGIN:STANDARD
TZOFFSETFROM:+0200
TZOFFSETTO:+0100
TZNAME:CET
DTSTART:20261025T010000
END:STANDARD
END:VTIMEZONE
BEGIN:VEVENT
DTSTART;TZID=Europe/Warsaw:20250508T100000
DTEND;TZID=Europe/Warsaw:20250515T180000
DTSTAMP:20260425T124603
CREATED:20250410T122926Z
LAST-MODIFIED:20250410T123119Z
UID:17437-1746698400-1747332000@www.bibldop.pl
SUMMARY:Wystawa ilustracji Jana Marcina Szancera
DESCRIPTION:Jan Marcin Szancer – Grafik\, rysownik\, scenograf\, kostiumograf\, znany głównie jako ilustrator książek dla dzieci\, stały współpracownik Jana Brzechwy. Profesor warszawskiej ASP. Urodził się 12 listopada 1902 roku w Krakowie\, zmarł 21 marca 1973 roku w Warszawie. Jego rysunki przeszły do kanonu literatury dziecięcej. Jeden z najwybitniejszych polskich rysowników XX wieku\, nazywany “królem ilustratorów” czy “malarzem dziecięcych marzeń”\, zasłynął jako ilustrator ok. 300 książek. Są wśród nich: “Akademia pana Kleksa”\, “O Janku\, co psom szył buty”\, “Pinokio”\, “Pan kotek był chory”\, “O krasnoludkach i o sierotce Marysi”\, “Brzechwa dzieciom”\, “Lokomotywa”\, “Rzepka”\, “Ptasie radio”\, “Dziadek do orzechów”\, “Baśnie” Andersena\, “Miś Paddington”\, “Przygody Tomka Sawyera”. Dla dorosłych zilustrował “Bajki” i “Satyry” Ignacego Krasickiego\, “Pana Tadeusza” Adama Mickiewicza\, Trylogię Henryka Sienkiewicza\, książki Amicisa\, Collodiego\, Cervantesa\, Haška\, Edith Nesbit\, Puszkina\, Swifta\, Twaina. \nWystawę można oglądać w godzinach otwarcia filii bibliotecznej w Dąbrówce \n 
URL:https://www.bibldop.pl/wydarzenie/wystawa-ilustracji-marcina-szancera/
LOCATION:Filia biblioteczna w Dąbrówce\, ul. Malinowa 41\, Dąbrówka
CATEGORIES:Filia w Dąbrówce
ATTACH;FMTTYPE=image/webp:https://www.bibldop.pl/wp-content/uploads/2025/04/Szancer.webp
END:VEVENT
BEGIN:VEVENT
DTSTART;TZID=Europe/Warsaw:20250508T100000
DTEND;TZID=Europe/Warsaw:20250530T150000
DTSTAMP:20260425T124603
CREATED:20250411T103042Z
LAST-MODIFIED:20250411T103042Z
UID:17445-1746698400-1748617200@www.bibldop.pl
SUMMARY:Wystawa prac uczestników zajęć Rysunku i Malarstwa pod kierunkiem Małgorzaty Fabian Stamm "Lubię tu być"
DESCRIPTION:W filii bibliotecznej w Skórzewie odbędzie się wystawa prac uczestników zajęć rysunku i malarstwa. Temat wystawy w tym roku to: „Lubię tu być”.\nWystawę można oglądać w terminie 8-30 maja w filii bibliotecznej w Skórzewie w godzinach otwarcia.
URL:https://www.bibldop.pl/wydarzenie/wystawa-prac-uczestnikow-zajec-rysunku-i-malarstwa-pod-kierunkiem-malgorzaty-fabian-stamm-lubie-tu-byc/
LOCATION:Filia biblioteczna w Skórzewie\, ul. Kozierowskiego 1\, Skórzewo
CATEGORIES:Filia w Skórzewie
ATTACH;FMTTYPE=image/jpeg:https://www.bibldop.pl/wp-content/uploads/2025/04/wernisaz.jpg
END:VEVENT
BEGIN:VEVENT
DTSTART;TZID=Europe/Warsaw:20250508T110000
DTEND;TZID=Europe/Warsaw:20250515T180000
DTSTAMP:20260425T124603
CREATED:20250317T162130Z
LAST-MODIFIED:20250506T102017Z
UID:17298-1746702000-1747332000@www.bibldop.pl
SUMMARY:Wystawa malarstwa Piotra Paraniaka "Dłonie-Relacje"
DESCRIPTION:Piotr Paraniak – Ur. w 1976r. w Słubicach. W 2001r uzyskał dyplom z malarstwa\, krytyki promocji i pedagogiki sztuki na ASP w Poznaniu. W jego CV są wystawy indywidualne i zbiorowe\, m.in. : K.E.O. Gallery w Atenach (2009\, 2012). Brick Line Gallery w Londynie (2015)\, Galeria u Jezuitów w Poznaniu (2011)\, Festiwal Młodej Sztuki lAbiRynT\, Słubice/Frankfurt/o (2016-2018)\, AFF Warszawa (2016-2018) \, WAF – Warszawa\, 2021. Zajmuje się również konserwcją zabytków\, krytyką\, promocją i pedagogiką sztuki.Artysta balansuje między abstrakcją a surrealizmem\, a „Dłonie” to część cyklu\, który podejmuje problematykę czasoprzestrzeni i przemijania w szerszej perspektywie. Zagwarantowane hipnotyzujące obrazy oraz moment by na chwilę pobyć ze sobą i sztuką. Dotychczasowa twórczość artysty składa się z trzech cykli: Kręgi\, Okna i Dłonie. Główną ideą i motywem przewodnim dwóch pierwszych cykli było poszukiwanie horyzontu\, jako ucieczki przed dotychczasowym życiem\, gdzie sam proces tworzenia był oczyszczający i stał się dla niego wyzwoleniem\, początkiem nowego. Piotr Paraniak poszukuje horyzontu\, aby go następnie zaakceptować lub kontestować\, gdyż horyzont fizycznie nie istnieje\, jest zjawiskiem optycznym\, jak wg słów Thomasa Bernharda\, – “horyzont\, to najpożyteczniejsza ze wszystkich bzdur”. \nCykl DŁONIE dotyka relacji międzyludzkich w obliczu sytuacji\, których codziennie doświadczamy. Oscylujemy pomiędzy empatią a asertywnością\, miłością i nienawiścią. Odnajdując się w podobnej sytuacji\, diametralnie różnie na nie reagujemy – zwalczamy się\, pomagamy\, poszukujemy\, separujemy. \nWydarzenie zorganizowane w ramach projektu : III Powiatowe Dni Sztuki i Zdrowia
URL:https://www.bibldop.pl/wydarzenie/wystawa-malarstwa-piotra-paraniaka/
LOCATION:Filia biblioteczna w Konarzewie\, ul. Poznańska 19a\, Konarzewo
CATEGORIES:Filia w Konarzewie
ATTACH;FMTTYPE=image/jpeg:https://www.bibldop.pl/wp-content/uploads/2025/03/Paraniak.jpg
END:VEVENT
BEGIN:VEVENT
DTSTART;TZID=Europe/Warsaw:20250512T170000
DTEND;TZID=Europe/Warsaw:20250512T180000
DTSTAMP:20260425T124603
CREATED:20250411T103731Z
LAST-MODIFIED:20250411T103731Z
UID:17448-1747069200-1747072800@www.bibldop.pl
SUMMARY:Wernisaż wystawy prac uczestników zajęć Rysunku i Malarstwa
DESCRIPTION:Podczas wernisażu młodzi artyści wraz z prowadzącą zajęcia zaprezentują swoje prace które powstawały podczas cyklicznych zajęć Rysunku i Malarstwa w Skórzewie.
URL:https://www.bibldop.pl/wydarzenie/wernisaz-wystawy-prac-uczestnikow-zajec-rysunku-i-malarstwa/
LOCATION:Filia biblioteczna w Skórzewie\, ul. Kozierowskiego 1\, Skórzewo
CATEGORIES:Filia w Skórzewie
ATTACH;FMTTYPE=image/jpeg:https://www.bibldop.pl/wp-content/uploads/2025/04/wernisaz-2.jpg
END:VEVENT
BEGIN:VEVENT
DTSTART;TZID=Europe/Warsaw:20250512T170000
DTEND;TZID=Europe/Warsaw:20250512T183000
DTSTAMP:20260425T124603
CREATED:20241212T095959Z
LAST-MODIFIED:20241212T100141Z
UID:16370-1747069200-1747074600@www.bibldop.pl
SUMMARY:Spotkanie Klubu Seniora Promyk
DESCRIPTION:
URL:https://www.bibldop.pl/wydarzenie/spotkanie-klubu-seniora-promyk-13/
LOCATION:Sala widowiskowa w Konarzewie\, Poznańska 19\, Konarzewo\, Poland
CATEGORIES:CRK w Konarzewie
ATTACH;FMTTYPE=image/jpeg:https://www.bibldop.pl/wp-content/uploads/2021/07/klub-seniora-scaled.jpg
END:VEVENT
BEGIN:VEVENT
DTSTART;TZID=Europe/Warsaw:20250512T170000
DTEND;TZID=Europe/Warsaw:20250512T183000
DTSTAMP:20260425T124603
CREATED:20250228T120748Z
LAST-MODIFIED:20250228T120748Z
UID:17159-1747069200-1747074600@www.bibldop.pl
SUMMARY:Spotkanie autorskie z Miłoszem Szymańskim
DESCRIPTION:Jak pisze sam autor:  “Mołdawii świat nie szanuje\, bo jej nie zna. Z niczym mu się nie kojarzy i niczego się po niej nie spodziewa. Mołdawia tymczasem powoli znika. Każdego dnia Mołdawianie gaszą światła w swoich domach i wyjeżdżają\, szukając lepszego życia.” \n\n\nPan Miłosz\, absolwent Uniwersytetu im. Adama Mickiewicza w Poznaniu i Akademii Morskiej w Szczecinie\, mechanik okrętowy\, analityk\, włóczęga\, historyk-amator\, fan płowu\, kimchi i cyrylicy\, autor podcastu o polityce zagranicznej „Za Rubieżą”. \nWięcej o autorze na: https://zarubieza.pl/ \nWstęp wolny. Ilość miejsc ograniczona.\nZapisy tel. 503 481 757
URL:https://www.bibldop.pl/wydarzenie/spotkanie-autorskie-z-miloszem-szymanskim/
LOCATION:Filia biblioteczna w Dąbrówce\, ul. Malinowa 41\, Dąbrówka
CATEGORIES:Filia w Dąbrówce
ATTACH;FMTTYPE=image/jpeg:https://www.bibldop.pl/wp-content/uploads/2025/02/Milosz-Szymanski-wpis.jpg
END:VEVENT
BEGIN:VEVENT
DTSTART;TZID=Europe/Warsaw:20250512T180000
DTEND;TZID=Europe/Warsaw:20250512T190000
DTSTAMP:20260425T124603
CREATED:20250414T151207Z
LAST-MODIFIED:20250414T151207Z
UID:17468-1747072800-1747076400@www.bibldop.pl
SUMMARY:Prelekcja o miodach
DESCRIPTION:Zapraszamy na wyjątkowe spotkanie z państwem Bartkowiak\, którzy podzielą się z nami swoją pasją i wiedzą na temat pszczelarstwa. Ten piękny zawód\, przekazywany z pokolenia na pokolenie w ich rodzinie\, to nie tylko praca\, ale także sposób na życie\, który łączy tradycję z miłością do natury. Podczas spotkania państwo Bartkowiak opowiedzą o swoich doświadczeniach\, wyzwaniach oraz radościach związanych z hodowlą pszczół. Dowiemy się\, jak ważne są te małe owady dla naszego ekosystemu oraz jakie korzyści płyną z ich obecności. Będzie to doskonała okazja\, aby zadać pytania\, posłuchać fascynujących historii i zainspirować się ich pasją do pszczelarstwa. \nBędzie możliwość degustacji oraz zakupu pszczelich wyrobów. \nWstęp wolny. Ilość miejsc jest ograniczona.\nZapisy pod nr tel 694 904 690
URL:https://www.bibldop.pl/wydarzenie/prelekcja-o-miodach/
LOCATION:Filia biblioteczna w Konarzewie\, ul. Poznańska 19a\, Konarzewo
CATEGORIES:Filia w Konarzewie
ATTACH;FMTTYPE=image/jpeg:https://www.bibldop.pl/wp-content/uploads/2025/04/Miody.jpg
END:VEVENT
END:VCALENDAR