BEGIN:VCALENDAR
VERSION:2.0
PRODID:-//Gminna Biblioteka Publiczna i Centrum Kultury w Dopiewie - ECPv6.15.20//NONSGML v1.0//EN
CALSCALE:GREGORIAN
METHOD:PUBLISH
X-ORIGINAL-URL:https://www.bibldop.pl
X-WR-CALDESC:Wydarzenia dla Gminna Biblioteka Publiczna i Centrum Kultury w Dopiewie
REFRESH-INTERVAL;VALUE=DURATION:PT1H
X-Robots-Tag:noindex
X-PUBLISHED-TTL:PT1H
BEGIN:VTIMEZONE
TZID:Europe/Warsaw
BEGIN:DAYLIGHT
TZOFFSETFROM:+0100
TZOFFSETTO:+0200
TZNAME:CEST
DTSTART:20240331T010000
END:DAYLIGHT
BEGIN:STANDARD
TZOFFSETFROM:+0200
TZOFFSETTO:+0100
TZNAME:CET
DTSTART:20241027T010000
END:STANDARD
BEGIN:DAYLIGHT
TZOFFSETFROM:+0100
TZOFFSETTO:+0200
TZNAME:CEST
DTSTART:20250330T010000
END:DAYLIGHT
BEGIN:STANDARD
TZOFFSETFROM:+0200
TZOFFSETTO:+0100
TZNAME:CET
DTSTART:20251026T010000
END:STANDARD
BEGIN:DAYLIGHT
TZOFFSETFROM:+0100
TZOFFSETTO:+0200
TZNAME:CEST
DTSTART:20260329T010000
END:DAYLIGHT
BEGIN:STANDARD
TZOFFSETFROM:+0200
TZOFFSETTO:+0100
TZNAME:CET
DTSTART:20261025T010000
END:STANDARD
END:VTIMEZONE
BEGIN:VEVENT
DTSTART;TZID=Europe/Warsaw:20250324T100000
DTEND;TZID=Europe/Warsaw:20250411T150000
DTSTAMP:20260425T141340
CREATED:20250324T070050Z
LAST-MODIFIED:20250321T074211Z
UID:17314-1742810400-1744383600@www.bibldop.pl
SUMMARY:Rodzinne JAJA - zabawa dla rodzin
DESCRIPTION:🎉 Ale jaja! Lubicie robić rodzinne jaja?? \n😃 Jeśli tak\, to super się składa\, a my Wam w tym pomożemy! Zapraszamy 16 rodzin do zabawy w malowanie jajek. Kto pierwszy ten lepszy 🙂 🐣 \nI to nie są byle jakie jajka. To aż 1-metrowe pisanki-olbrzymy! 😱😱 Te wielkie jajka staną się wielkanocną ozdobą naszej Biblioteki i Centrum Kultury w Dopiewie. Jak dołączyć? To proste! 😊 \nZrób to krok po kroku: \n👉 W dniach 24.03-1.04. zgłoś chęć udziału\, dzwoniąc pod numer 600 469 489 \n👉 W dniach 1-10.04.odbierz pisankę-olbrzyma i zabierz ją do domu. \n👉 Rodzinna zabawa – pomalujcie jajko z obu stron dowolną techniką 🎨 \n👉 Zróbcie sobie rodzinną fotę z pomalowanym jajem i wyślijcie ją na ck@bibldop.pl 📸 \n👉 Do dnia 11.04.2025 przynieście pisankę do Centrum Kultury  i odbierzcie niespodziankę dla całej rodziny 🎁 \nCzekamy na Wasze kreatywne pomysły i super zabawę! Do dzieła\, zgłaszajcie się szybko – miejsca są ograniczone! 🎨💥 \nPełen Regulamin i Karta Zgłoszeniowa dostępne TUTAJ\n#RodzinnaZabawa #WielkanocneJajka #MalowanieJajek #Dopiewo #PisankiOlbrzymy #CentrumKultury
URL:https://www.bibldop.pl/wydarzenie/rodzinne-jaja-zabawa-dla-rodzin/
LOCATION:Biblioteka w Dopiewie\, ul. Konarzewska 12\, Dopiewo\, Poland
CATEGORIES:Biblioteka w Dopiewie
ATTACH;FMTTYPE=image/jpeg:https://www.bibldop.pl/wp-content/uploads/2025/03/Rodzinne-Jaja-2025-wpis.jpg
END:VEVENT
BEGIN:VEVENT
DTSTART;TZID=Europe/Warsaw:20250407T100000
DTEND;TZID=Europe/Warsaw:20250407T110000
DTSTAMP:20260425T141340
CREATED:20250324T153729Z
LAST-MODIFIED:20250325T120708Z
UID:17327-1744020000-1744023600@www.bibldop.pl
SUMMARY:Święta w Starym Knedelkowie  czyli wielkanocne warsztaty z Joanną Krzyżanek - autorką książek dla dzieci
DESCRIPTION:Zapraszamy grupy zorganizowane!\nWielkanocne warsztaty z Joanną Krzyżanek to doskonała okazja\, by poznać autorkę książek dla dzieci\, która swoją twórczością oczarowała już wielu młodych czytelników. Krzyżanek\, twórczyni takich postaci jak Cecylka Knedelek\, Lamelia Szczęśliwa\, czy rodzina Wafelków\, potrafi przenieść dzieci w świat wyobraźni pełen zabawnych przygód i ciepłych\, pełnych emocji opowieści. \nPodczas warsztatu\n1. Pojedziemy do Starego Knedelkowa.\n2. Poznamy Cecylkę Knedelek\, gąskę Walerkę\, Kurę Adelę oraz innych  mieszkańców miasteczka.\n3. Prześledzimy pojawienie się na świecie gąski Walerki.\n4. Dowiemy się\, dlaczego Walerka nie chciała przygotować świątecznego koszyczka i co należy do niego włożyć.\n5. Pomożemy mieszkankom i mieszkańców w wiosennych porządkach.\n6. Posłuchamy opowiastek o świętach.\n7. Porozmawiamy o kraszankach\, pisankach\, bukszpanie\, palmach\, maślanym baranku\, kurczątkach\, zajączkach\, śmigusie-dyngusie i świątecznych tradycjach w różnych częściach świata.\n8. Otrzymamy szczyptę świątecznej ortografii.\n9. Wykonany papierowe gąski Walerki. \n\nMacie ochotę wziąć udział?\nZapraszamy do kontaktu z Biblioteką w Dopiewie pod nr tel. 539 360 959 (liczba miejsc jest ograniczona) \n  \nJoanna Krzyżanek\nMa czarne włosy przypominające druciki\, niebieskie oczy i kilka pięknych zmarszczek na czole. Jest miłośniczką liter i gałgankowych gąsek. Pisze opowiastki\, rymowanki i listy do przyjaciół. Lubi biegać nad rzeką\, podróżować pociągiem\, pić herbatę z różaną konfiturą\, zbierać kasztany\, czytać książki\, podziwiać kolorowe cynie\, obserwować krople deszczu spływające po dachówkach\, siedzieć w kawiarence i łapać śniegowe płatki. Jest właścicielką kremowej komody\, czarnego roweru w stokrotki\, glinianego dzbanuszka i starego widelca. Nie lubi stłuczonego szkła\, brudnych podłóg\, drzwi z nowoczesnymi klamkami\, wind\, komarów i muszek owocówek. Potrafi uszyć z gałganków gąskę\, zrobić ciasto z marchewek\, policzyć poziomki na tarcie\, lemoniadę z zielonej pietruszki i sorbet z malin. Prowadzi warsztaty literackie\, ortograficzne\, gramatyczne\, plastyczne\, teatralne i kulinarne. Spotyka się z dziećmi w bibliotekach\, pracowniach\, przedszkolach i szkołach.  \n 
URL:https://www.bibldop.pl/wydarzenie/swieta-w-starym-knedelkowie-czyli-wielkanocne-warsztaty-z-joanna-krzyzanek-autorka-ksiazek-dla-dzieci/
LOCATION:Biblioteka w Dopiewie\, ul. Konarzewska 12\, Dopiewo\, Poland
CATEGORIES:Biblioteka w Dopiewie
ATTACH;FMTTYPE=image/jpeg:https://www.bibldop.pl/wp-content/uploads/2025/03/Wielkanocne-warsztaty-z-Joanna-Krzyzanek.jpg
END:VEVENT
BEGIN:VEVENT
DTSTART;TZID=Europe/Warsaw:20250407T160000
DTEND;TZID=Europe/Warsaw:20250407T170000
DTSTAMP:20260425T141340
CREATED:20250324T154945Z
LAST-MODIFIED:20250325T120531Z
UID:17353-1744041600-1744045200@www.bibldop.pl
SUMMARY:Święta w Starym Knedelkowie  czyli wielkanocne warsztaty z Joanną Krzyżanek - autorką książek dla dzieci
DESCRIPTION:Zapraszamy dzieci (5-7 lat) z rodzicami!\nWielkanocne warsztaty z Joanną Krzyżanek to doskonała okazja\, by poznać autorkę książek dla dzieci\, która swoją twórczością oczarowała już wielu młodych czytelników. Krzyżanek\, twórczyni takich postaci jak Cecylka Knedelek\, Lamelia Szczęśliwa\, czy rodzina Wafelków\, potrafi przenieść dzieci w świat wyobraźni pełen zabawnych przygód i ciepłych\, pełnych emocji opowieści. \nPodczas warsztatu\n1. Pojedziemy do Starego Knedelkowa.\n2. Poznamy Cecylkę Knedelek\, gąskę Walerkę\, Kurę Adelę oraz innych  mieszkańców miasteczka.\n3. Prześledzimy pojawienie się na świecie gąski Walerki.\n4. Dowiemy się\, dlaczego Walerka nie chciała przygotować świątecznego koszyczka i co należy do niego włożyć.\n5. Pomożemy mieszkankom i mieszkańców w wiosennych porządkach.\n6. Posłuchamy opowiastek o świętach.\n7. Porozmawiamy o kraszankach\, pisankach\, bukszpanie\, palmach\, maślanym baranku\, kurczątkach\, zajączkach\, śmigusie-dyngusie i świątecznych tradycjach w różnych częściach świata.\n8. Otrzymamy szczyptę świątecznej ortografii.\n9. Wykonany papierowe gąski Walerki. \n\nMacie ochotę wziąć udział?\nZapraszamy do kontaktu z Biblioteką w Dopiewie pod nr tel. 539 360 959 (liczba miejsc jest ograniczona) \n  \nJoanna Krzyżanek\nMa czarne włosy przypominające druciki\, niebieskie oczy i kilka pięknych zmarszczek na czole. Jest miłośniczką liter i gałgankowych gąsek. Pisze opowiastki\, rymowanki i listy do przyjaciół. Lubi biegać nad rzeką\, podróżować pociągiem\, pić herbatę z różaną konfiturą\, zbierać kasztany\, czytać książki\, podziwiać kolorowe cynie\, obserwować krople deszczu spływające po dachówkach\, siedzieć w kawiarence i łapać śniegowe płatki. Jest właścicielką kremowej komody\, czarnego roweru w stokrotki\, glinianego dzbanuszka i starego widelca. Nie lubi stłuczonego szkła\, brudnych podłóg\, drzwi z nowoczesnymi klamkami\, wind\, komarów i muszek owocówek. Potrafi uszyć z gałganków gąskę\, zrobić ciasto z marchewek\, policzyć poziomki na tarcie\, lemoniadę z zielonej pietruszki i sorbet z malin. Prowadzi warsztaty literackie\, ortograficzne\, gramatyczne\, plastyczne\, teatralne i kulinarne. Spotyka się z dziećmi w bibliotekach\, pracowniach\, przedszkolach i szkołach.  \n \n 
URL:https://www.bibldop.pl/wydarzenie/swieta-w-starym-knedelkowie-czyli-wielkanocne-warsztaty-z-joanna-krzyzanek-autorka-ksiazek-dla-dzieci-2/
LOCATION:Biblioteka w Dopiewie\, ul. Konarzewska 12\, Dopiewo\, Poland
CATEGORIES:Biblioteka w Dopiewie
ATTACH;FMTTYPE=image/jpeg:https://www.bibldop.pl/wp-content/uploads/2025/03/Wielkanocne-warsztaty-z-Joanna-Krzyzanek-spotkanie-otwarte.jpg
END:VEVENT
END:VCALENDAR