BEGIN:VCALENDAR
VERSION:2.0
PRODID:-//Gminna Biblioteka Publiczna i Centrum Kultury w Dopiewie - ECPv6.15.20//NONSGML v1.0//EN
CALSCALE:GREGORIAN
METHOD:PUBLISH
X-WR-CALNAME:Gminna Biblioteka Publiczna i Centrum Kultury w Dopiewie
X-ORIGINAL-URL:https://www.bibldop.pl
X-WR-CALDESC:Wydarzenia dla Gminna Biblioteka Publiczna i Centrum Kultury w Dopiewie
REFRESH-INTERVAL;VALUE=DURATION:PT1H
X-Robots-Tag:noindex
X-PUBLISHED-TTL:PT1H
BEGIN:VTIMEZONE
TZID:Europe/Warsaw
BEGIN:DAYLIGHT
TZOFFSETFROM:+0100
TZOFFSETTO:+0200
TZNAME:CEST
DTSTART:20240331T010000
END:DAYLIGHT
BEGIN:STANDARD
TZOFFSETFROM:+0200
TZOFFSETTO:+0100
TZNAME:CET
DTSTART:20241027T010000
END:STANDARD
BEGIN:DAYLIGHT
TZOFFSETFROM:+0100
TZOFFSETTO:+0200
TZNAME:CEST
DTSTART:20250330T010000
END:DAYLIGHT
BEGIN:STANDARD
TZOFFSETFROM:+0200
TZOFFSETTO:+0100
TZNAME:CET
DTSTART:20251026T010000
END:STANDARD
BEGIN:DAYLIGHT
TZOFFSETFROM:+0100
TZOFFSETTO:+0200
TZNAME:CEST
DTSTART:20260329T010000
END:DAYLIGHT
BEGIN:STANDARD
TZOFFSETFROM:+0200
TZOFFSETTO:+0100
TZNAME:CET
DTSTART:20261025T010000
END:STANDARD
END:VTIMEZONE
BEGIN:VEVENT
DTSTART;TZID=Europe/Warsaw:20250227T180000
DTEND;TZID=Europe/Warsaw:20250227T190000
DTSTAMP:20260425T153357
CREATED:20250205T083653Z
LAST-MODIFIED:20250205T083749Z
UID:16801-1740679200-1740682800@www.bibldop.pl
SUMMARY:Spotkanie autorskie z Barbarą Wysoczańską
DESCRIPTION:Zapraszamy do naszej Filii Bibliotecznej w Skórzewie na spotkanie autorskie z Barbarą Wysoczańską.  \nBarbara Wysoczańska pisze książki z gatunku literatury historycznej\, obyczajowej czy romansu. \nUrodziła się w Nowej Soli w 1980 roku\, obecnie mieszkanka Zielonej Góry.\nHistoryczka z pasji i wykształcenia. Miłośniczka dobrej literatury\, muzyki i kina. Wrażliwiec kochający ludzi i życie.\nPodziwia silne i mądre kobiety i to na nich próbuje się wzorować\, równocześnie dając sobie prawo do własnych poglądów.\nJej książki osiągnęły ogromny sukces i sprzedały się w setkach tysięcy egzemplarzy. \nJest autorką takich tytułów jak: “Nigdy się nie poddam” (2024)\, “Obiecaj\, że wrócisz” (2024)\, “Cena wolności” (2023)\, “Świat na nowo” (2022)\, “Rozdzieliła nas wojna” (2022) \nZAPISY: 884 206 308\n 
URL:https://www.bibldop.pl/wydarzenie/spotkanie-autorskie-z-barbara-wysoczanska/
LOCATION:Filia biblioteczna w Skórzewie\, ul. Kozierowskiego 1\, Skórzewo
CATEGORIES:Filia w Skórzewie
ATTACH;FMTTYPE=image/jpeg:https://www.bibldop.pl/wp-content/uploads/2025/02/Barbara-Wysoczanska-wpis.jpg
END:VEVENT
END:VCALENDAR