BEGIN:VCALENDAR
VERSION:2.0
PRODID:-//Gminna Biblioteka Publiczna i Centrum Kultury w Dopiewie - ECPv6.15.20//NONSGML v1.0//EN
CALSCALE:GREGORIAN
METHOD:PUBLISH
X-ORIGINAL-URL:https://www.bibldop.pl
X-WR-CALDESC:Wydarzenia dla Gminna Biblioteka Publiczna i Centrum Kultury w Dopiewie
REFRESH-INTERVAL;VALUE=DURATION:PT1H
X-Robots-Tag:noindex
X-PUBLISHED-TTL:PT1H
BEGIN:VTIMEZONE
TZID:Europe/Warsaw
BEGIN:DAYLIGHT
TZOFFSETFROM:+0100
TZOFFSETTO:+0200
TZNAME:CEST
DTSTART:20240331T010000
END:DAYLIGHT
BEGIN:STANDARD
TZOFFSETFROM:+0200
TZOFFSETTO:+0100
TZNAME:CET
DTSTART:20241027T010000
END:STANDARD
BEGIN:DAYLIGHT
TZOFFSETFROM:+0100
TZOFFSETTO:+0200
TZNAME:CEST
DTSTART:20250330T010000
END:DAYLIGHT
BEGIN:STANDARD
TZOFFSETFROM:+0200
TZOFFSETTO:+0100
TZNAME:CET
DTSTART:20251026T010000
END:STANDARD
BEGIN:DAYLIGHT
TZOFFSETFROM:+0100
TZOFFSETTO:+0200
TZNAME:CEST
DTSTART:20260329T010000
END:DAYLIGHT
BEGIN:STANDARD
TZOFFSETFROM:+0200
TZOFFSETTO:+0100
TZNAME:CET
DTSTART:20261025T010000
END:STANDARD
END:VTIMEZONE
BEGIN:VEVENT
DTSTART;TZID=Europe/Warsaw:20250211T170000
DTEND;TZID=Europe/Warsaw:20250211T183000
DTSTAMP:20260425T170241
CREATED:20250124T125024Z
LAST-MODIFIED:20250130T130036Z
UID:16751-1739293200-1739298600@www.bibldop.pl
SUMMARY:Spotkanie autorskie z Alkiem Rogozińskim w Dąbrówce
DESCRIPTION:Autor komedii kryminalnych i powieści obyczajowych. Przez lata związany z mediami. Karierę zaczynał w połowie lat 90. w kultowej już dzisiaj Rozgłośni Harcerskiej\, potem zasiadał za mikrofonem m.in. w Radiu Plus i warszawskim Radiu Kolor. Współpracował z wieloma gazetami. W latach 2007-2020 pracował w wydawnictwie Edipresse\, gdzie piastował funkcję sekretarza redakcji magazynu „Party”. Zadebiutował w marcu 2015 roku kryminałem „Ukochany z piekła rodem”\, zdobywając 1-sze miejsce na liście bestsellerów kryminalnych EMPIK.com. Kolejną 1-szą pozycję zdobył w 2022 roku w kategorii literatura obyczajowa dzięki powieści „Przeklęta szkatułka”. W 2024 roku jego powieść „Bal wszystkich nieświętych” zdobyła 1-szą pozycję na liście bestellerów księgarni Świat Książki. W tym samym roku sukces ten powtórzyła powieść „Zapukaj\, zanim zginiesz”. Dwie jego powieści\, „Jak Cie zabić\, kochanie?” i „Do trzech razy śmierć”\, zostały nominowane w plebiscycie „Książka roku” portalu Lubimy Czytać.Za książkę „Lustereczko\, powiedz przecie” nagrodzony 1-szą nagrodą w plebiscycie „Zbrodnia z przymrużeniem oka”. Ponownie zdobył tę nagrodę rok później za powieść „Zbrodnia w wielkim mieście”\, a dwa lata później za komedię kryminalną „Raz\, dwa\, trzy… giniesz ty!”. \n\n\n\nJesienią 2019 roku jego powieść „Raz\, dwa\, trzy… giniesz ty!” doczekała się inscenizacji na deskach Teatru Druga Strefa. Bilety na kilkanaście pierwszych spektakli wyprzedały się w ciągu kilku godzin. Niestety\, pandemia Covid-19 spowodowała\, że kolejne spektakle zostały odwołane. W 2021 roku jego książka „Miasteczko morderców” została nominowana do Grand Prix Festiwalu Kryminalna Warszawa. Uwielbia spotkania autorskie. W ciągu blisko dziesięciu lat przygody z literaturą odbył ich prawie trzysta\, a jego wieczory literackie najczęściej przybierały formę stand-upu.Ma na swoim koncie także kilkanaście opowiadań\, m.in. w serii kryminalnych antologii „Zabójczy Pocisk”. \n\n\n\nW październiku 2022 roku w czasie gali wręczenia nagród „Złoty Pocisk”\, odbywającej się w ramach 25. Międzynarodowych Targów Książki w Krakowie\, został wyróżniony za swoją twórczość nagrodą specjalną. \n\n\n\n  \nWSTĘP WOLNY\, zapisy tel. 503 481 757 \n\n\n\nLiczba miejsc jest ograniczona. \n\n\n\n 
URL:https://www.bibldop.pl/wydarzenie/spotykanie-autorskie-z-alkiem-rogozinskim-w-dabrowce/
LOCATION:Filia biblioteczna w Dąbrówce\, ul. Malinowa 41\, Dąbrówka
CATEGORIES:Filia w Dąbrówce
ATTACH;FMTTYPE=image/png:https://www.bibldop.pl/wp-content/uploads/2025/01/Rogozinski.png
END:VEVENT
BEGIN:VEVENT
DTSTART;TZID=Europe/Warsaw:20250211T180000
DTEND;TZID=Europe/Warsaw:20250211T193000
DTSTAMP:20260425T170241
CREATED:20250116T113151Z
LAST-MODIFIED:20250117T110902Z
UID:16717-1739296800-1739302200@www.bibldop.pl
SUMMARY:Wiadomość z Grenlandii - spotkanie z podróżnikiem Jędrzejem Józefowiczem
DESCRIPTION:2 marca 2023 roku Jędrzej Józefowicz ze Środy Wielkopolskiej i Piotr Kilian z Istebnej wylecieli z Kopenhagi na Grenlandię. Ich celem było zmierzenie się w wersji zimowej ze szlakiem Arctic Circle Trail. Dla Jędrka i Piotrka była to pierwsza polarna wyprawa\, ale nie pierwsza piesza. Na Grenlandii spędzili miesiąc\, przechodząc w tym czasie szlak w dwie strony. Łącznie ponad 400 kilometrów. Podczas naszego spotkania Jędrzej opowie o tym\, co przeżyli na szlaku\, jak wędrowało się po zamarzniętych jeziorach\, arktycznej tundrze i ośnieżonych wzgórzach. W jaki sposób radzili sobie z gotowaniem\, mrozem i ciągnięciem kilkudziesięciokilogramowych sań oraz czy wędrówka w takich warunkach jest dla każdego. \nPo zakończeniu prelekcji będzie możliwość zakupienia książek Jędrzeja: “Dziennik wędrowca. Czyli jak dotarłem pieszo do Rzymu” oraz najnowszej: „Wiadomość z Grenlandii. Czyli jak przeszliśmy zimą Arctic Circle Trail”. \nO autorze: \nZ wykształcenia dziennikarz i pedagog. Wielkopolanin. Od kilku lat zakochany w Islandii\, na której z przerwami spędził blisko rok. Pisał dla lokalnego tygodnika „Głos Powiatu Średzkiego”\, współpracował z „Gazetą Wyborczą” w Poznaniu i miesięcznikiem „KnC” Wydawnictwa Św. Wojciecha. Z pasji podróżnik i fotograf-amator. Autor prelekcji podróżniczych oraz książek: Dziennik wędrowca. Czyli jak dotarłem pieszo do Rzymu oraz Wiadomość z Grenlandii. Czyli jak przeszliśmy zimą Arctic Circle Trail\, pomysłodawca i organizator Zaniemyskiego Dnia Podróżnika. Jego i Piotrka Kiliana wyprawa na Grenlandię była nominowana do Kolosów w kategorii „Podróż 2023 roku”\, a także zakwalifikowała się na takie festiwale jak Bydgoski Festiwal Podróżnicy czy Festiwal Podróżniczy Śladami Marzeń w Poznaniu. \nSpotkanie odbędzie się 11.02.2025 w bibliotece w Dopiewie o godz. 18.00 \nWSTĘP WOLNY\, zapisy tel. 539 360 959  \nLiczba miejsc jest ograniczona.
URL:https://www.bibldop.pl/wydarzenie/wiadomosc-z-grenlandii-spotkanie-z-podroznikiem-jedrzejem-jozefowiczem/
LOCATION:Biblioteka w Dopiewie\, ul. Konarzewska 12\, Dopiewo\, Poland
CATEGORIES:Biblioteka w Dopiewie
ATTACH;FMTTYPE=image/jpeg:https://www.bibldop.pl/wp-content/uploads/2025/01/Jedrzej-Jozefowicz-Wiadomosc-z-Grenlandii.jpg
END:VEVENT
END:VCALENDAR