BEGIN:VCALENDAR
VERSION:2.0
PRODID:-//Gminna Biblioteka Publiczna i Centrum Kultury w Dopiewie - ECPv6.15.20//NONSGML v1.0//EN
CALSCALE:GREGORIAN
METHOD:PUBLISH
X-WR-CALNAME:Gminna Biblioteka Publiczna i Centrum Kultury w Dopiewie
X-ORIGINAL-URL:https://www.bibldop.pl
X-WR-CALDESC:Wydarzenia dla Gminna Biblioteka Publiczna i Centrum Kultury w Dopiewie
REFRESH-INTERVAL;VALUE=DURATION:PT1H
X-Robots-Tag:noindex
X-PUBLISHED-TTL:PT1H
BEGIN:VTIMEZONE
TZID:Europe/Warsaw
BEGIN:DAYLIGHT
TZOFFSETFROM:+0100
TZOFFSETTO:+0200
TZNAME:CEST
DTSTART:20230326T010000
END:DAYLIGHT
BEGIN:STANDARD
TZOFFSETFROM:+0200
TZOFFSETTO:+0100
TZNAME:CET
DTSTART:20231029T010000
END:STANDARD
BEGIN:DAYLIGHT
TZOFFSETFROM:+0100
TZOFFSETTO:+0200
TZNAME:CEST
DTSTART:20240331T010000
END:DAYLIGHT
BEGIN:STANDARD
TZOFFSETFROM:+0200
TZOFFSETTO:+0100
TZNAME:CET
DTSTART:20241027T010000
END:STANDARD
BEGIN:DAYLIGHT
TZOFFSETFROM:+0100
TZOFFSETTO:+0200
TZNAME:CEST
DTSTART:20250330T010000
END:DAYLIGHT
BEGIN:STANDARD
TZOFFSETFROM:+0200
TZOFFSETTO:+0100
TZNAME:CET
DTSTART:20251026T010000
END:STANDARD
END:VTIMEZONE
BEGIN:VEVENT
DTSTART;TZID=Europe/Warsaw:20241212T110000
DTEND;TZID=Europe/Warsaw:20241212T120000
DTSTAMP:20260425T195828
CREATED:20241021T131001Z
LAST-MODIFIED:20241021T131001Z
UID:15400-1734001200-1734004800@www.bibldop.pl
SUMMARY:Poranki z bajką w Skórzewie
DESCRIPTION:Zapraszamy na cykliczne\, bajkowe spotkania z książką\, które poprowadzi Małgorzata Kalamat. Spotkania dedykowane dla dzieci i rodziców. Wstęp wolny
URL:https://www.bibldop.pl/wydarzenie/poranki-z-bajka-w-skorzewie-3/
LOCATION:Filia biblioteczna w Skórzewie\, ul. Kozierowskiego 1\, Skórzewo
CATEGORIES:Filia w Skórzewie
ATTACH;FMTTYPE=image/png:https://www.bibldop.pl/wp-content/uploads/2024/10/poranki-z-bajka2.png
END:VEVENT
BEGIN:VEVENT
DTSTART;TZID=Europe/Warsaw:20241212T170000
DTEND;TZID=Europe/Warsaw:20241212T180000
DTSTAMP:20260425T195828
CREATED:20240919T090834Z
LAST-MODIFIED:20241112T155652Z
UID:15031-1734022800-1734026400@www.bibldop.pl
SUMMARY:Spektakl teatralny dla dzieci - Święta u Pana Grosika - Teatr z Uśmiechem
DESCRIPTION:Autorski spektakl teatralny inspirowany “Opowieścią Wigilijną” Charlesa Dickensa.\nTytułowy Pan Grosik to człowiek zgorzkniały i samotny\, którego cały dzień wypełniony jest pracą i liczeniem pieniędzy. Nawet nadchodzące Święta nie są w stanie zmienić jego złego humoru. Nie bacząc na świąteczny czas\, Pan Grosik wyrządza wiele przykrości swojemu pracownikowi\, rodzinie i przyjaciołom. Tymczasem odwiedza go tajemnicza Wróżka i pokazuje mu jaki wpływ na wszystkich ma jego zachowanie. Pan Grosik wyciąga wnioski z tego co zobaczył i przechodzi wyjątkową przemianę.\nPrzedstawienie wprowadza dzieci w świąteczny nastrój\, uczy wartości i przypomina znane świąteczne tradycje. Zawiera ważny morał mówiący o tym\, że pieniądze to nie wszystko\, a największe szczęście w życiu polega na dzieleniu się własnymi dobrami z potrzebującymi\, na miłości do rodziny i szacunku dla przyjaciół. Treść jest dostosowana do najmłodszych odbiorców\, dlatego mroczne duchy zostały zastąpione przez świąteczną Wróżkę. \nBezpłatne wejściówki do odbioru w GBPiCK w Dopiewie od dnia 20 listopada 2024 \nIlość miejsc ograniczona
URL:https://www.bibldop.pl/wydarzenie/spektakl-teatralny-dla-dzieci-swieta-u-pana-grosika-teatr-z-usmiechem/
LOCATION:Filia biblioteczna w Skórzewie\, ul. Kozierowskiego 1\, Skórzewo
CATEGORIES:Filia w Skórzewie
ATTACH;FMTTYPE=image/jpeg:https://www.bibldop.pl/wp-content/uploads/2024/09/spektakl-swieta-u-pana-grosika-zdjecie-1.jpg
END:VEVENT
END:VCALENDAR