BEGIN:VCALENDAR
VERSION:2.0
PRODID:-//Gminna Biblioteka Publiczna i Centrum Kultury w Dopiewie - ECPv6.15.20//NONSGML v1.0//EN
CALSCALE:GREGORIAN
METHOD:PUBLISH
X-WR-CALNAME:Gminna Biblioteka Publiczna i Centrum Kultury w Dopiewie
X-ORIGINAL-URL:https://www.bibldop.pl
X-WR-CALDESC:Wydarzenia dla Gminna Biblioteka Publiczna i Centrum Kultury w Dopiewie
REFRESH-INTERVAL;VALUE=DURATION:PT1H
X-Robots-Tag:noindex
X-PUBLISHED-TTL:PT1H
BEGIN:VTIMEZONE
TZID:Europe/Warsaw
BEGIN:DAYLIGHT
TZOFFSETFROM:+0100
TZOFFSETTO:+0200
TZNAME:CEST
DTSTART:20230326T010000
END:DAYLIGHT
BEGIN:STANDARD
TZOFFSETFROM:+0200
TZOFFSETTO:+0100
TZNAME:CET
DTSTART:20231029T010000
END:STANDARD
BEGIN:DAYLIGHT
TZOFFSETFROM:+0100
TZOFFSETTO:+0200
TZNAME:CEST
DTSTART:20240331T010000
END:DAYLIGHT
BEGIN:STANDARD
TZOFFSETFROM:+0200
TZOFFSETTO:+0100
TZNAME:CET
DTSTART:20241027T010000
END:STANDARD
BEGIN:DAYLIGHT
TZOFFSETFROM:+0100
TZOFFSETTO:+0200
TZNAME:CEST
DTSTART:20250330T010000
END:DAYLIGHT
BEGIN:STANDARD
TZOFFSETFROM:+0200
TZOFFSETTO:+0100
TZNAME:CET
DTSTART:20251026T010000
END:STANDARD
END:VTIMEZONE
BEGIN:VEVENT
DTSTART;TZID=Europe/Warsaw:20241208T140000
DTEND;TZID=Europe/Warsaw:20241208T190000
DTSTAMP:20260425T195804
CREATED:20241030T083207Z
LAST-MODIFIED:20241120T120743Z
UID:15515-1733666400-1733684400@www.bibldop.pl
SUMMARY:Wielkie Ubieranie Choinki w Dopiewie
DESCRIPTION:Wielkie Ubieranie Choinki w Dopiewie – VIII Jarmark Świąteczny \nZapraszamy na wydarzenie\, które rozświetli Dopiewo świątecznym blaskiem! Czekają na Was niezapomniane atrakcje dla całej rodziny:\n Występy muzyczne:\nKolędy by The Voice – w wykonaniu: Pauliny Gołębiewskiej\, Cienia i Mateusza Krzykały\nWystępy lokalnych artystów\n Mikołaj wraz ze swoimi reniferami\n Atrakcje dla dzieci – świąteczna kolejka\, zjeżdżalnia\, karuzela\, snowtubing i wiele innych niespodzianek\n Stoiska z rękodziełem i przysmaki od Kół Gospodyń Wiejskich\,czyli idealne miejsce na znalezienie oryginalnych prezentów i świątecznych smakołyków\nRozświetlenie choinki przez Wójta Gminy Dopiewo \nDołącz do nas\, by wspólnie wzniecić magię Świąt!\n\n\nWydarzenie na Facebook’u\n 
URL:https://www.bibldop.pl/wydarzenie/wielkie-ubieranie-choinki-w-dopiewie/
LOCATION:Plac Gminny w Dopiewie\, ul. Łąkowa/Wyzwolenia\, Dopiewo\, Poland
CATEGORIES:Pozostałe
ATTACH;FMTTYPE=image/jpeg:https://www.bibldop.pl/wp-content/uploads/2024/10/WUC-2024-wpis.jpg
END:VEVENT
END:VCALENDAR