BEGIN:VCALENDAR
VERSION:2.0
PRODID:-//Gminna Biblioteka Publiczna i Centrum Kultury w Dopiewie - ECPv6.15.20//NONSGML v1.0//EN
CALSCALE:GREGORIAN
METHOD:PUBLISH
X-WR-CALNAME:Gminna Biblioteka Publiczna i Centrum Kultury w Dopiewie
X-ORIGINAL-URL:https://www.bibldop.pl
X-WR-CALDESC:Wydarzenia dla Gminna Biblioteka Publiczna i Centrum Kultury w Dopiewie
REFRESH-INTERVAL;VALUE=DURATION:PT1H
X-Robots-Tag:noindex
X-PUBLISHED-TTL:PT1H
BEGIN:VTIMEZONE
TZID:Europe/Warsaw
BEGIN:DAYLIGHT
TZOFFSETFROM:+0100
TZOFFSETTO:+0200
TZNAME:CEST
DTSTART:20230326T010000
END:DAYLIGHT
BEGIN:STANDARD
TZOFFSETFROM:+0200
TZOFFSETTO:+0100
TZNAME:CET
DTSTART:20231029T010000
END:STANDARD
BEGIN:DAYLIGHT
TZOFFSETFROM:+0100
TZOFFSETTO:+0200
TZNAME:CEST
DTSTART:20240331T010000
END:DAYLIGHT
BEGIN:STANDARD
TZOFFSETFROM:+0200
TZOFFSETTO:+0100
TZNAME:CET
DTSTART:20241027T010000
END:STANDARD
BEGIN:DAYLIGHT
TZOFFSETFROM:+0100
TZOFFSETTO:+0200
TZNAME:CEST
DTSTART:20250330T010000
END:DAYLIGHT
BEGIN:STANDARD
TZOFFSETFROM:+0200
TZOFFSETTO:+0100
TZNAME:CET
DTSTART:20251026T010000
END:STANDARD
END:VTIMEZONE
BEGIN:VEVENT
DTSTART;TZID=Europe/Warsaw:20241207T170000
DTEND;TZID=Europe/Warsaw:20241207T190000
DTSTAMP:20260425T195830
CREATED:20241106T122750Z
LAST-MODIFIED:20241106T123147Z
UID:15626-1733590800-1733598000@www.bibldop.pl
SUMMARY:Mikołajkowe Spotkanie dla Dzieci w Skórzewie
DESCRIPTION:Zapraszamy wszystkie dzieci na niezapomniane Mikołajkowe Spotkanie w Figowym Zakątku! To wyjątkowa okazja\, by wspólnie poczuć świąteczną magię i spędzić czas wśród niezwykłych atrakcji: \nSpektakl “Dziadek do Orzechów” \nZanurzcie się w magiczny świat pełen emocji i niezapomnianych przygód! Wraz z bohaterami tego klasycznego spektaklu\, dzieci wyruszą w podróż Ekspresem Polarnym\, odkrywając Królestwo Zabawek. Czeka tam na Was Dziadek do Orzechów\, który potrzebuje pomocy w ratowaniu swojego świata. To niezapomniane przedstawienie wprowadzi Was w zaczarowany świat bajkowej wyobraźni! \nAnimacje i Zabawy dla Dzieci \nPo spektaklu czeka na dzieci mnóstwo tematycznych animacji\, które przeniosą wszystkich do krainy Dziadka do Orzechów: \n\nZbieranie zagubionych orzechów\nCukierkowy taniec\nPodróż do królestwa zabawek\nWielka bitwa na orzechy\nUcieczka przed Dziadkiem\nOrzechowy balet\nWalka z Mysim Królem\nTaneczny konkurs cukrowej wróżki\nŚwiąteczna kraina figur lodowych\nCyrkowy występ elfa\nRozświetlenie choinki\n\nPoczta Świętego Mikołaja \nZapraszamy dzieci do wyjątkowej Poczty Świętego Mikołaja! To tutaj każdy będzie mógł wrzucić swój list z życzeniami do świątecznej skrzynki. Kto wie\, może Mikołaj przeczyta właśnie Wasze życzenia i spełni je w tym roku? \nWizyta Świętego Mikołaja \nTo spotkanie nie mogłoby się odbyć bez wyjątkowego gościa – Świętego Mikołaja! Przywita on wszystkie dzieci na końcowych stacjach Ekspresu Polarnego i będzie gotów na wspólne zdjęcia i zabawy. To okazja\, by każde dziecko mogło osobiście przekazać swoje życzenia i podzielić się świątecznymi marzeniami. \nZapraszamy do wspólnego świętowania – niech ta magiczna chwila stanie się częścią Waszych świątecznych wspomnień! \nWstęp wolny.
URL:https://www.bibldop.pl/wydarzenie/mikolajkowe-spotkanie-dla-dzieci-w-skorzewie/
LOCATION:Figowy Zakątek\, ul. Figowa\, Skórzewo
ATTACH;FMTTYPE=image/png:https://www.bibldop.pl/wp-content/uploads/2024/11/Mikolajki-Skorzewo-2024.png
END:VEVENT
END:VCALENDAR