BEGIN:VCALENDAR
VERSION:2.0
PRODID:-//Gminna Biblioteka Publiczna i Centrum Kultury w Dopiewie - ECPv6.15.20//NONSGML v1.0//EN
CALSCALE:GREGORIAN
METHOD:PUBLISH
X-ORIGINAL-URL:https://www.bibldop.pl
X-WR-CALDESC:Wydarzenia dla Gminna Biblioteka Publiczna i Centrum Kultury w Dopiewie
REFRESH-INTERVAL;VALUE=DURATION:PT1H
X-Robots-Tag:noindex
X-PUBLISHED-TTL:PT1H
BEGIN:VTIMEZONE
TZID:Europe/Warsaw
BEGIN:DAYLIGHT
TZOFFSETFROM:+0100
TZOFFSETTO:+0200
TZNAME:CEST
DTSTART:20230326T010000
END:DAYLIGHT
BEGIN:STANDARD
TZOFFSETFROM:+0200
TZOFFSETTO:+0100
TZNAME:CET
DTSTART:20231029T010000
END:STANDARD
BEGIN:DAYLIGHT
TZOFFSETFROM:+0100
TZOFFSETTO:+0200
TZNAME:CEST
DTSTART:20240331T010000
END:DAYLIGHT
BEGIN:STANDARD
TZOFFSETFROM:+0200
TZOFFSETTO:+0100
TZNAME:CET
DTSTART:20241027T010000
END:STANDARD
BEGIN:DAYLIGHT
TZOFFSETFROM:+0100
TZOFFSETTO:+0200
TZNAME:CEST
DTSTART:20250330T010000
END:DAYLIGHT
BEGIN:STANDARD
TZOFFSETFROM:+0200
TZOFFSETTO:+0100
TZNAME:CET
DTSTART:20251026T010000
END:STANDARD
END:VTIMEZONE
BEGIN:VEVENT
DTSTART;TZID=Europe/Warsaw:20241205T170000
DTEND;TZID=Europe/Warsaw:20241205T173000
DTSTAMP:20260425T195920
CREATED:20241104T101349Z
LAST-MODIFIED:20241129T091924Z
UID:12807-1733418000-1733419800@www.bibldop.pl
SUMMARY:Otwarcie Szopki Bożonarodzeniowej
DESCRIPTION:Zapraszamy o godz.17.00  przed bibliotekę w Dopiewie na oficjalne otwarcie szopki bożonarodzeniowej. Zapraszamy wszystkie osoby\, które w jakikolwiek sposób dołożyły swoją „cegiełkę” do jej budowy a także wszystkich którzy chcą w tym wydarzeniu uczestniczyć. Otwarciu towarzyszyć będzie mini koncert Chóru Bel Canto.
URL:https://www.bibldop.pl/wydarzenie/otwarcie-szopki-bozonarodzeniowej/
LOCATION:Biblioteka w Dopiewie\, ul. Konarzewska 12\, Dopiewo\, Poland
CATEGORIES:Biblioteka w Dopiewie
ATTACH;FMTTYPE=image/jpeg:https://www.bibldop.pl/wp-content/uploads/2024/11/DSC_4820-scaled.jpg
END:VEVENT
END:VCALENDAR