BEGIN:VCALENDAR
VERSION:2.0
PRODID:-//Gminna Biblioteka Publiczna i Centrum Kultury w Dopiewie - ECPv6.15.20//NONSGML v1.0//EN
CALSCALE:GREGORIAN
METHOD:PUBLISH
X-WR-CALNAME:Gminna Biblioteka Publiczna i Centrum Kultury w Dopiewie
X-ORIGINAL-URL:https://www.bibldop.pl
X-WR-CALDESC:Wydarzenia dla Gminna Biblioteka Publiczna i Centrum Kultury w Dopiewie
REFRESH-INTERVAL;VALUE=DURATION:PT1H
X-Robots-Tag:noindex
X-PUBLISHED-TTL:PT1H
BEGIN:VTIMEZONE
TZID:Europe/Warsaw
BEGIN:DAYLIGHT
TZOFFSETFROM:+0100
TZOFFSETTO:+0200
TZNAME:CEST
DTSTART:20230326T010000
END:DAYLIGHT
BEGIN:STANDARD
TZOFFSETFROM:+0200
TZOFFSETTO:+0100
TZNAME:CET
DTSTART:20231029T010000
END:STANDARD
BEGIN:DAYLIGHT
TZOFFSETFROM:+0100
TZOFFSETTO:+0200
TZNAME:CEST
DTSTART:20240331T010000
END:DAYLIGHT
BEGIN:STANDARD
TZOFFSETFROM:+0200
TZOFFSETTO:+0100
TZNAME:CET
DTSTART:20241027T010000
END:STANDARD
BEGIN:DAYLIGHT
TZOFFSETFROM:+0100
TZOFFSETTO:+0200
TZNAME:CEST
DTSTART:20250330T010000
END:DAYLIGHT
BEGIN:STANDARD
TZOFFSETFROM:+0200
TZOFFSETTO:+0100
TZNAME:CET
DTSTART:20251026T010000
END:STANDARD
END:VTIMEZONE
BEGIN:VEVENT
DTSTART;TZID=Europe/Warsaw:20241128T170000
DTEND;TZID=Europe/Warsaw:20241128T190000
DTSTAMP:20260425T212540
CREATED:20241030T111840Z
LAST-MODIFIED:20241122T073024Z
UID:15517-1732813200-1732820400@www.bibldop.pl
SUMMARY:Magiczna zabawa dla dzieci w stylu Harrego P.
DESCRIPTION:Drodzy Mali Czarodzieje i Czarodziejki!  \nMamy zaszczyt zaprosić Was na niezwykłe\, pełne magii spotkanie w świecie Harry’ego P.! Zanurzcie się z nami w tajemniczą atmosferę Hogwartu\, odkryjcie czarodziejskie zaklęcia i przeżyjcie niezapomnianą przygodę!  \nKiedy? 28 listopada 2024 r.\, godz. 17:00 – 19:00  \nGdzie? Sala Czarów (Filia biblioteczna w Skórzewie) przy ulicy Kozierowskiego 1 \n Dress code: Przebierz się za swoją ulubioną postać ze świata czarodziejów lub ubierz się magicznie!  \nCena za udział: – 20\,00 zł*   Liczba miejsc jest ograniczona! \nBRAK MIEJSC!\nW programie:\n \nWarsztaty z eliksirów i zaklęć – naucz się przyrządzać magiczne mikstury i opanuj podstawowe czary! \nWarsztaty Lumos – zamknij światło w stworzonym przez siebie lampionie z Hogwartu \nWarsztaty zaprzyjaźnij się z sową Hedwigą – wyczaruj samodzielnie wielką sowę z kartonu \nQuiz wiedzy o Hogwarcie – sprawdź\, jak dobrze znasz świat magii i zdobywaj nagrody!  \nPokaz mody z Griffindoru – zaprezentuj wszystkim swoje przebranie \nSłodki stół z przysmakami z magicznego świata!  \n  \nZAPISZ SIĘ!\n\n  \n  \n  \n*Prosimy o dokonanie przelewu w wysokości 20zł/dziecko na numer konta: 39 9043 1012 2012 0027 6245 0001. W tytule prosimy wpisać imię i nazwisko dziecka/dzieci z dopiskiem “Zabawa z Harrym P.” \nZapraszamy do świata magii\, gdzie przygoda nigdy się nie kończy!
URL:https://www.bibldop.pl/wydarzenie/magiczna-zabawa-dla-dzieci-w-stylu-harrego-p/
LOCATION:Filia biblioteczna w Skórzewie\, ul. Kozierowskiego 1\, Skórzewo
CATEGORIES:Filia w Skórzewie
ATTACH;FMTTYPE=image/jpeg:https://www.bibldop.pl/wp-content/uploads/2024/10/Magiczna-zabawa-dla-dzieci-2024-wpis.jpg
END:VEVENT
END:VCALENDAR