BEGIN:VCALENDAR
VERSION:2.0
PRODID:-//Gminna Biblioteka Publiczna i Centrum Kultury w Dopiewie - ECPv6.15.20//NONSGML v1.0//EN
CALSCALE:GREGORIAN
METHOD:PUBLISH
X-WR-CALNAME:Gminna Biblioteka Publiczna i Centrum Kultury w Dopiewie
X-ORIGINAL-URL:https://www.bibldop.pl
X-WR-CALDESC:Wydarzenia dla Gminna Biblioteka Publiczna i Centrum Kultury w Dopiewie
REFRESH-INTERVAL;VALUE=DURATION:PT1H
X-Robots-Tag:noindex
X-PUBLISHED-TTL:PT1H
BEGIN:VTIMEZONE
TZID:Europe/Warsaw
BEGIN:DAYLIGHT
TZOFFSETFROM:+0100
TZOFFSETTO:+0200
TZNAME:CEST
DTSTART:20230326T010000
END:DAYLIGHT
BEGIN:STANDARD
TZOFFSETFROM:+0200
TZOFFSETTO:+0100
TZNAME:CET
DTSTART:20231029T010000
END:STANDARD
BEGIN:DAYLIGHT
TZOFFSETFROM:+0100
TZOFFSETTO:+0200
TZNAME:CEST
DTSTART:20240331T010000
END:DAYLIGHT
BEGIN:STANDARD
TZOFFSETFROM:+0200
TZOFFSETTO:+0100
TZNAME:CET
DTSTART:20241027T010000
END:STANDARD
BEGIN:DAYLIGHT
TZOFFSETFROM:+0100
TZOFFSETTO:+0200
TZNAME:CEST
DTSTART:20250330T010000
END:DAYLIGHT
BEGIN:STANDARD
TZOFFSETFROM:+0200
TZOFFSETTO:+0100
TZNAME:CET
DTSTART:20251026T010000
END:STANDARD
END:VTIMEZONE
BEGIN:VEVENT
DTSTART;TZID=Europe/Warsaw:20241126T180000
DTEND;TZID=Europe/Warsaw:20241126T190000
DTSTAMP:20260425T195828
CREATED:20241024T112736Z
LAST-MODIFIED:20241024T112736Z
UID:15446-1732644000-1732647600@www.bibldop.pl
SUMMARY:Pierwsza Pomoc
DESCRIPTION:Wspólnie z jednostką Ochotniczej Straży Pożarnej w Dopiewie zapraszamy chętnych (dzieci i dorosłych) do wzięcia udziału w bezpłatnym cyklu warsztatów udzielania pierwszej pomocy przedmedycznej. \nWarsztaty( 6 spotkań) będą odbywać się w bibliotece w Dopiewie o godz. 18.00-19.00. Pierwsze zajęcia 5.11.2024. WSTĘP WOLNY \nZapisy: 539 360 959\, liczba miejsc jest ograniczona \nWarsztaty mają na celu naukę udzielenia pierwszej pomocy i ratowania życia i zdrowia poszkodowanego poprzez: podtrzymanie czynności życiowych\, ograniczanie skutków obrażeń lub nagłych zachorowań\, zapewnienie bezpiecznej pozycji oraz przygotowanie do dalszego postępowania lekarskiego. \nDopiewscy strażacy będą szkolić uczestników jak bezpiecznie zachować się w różnych sytuacjach codziennych\, jak rozpoznać niebezpieczne sytuacje i unikać potencjalnych zagrożeń. Co zrobić w przypadku skaleczeń\, otarć\, oparzeń i stłuczeń. Jak postępować\, gdy ktoś się zadławi. Jak prawidłowo wezwać pomoc – nauka korzystania z numerów alarmowych i przekazywania istotnych informacji. Proste techniki RKO (Resuscytacja krążeniowo-oddechowa) dostosowane do możliwości uczestników. \nPlan spotkań: \n5.11. (wtorek) – Podstawy pierwszej pomocy\, bezpieczeństwo własne\, poszkodowanego\, miejsca zdarzenia. \n12.11. (wtorek) – Resuscytacja: dorosły\, dziecko\, niemowlę\, noworodek; sytuacje szczególne. \n19.11. (wtorek) – Resuscytacja z użyciem AED \n26.11. (wtorek) – Rany: krwotoki i krwawienia; zasady postępowania \n3.12. (wtorek) – Złamania i zwichnięcia; zasady postępowania \n10.12. (wtorek) – Inne stany nagłe: drgawki\, cukrzyca\, udar\, zatrucia \n \n 
URL:https://www.bibldop.pl/wydarzenie/pierwsza-pomoc-4/
LOCATION:Biblioteka w Dopiewie\, ul. Konarzewska 12\, Dopiewo\, Poland
ATTACH;FMTTYPE=image/jpeg:https://www.bibldop.pl/wp-content/uploads/2024/10/pierwsza-pomoc-warsztaty-wpis.jpg
END:VEVENT
BEGIN:VEVENT
DTSTART;TZID=Europe/Warsaw:20241126T180000
DTEND;TZID=Europe/Warsaw:20241126T193000
DTSTAMP:20260425T195828
CREATED:20241017T123028Z
LAST-MODIFIED:20241108T111757Z
UID:15348-1732644000-1732649400@www.bibldop.pl
SUMMARY:Spotkanie autorskie z Piotrem Stelmachem w Dąbrówce
DESCRIPTION:Piotr Stelmach\, autor książki “Męskie Granie”\, która opowiada o kulisach najpopularniejszej\, polskiej trasy festiwalowej. \nPiotr Stelmach to ceniony dziennikarz muzyczny\, współzałożyciel i dziennikarz Radia 357. Wcześniej przez wiele lat związany z Programem Trzecim Polskiego Radia. Spotkania autorskie z nim to wyjątkowa okazja do wysłuchania ciekawych historii o polskiej muzyce\, trasie Męskie Granie oraz o jego pracy dziennikarskiej. \nTechnik żywienia\, mgr germanistyki i absolwent Dziennikarskiej Szkoły Polskiego Radia. Na antenie od 1993 r. Dumny tata Hani. Oprócz muzyki i radia lubi (w porywach do uwielbia) kawę amaretto\, metalowe tablice ozdobne i grę zespołową. Nie lubi (w porywach do nie znosi) buraków\, ze szczególnym uwzględnieniem pastewnych. Zagorzały kolekcjoner płyt i słuchawek nausznych. Od lat zakochany w Chorwacji\, gdzie spędza prawie każdy swój urlop. Były perkusista zespołu o bardzo złej nazwie. Grupa odbyła kilka prób\, po czym\, na szczęście\, uznała swoją działalność za wyczerpaną. Ulubione powiedzenie: “Jest energia?”. Odpowiedź często bywa twierdząca. I tym optymistycznym… \nzapisy filia biblioteczna w Dąbrówce tel. 503 481 757 \nBrak wolnych miejsc.
URL:https://www.bibldop.pl/wydarzenie/spotkanie-autorskie-z-piotrem-stelmachem-w-dabrowce/
LOCATION:Filia biblioteczna w Dąbrówce\, ul. Malinowa 41\, Dąbrówka
CATEGORIES:Filia w Dąbrówce
ATTACH;FMTTYPE=image/jpeg:https://www.bibldop.pl/wp-content/uploads/2024/10/Piotr-Stelmach.jpg
END:VEVENT
END:VCALENDAR