BEGIN:VCALENDAR
VERSION:2.0
PRODID:-//Gminna Biblioteka Publiczna i Centrum Kultury w Dopiewie - ECPv6.15.20//NONSGML v1.0//EN
CALSCALE:GREGORIAN
METHOD:PUBLISH
X-WR-CALNAME:Gminna Biblioteka Publiczna i Centrum Kultury w Dopiewie
X-ORIGINAL-URL:https://www.bibldop.pl
X-WR-CALDESC:Wydarzenia dla Gminna Biblioteka Publiczna i Centrum Kultury w Dopiewie
REFRESH-INTERVAL;VALUE=DURATION:PT1H
X-Robots-Tag:noindex
X-PUBLISHED-TTL:PT1H
BEGIN:VTIMEZONE
TZID:Europe/Warsaw
BEGIN:DAYLIGHT
TZOFFSETFROM:+0100
TZOFFSETTO:+0200
TZNAME:CEST
DTSTART:20230326T010000
END:DAYLIGHT
BEGIN:STANDARD
TZOFFSETFROM:+0200
TZOFFSETTO:+0100
TZNAME:CET
DTSTART:20231029T010000
END:STANDARD
BEGIN:DAYLIGHT
TZOFFSETFROM:+0100
TZOFFSETTO:+0200
TZNAME:CEST
DTSTART:20240331T010000
END:DAYLIGHT
BEGIN:STANDARD
TZOFFSETFROM:+0200
TZOFFSETTO:+0100
TZNAME:CET
DTSTART:20241027T010000
END:STANDARD
BEGIN:DAYLIGHT
TZOFFSETFROM:+0100
TZOFFSETTO:+0200
TZNAME:CEST
DTSTART:20250330T010000
END:DAYLIGHT
BEGIN:STANDARD
TZOFFSETFROM:+0200
TZOFFSETTO:+0100
TZNAME:CET
DTSTART:20251026T010000
END:STANDARD
END:VTIMEZONE
BEGIN:VEVENT
DTSTART;VALUE=DATE:20241125
DTEND;VALUE=DATE:20241126
DTSTAMP:20260425T195829
CREATED:20241105T130910Z
LAST-MODIFIED:20241105T130910Z
UID:15609-1732492800-1732579199@www.bibldop.pl
SUMMARY:Dzień Pluszowego Misia w Dąbrówce!
DESCRIPTION:Z okazji Światowego Dnia Pluszowego Misia zapraszamy wszystkie dzieci oraz miłośników tych uroczych\, pluszowych przyjaciół na wyjątkowe wydarzenie w Filii Bibliotecznej w Dąbrówce. Czeka na Was mnóstwo atrakcji i misiowych niespodzianek! \nProgram wydarzenia: \n\nMisiowe akcje dla dzieci:\n\nMisiowa zakładka – Zapraszamy do stworzenia własnej\, unikalnej zakładki do książki z wizerunkiem misia!\nPrzynieś misia do biblioteki – Każda osoba\, która przyjdzie z pluszowym misiem\, otrzyma drobny upominek oraz będzie miała okazję zrobić zdjęcie w misiowej aranżacji.\nMisiowy spacer po bibliotece – Wyruszcie w fascynującą podróż po bibliotece\, odwiedzając różne działy i odkrywając książki o misiach. Każdy\, kto przejdzie całą trasę\, otrzyma upominek.\n\n\n16:00 – Teatrzyk KAMISHIBAI z misiowymi bajkami – Opowiadanie bajek w formie tradycyjnego teatru Kamishibai.\n17:00 – 19:00 – Animacje przed biblioteką – Zabawa na świeżym powietrzu z wielkim misiem!\n\nTo będzie dzień pełen radości\, kreatywności i misiowych przygód! Serdecznie zapraszamy do spędzenia go z nami w atmosferze zabawy i książkowej magii!
URL:https://www.bibldop.pl/wydarzenie/dzien-pluszowego-misia-w-dabrowce/
LOCATION:Filia biblioteczna w Dąbrówce\, ul. Malinowa 41\, Dąbrówka
CATEGORIES:Filia w Dąbrówce
ATTACH;FMTTYPE=image/jpeg:https://www.bibldop.pl/wp-content/uploads/2024/11/Dzien-pluszowego-misia-2024-wpis.jpg
END:VEVENT
END:VCALENDAR