BEGIN:VCALENDAR
VERSION:2.0
PRODID:-//Gminna Biblioteka Publiczna i Centrum Kultury w Dopiewie - ECPv6.15.20//NONSGML v1.0//EN
CALSCALE:GREGORIAN
METHOD:PUBLISH
X-WR-CALNAME:Gminna Biblioteka Publiczna i Centrum Kultury w Dopiewie
X-ORIGINAL-URL:https://www.bibldop.pl
X-WR-CALDESC:Wydarzenia dla Gminna Biblioteka Publiczna i Centrum Kultury w Dopiewie
REFRESH-INTERVAL;VALUE=DURATION:PT1H
X-Robots-Tag:noindex
X-PUBLISHED-TTL:PT1H
BEGIN:VTIMEZONE
TZID:Europe/Warsaw
BEGIN:DAYLIGHT
TZOFFSETFROM:+0100
TZOFFSETTO:+0200
TZNAME:CEST
DTSTART:20230326T010000
END:DAYLIGHT
BEGIN:STANDARD
TZOFFSETFROM:+0200
TZOFFSETTO:+0100
TZNAME:CET
DTSTART:20231029T010000
END:STANDARD
BEGIN:DAYLIGHT
TZOFFSETFROM:+0100
TZOFFSETTO:+0200
TZNAME:CEST
DTSTART:20240331T010000
END:DAYLIGHT
BEGIN:STANDARD
TZOFFSETFROM:+0200
TZOFFSETTO:+0100
TZNAME:CET
DTSTART:20241027T010000
END:STANDARD
BEGIN:DAYLIGHT
TZOFFSETFROM:+0100
TZOFFSETTO:+0200
TZNAME:CEST
DTSTART:20250330T010000
END:DAYLIGHT
BEGIN:STANDARD
TZOFFSETFROM:+0200
TZOFFSETTO:+0100
TZNAME:CET
DTSTART:20251026T010000
END:STANDARD
END:VTIMEZONE
BEGIN:VEVENT
DTSTART;TZID=Europe/Warsaw:20241119T100000
DTEND;TZID=Europe/Warsaw:20241119T110000
DTSTAMP:20260425T212539
CREATED:20241018T101955Z
LAST-MODIFIED:20241018T101955Z
UID:15367-1732010400-1732014000@www.bibldop.pl
SUMMARY:Spotkanie autorskie z Grażyną Bąkiewicz w Dąbrówce
DESCRIPTION:Grażyna Bąkiewicz\, autorka książek dla dzieci i młodzieży\, historyczka i nauczycielka. \nGrażyna Bąkiewicz urodziła się w 1955 roku w Łodzi\, gdzie mieszka do dnia dzisiejszego.  Ukończyła Wydział Filozoficzno-Historyczny Uniwersytetu Łódzkiego. Pracowała jako nauczyciel historii\, prawie 30 lat. W międzyczasie zaczęła pisać bajki dla swoich dzieci. Po wygranym w latach osiemdziesiątych\, ogólnopolskim konkursie\, pisała bajki dla dzieci do czasopism\, m.in. do „Świerszczyka”.\nPierwsza debiutancka książka Grażyny Bąkiewicz to powieść dla młodzieży zatytułowana: „O melba”\, wydana w 2002 roku.  Wśród książek autorki\, napisanych dla tej grupy wiekowej\, warto wymienić pozycje: Ada strażniczka skarbu (2010)\, „Stan podgorączkowy” (2003) i „Muchy w butelce” (2008). Bąkiewicz stworzyła także serię książek dla dzieci pod tytułem: „Ale historia”\, w tym publikacje „Mieszko\, Ty Wikingu” (2015)\, „Zygmuncie\, i kto tu rządzi” (2017)\, i Ale historia… Ta potworna wojna (2019). Grażyna Bąkiewicz napisała również trzy książki dla dorosłych zatytułowane: „Opowieść z perłą w tle (2006)\, „Coś za coś” (2007)\, i „Bajki dla dorosłych” (2009).\nZa swoją debiutancką książkę Grażyna Bąkiewicz otrzymała Pierwszą nagrodę IBBY jako Książka Roku 2002.  Nagrodę tę uzyskują wybitni twórcy książek dla dzieci i młodzieży. \nTematyka spotkania autorskiego dla młodzieży: \nHistoria na wesoło dla młodszych i starszych – na podstawie kilku serii : „Ale historia …”\, „Zdarzyło się w Polsce”\, „Ada\, strażniczka skarbu” i kolejne tomy jako „Kryminałki historyczno-fantastyczne”\, „Mówcie mi Bezprym” \nSpotkanie adresowane dla grup szkolnych zorganizowanych (klasy IV-VI) zapisy filia biblioteczna w Dąbrówce tel. 503 481 757
URL:https://www.bibldop.pl/wydarzenie/spotkanie-autorskie-z-grazyna-bakiewicz-w-dabrowce/
LOCATION:Filia biblioteczna w Dąbrówce\, ul. Malinowa 41\, Dąbrówka
CATEGORIES:Filia w Dąbrówce
ATTACH;FMTTYPE=image/jpeg:https://www.bibldop.pl/wp-content/uploads/2024/10/Grazyna-Bakiewicz.jpg
END:VEVENT
BEGIN:VEVENT
DTSTART;TZID=Europe/Warsaw:20241119T114000
DTEND;TZID=Europe/Warsaw:20241119T124000
DTSTAMP:20260425T212539
CREATED:20241018T101736Z
LAST-MODIFIED:20241107T150006Z
UID:15364-1732016400-1732020000@www.bibldop.pl
SUMMARY:Spotkanie autorskie z Grażyną Bąkiewicz w Dopiewie
DESCRIPTION:Grażyna Bąkiewicz\, autorka książek dla dzieci i młodzieży\, historyczka i nauczycielka. \nGrażyna Bąkiewicz urodziła się w 1955 roku w Łodzi\, gdzie mieszka do dnia dzisiejszego.  Ukończyła Wydział Filozoficzno-Historyczny Uniwersytetu Łódzkiego. Pracowała jako nauczyciel historii\, prawie 30 lat. W międzyczasie zaczęła pisać bajki dla swoich dzieci. Po wygranym w latach osiemdziesiątych\, ogólnopolskim konkursie\, pisała bajki dla dzieci do czasopism\, m.in. do „Świerszczyka”.\nPierwsza debiutancka książka Grażyny Bąkiewicz to powieść dla młodzieży zatytułowana: „O melba”\, wydana w 2002 roku.  Wśród książek autorki\, napisanych dla tej grupy wiekowej\, warto wymienić pozycje: Ada strażniczka skarbu (2010)\, „Stan podgorączkowy” (2003) i „Muchy w butelce” (2008). Bąkiewicz stworzyła także serię książek dla dzieci pod tytułem: „Ale historia”\, w tym publikacje „Mieszko\, Ty Wikingu” (2015)\, „Zygmuncie\, i kto tu rządzi” (2017)\, i Ale historia… Ta potworna wojna (2019). Grażyna Bąkiewicz napisała również trzy książki dla dorosłych zatytułowane: „Opowieść z perłą w tle (2006)\, „Coś za coś” (2007)\, i „Bajki dla dorosłych” (2009).\nZa swoją debiutancką książkę Grażyna Bąkiewicz otrzymała Pierwszą nagrodę IBBY jako Książka Roku 2002.  Nagrodę tę uzyskują wybitni twórcy książek dla dzieci i młodzieży. \nTematyka spotkania autorskiego dla młodzieży: \nHistoria na wesoło dla młodszych i starszych – na podstawie kilku serii : „Ale historia …”\, „Zdarzyło się w Polsce”\, „Ada\, strażniczka skarbu” i kolejne tomy jako „Kryminałki historyczno-fantastyczne”\, „Mówcie mi Bezprym” \nSpotkanie adresowane dla grup szkolnych zorganizowanych (klasy IV-VI) zapisy Biblioteka w Dopiewie tel. 539 360 959
URL:https://www.bibldop.pl/wydarzenie/spotkanie-autorskie-z-grazyna-bakiewicz/
LOCATION:Biblioteka w Dopiewie\, ul. Konarzewska 12\, Dopiewo\, Poland
CATEGORIES:Biblioteka w Dopiewie
ATTACH;FMTTYPE=image/jpeg:https://www.bibldop.pl/wp-content/uploads/2024/10/Grazyna-Bakiewicz.jpg
END:VEVENT
BEGIN:VEVENT
DTSTART;TZID=Europe/Warsaw:20241119T180000
DTEND;TZID=Europe/Warsaw:20241119T190000
DTSTAMP:20260425T212539
CREATED:20241024T112648Z
LAST-MODIFIED:20241024T112648Z
UID:15444-1732039200-1732042800@www.bibldop.pl
SUMMARY:Pierwsza Pomoc
DESCRIPTION:Wspólnie z jednostką Ochotniczej Straży Pożarnej w Dopiewie zapraszamy chętnych (dzieci i dorosłych) do wzięcia udziału w bezpłatnym cyklu warsztatów udzielania pierwszej pomocy przedmedycznej. \nWarsztaty( 6 spotkań) będą odbywać się w bibliotece w Dopiewie o godz. 18.00-19.00. Pierwsze zajęcia 5.11.2024. WSTĘP WOLNY \nZapisy: 539 360 959\, liczba miejsc jest ograniczona \nWarsztaty mają na celu naukę udzielenia pierwszej pomocy i ratowania życia i zdrowia poszkodowanego poprzez: podtrzymanie czynności życiowych\, ograniczanie skutków obrażeń lub nagłych zachorowań\, zapewnienie bezpiecznej pozycji oraz przygotowanie do dalszego postępowania lekarskiego. \nDopiewscy strażacy będą szkolić uczestników jak bezpiecznie zachować się w różnych sytuacjach codziennych\, jak rozpoznać niebezpieczne sytuacje i unikać potencjalnych zagrożeń. Co zrobić w przypadku skaleczeń\, otarć\, oparzeń i stłuczeń. Jak postępować\, gdy ktoś się zadławi. Jak prawidłowo wezwać pomoc – nauka korzystania z numerów alarmowych i przekazywania istotnych informacji. Proste techniki RKO (Resuscytacja krążeniowo-oddechowa) dostosowane do możliwości uczestników. \nPlan spotkań: \n5.11. (wtorek) – Podstawy pierwszej pomocy\, bezpieczeństwo własne\, poszkodowanego\, miejsca zdarzenia. \n12.11. (wtorek) – Resuscytacja: dorosły\, dziecko\, niemowlę\, noworodek; sytuacje szczególne. \n19.11. (wtorek) – Resuscytacja z użyciem AED \n26.11. (wtorek) – Rany: krwotoki i krwawienia; zasady postępowania \n3.12. (wtorek) – Złamania i zwichnięcia; zasady postępowania \n10.12. (wtorek) – Inne stany nagłe: drgawki\, cukrzyca\, udar\, zatrucia \n \n 
URL:https://www.bibldop.pl/wydarzenie/pierwsza-pomoc-3/
LOCATION:Biblioteka w Dopiewie\, ul. Konarzewska 12\, Dopiewo\, Poland
ATTACH;FMTTYPE=image/jpeg:https://www.bibldop.pl/wp-content/uploads/2024/10/pierwsza-pomoc-warsztaty-wpis.jpg
END:VEVENT
END:VCALENDAR