BEGIN:VCALENDAR
VERSION:2.0
PRODID:-//Gminna Biblioteka Publiczna i Centrum Kultury w Dopiewie - ECPv6.15.20//NONSGML v1.0//EN
CALSCALE:GREGORIAN
METHOD:PUBLISH
X-ORIGINAL-URL:https://www.bibldop.pl
X-WR-CALDESC:Wydarzenia dla Gminna Biblioteka Publiczna i Centrum Kultury w Dopiewie
REFRESH-INTERVAL;VALUE=DURATION:PT1H
X-Robots-Tag:noindex
X-PUBLISHED-TTL:PT1H
BEGIN:VTIMEZONE
TZID:Europe/Warsaw
BEGIN:DAYLIGHT
TZOFFSETFROM:+0100
TZOFFSETTO:+0200
TZNAME:CEST
DTSTART:20230326T010000
END:DAYLIGHT
BEGIN:STANDARD
TZOFFSETFROM:+0200
TZOFFSETTO:+0100
TZNAME:CET
DTSTART:20231029T010000
END:STANDARD
BEGIN:DAYLIGHT
TZOFFSETFROM:+0100
TZOFFSETTO:+0200
TZNAME:CEST
DTSTART:20240331T010000
END:DAYLIGHT
BEGIN:STANDARD
TZOFFSETFROM:+0200
TZOFFSETTO:+0100
TZNAME:CET
DTSTART:20241027T010000
END:STANDARD
BEGIN:DAYLIGHT
TZOFFSETFROM:+0100
TZOFFSETTO:+0200
TZNAME:CEST
DTSTART:20250330T010000
END:DAYLIGHT
BEGIN:STANDARD
TZOFFSETFROM:+0200
TZOFFSETTO:+0100
TZNAME:CET
DTSTART:20251026T010000
END:STANDARD
END:VTIMEZONE
BEGIN:VEVENT
DTSTART;TZID=Europe/Warsaw:20241113T090000
DTEND;TZID=Europe/Warsaw:20241113T100000
DTSTAMP:20260425T212737
CREATED:20241017T131832Z
LAST-MODIFIED:20241017T131832Z
UID:15356-1731488400-1731492000@www.bibldop.pl
SUMMARY:Spotkanie autorskie z Tomaszem Kruczkiem w Skórzewie
DESCRIPTION:Spotkanie autorskie zorganizowane w związku z wydaniem nowej serii książek dla młodzieży „Młodzi wojowie”. \nTo nie będzie zwyczajne spotkanie autorskie\, to będzie podróż w czasie. Na spotkaniach autor opowiada o swoich fascynacjach średniowieczem\, wieloletniej działalności w ruchu rekonstrukcji historycznej\, o pasji która rozbudzona w dzieciństwie może stać się sposobem na życie. Stara się zarazić młodych ludzi miłością do przygody\, działania i książek. Opowiada o życiu w dawnych czasach\, sztuce przetrwania bez nowoczesnych sprzętów\, o dawnej broni\, instrumentach\, grodach\, zamkach i codziennym życiu. A ponad wszystko opowiada o swoich książkach i o tym że każdy może stać się taki\, jak jego bohater z kart opowieści. \nTomasz Kruczek – Pisarz\, pedagog\, muzyk i animator kultury. Wielbiciel średniowiecza. Członek grup rekonstrukcyjnych oraz zespołu Cithara Sanctorum\, zajmującego się interpretacją wokalno-instrumentalną zapomnianych utworów średniowiecza i wczesnego renesansu. Autor książek dla dzieci i młodzieży\, tłumaczonych m.in. na angielski\, czeski\, norweski i afrykanerski. \nSpotkanie adresowane dla grup zorganizowanych klasy 6-8\nzapisy filia biblioteczna w Skórzewie w tel. 884 206 308 \n 
URL:https://www.bibldop.pl/wydarzenie/spotkanie-autorskie-z-tomaszem-kruczkiem-w-skorzewie/
LOCATION:Filia biblioteczna w Skórzewie\, ul. Kozierowskiego 1\, Skórzewo
CATEGORIES:Filia w Skórzewie
ATTACH;FMTTYPE=image/jpeg:https://www.bibldop.pl/wp-content/uploads/2024/10/Tomasz-Kruczek.jpg
END:VEVENT
BEGIN:VEVENT
DTSTART;TZID=Europe/Warsaw:20241113T180000
DTEND;TZID=Europe/Warsaw:20241113T190000
DTSTAMP:20260425T212737
CREATED:20241031T142659Z
LAST-MODIFIED:20241031T143306Z
UID:15583-1731520800-1731524400@www.bibldop.pl
SUMMARY:Spotkanie autorskie z Marcinem Margielewskim
DESCRIPTION:Już 13 listopada o godzinie 18.00 w filii bibliotecznej w Konarzewie odbędzie się spotkanie autorskie z Marcinem Margielewskim – dziennikarzem\, reportażystą i podróżnikiem. Zadebiutował książką. „Jak podrywają szejkowie”\, która okazała się bestsellerem. Ma w swoim dorobku sporą ilość książek m.in. „Kłamstwa arabskich szejków”\, „Tajemnice hoteli Dubaju”\, „Zaginione arabskie księżniczki”\, „Porzuciłam Islam muszę umrzeć”\, „Modelki z Dubaju” \, „Urodziłam dziecko szejka” oraz wiele innych ciekawych pozycji od których nie jesteście w stanie się oderwać.\nMarcin Margielewski podróżował do wielu krajów zwłaszcza bliskiego wschodu. Mieszkał w Wielkiej Brytanii\, Dubaju\, Kuwejcie i Arabii Saudyjskiej. Co więcej był również dyrektorem kreatywnym kilku światowych marek\, co tym samym potwierdza jego głęboką znajomość świata wielkiego biznesu. Pamiętajcie\, że arabscy szejkowie nie podrywają – oni kupują. Chcesz poznać jakie tajemnice kryją arabskie pałace\, jak żyje się w złotej klatce czy też jak podrywają arabscy szejkowie ? Koniecznie zapisz się już dzisiaj na spotkanie\, ponieważ ilość miejsc jest ograniczona.\n\n\nZapisy w trakcie godzin otwarcia Biblioteki w Konarzewie pod nr tel kom: 694 904 690
URL:https://www.bibldop.pl/wydarzenie/spotkanie-autorskie-z-marcinem-margielewskim-2/
LOCATION:Filia biblioteczna w Konarzewie\, ul. Poznańska 19a\, Konarzewo
CATEGORIES:Filia w Konarzewie
ATTACH;FMTTYPE=image/jpeg:https://www.bibldop.pl/wp-content/uploads/2024/10/Marcin-Margielewski-spotkanie-autorskie-wpis.jpg
END:VEVENT
END:VCALENDAR