BEGIN:VCALENDAR
VERSION:2.0
PRODID:-//Gminna Biblioteka Publiczna i Centrum Kultury w Dopiewie - ECPv6.15.20//NONSGML v1.0//EN
CALSCALE:GREGORIAN
METHOD:PUBLISH
X-ORIGINAL-URL:https://www.bibldop.pl
X-WR-CALDESC:Wydarzenia dla Gminna Biblioteka Publiczna i Centrum Kultury w Dopiewie
REFRESH-INTERVAL;VALUE=DURATION:PT1H
X-Robots-Tag:noindex
X-PUBLISHED-TTL:PT1H
BEGIN:VTIMEZONE
TZID:Europe/Warsaw
BEGIN:DAYLIGHT
TZOFFSETFROM:+0100
TZOFFSETTO:+0200
TZNAME:CEST
DTSTART:20230326T010000
END:DAYLIGHT
BEGIN:STANDARD
TZOFFSETFROM:+0200
TZOFFSETTO:+0100
TZNAME:CET
DTSTART:20231029T010000
END:STANDARD
BEGIN:DAYLIGHT
TZOFFSETFROM:+0100
TZOFFSETTO:+0200
TZNAME:CEST
DTSTART:20240331T010000
END:DAYLIGHT
BEGIN:STANDARD
TZOFFSETFROM:+0200
TZOFFSETTO:+0100
TZNAME:CET
DTSTART:20241027T010000
END:STANDARD
BEGIN:DAYLIGHT
TZOFFSETFROM:+0100
TZOFFSETTO:+0200
TZNAME:CEST
DTSTART:20250330T010000
END:DAYLIGHT
BEGIN:STANDARD
TZOFFSETFROM:+0200
TZOFFSETTO:+0100
TZNAME:CET
DTSTART:20251026T010000
END:STANDARD
END:VTIMEZONE
BEGIN:VEVENT
DTSTART;TZID=Europe/Warsaw:20241112T100000
DTEND;TZID=Europe/Warsaw:20241112T110000
DTSTAMP:20260425T212738
CREATED:20241017T131425Z
LAST-MODIFIED:20241017T131448Z
UID:15351-1731405600-1731409200@www.bibldop.pl
SUMMARY:Spotkanie autorskie z Tomaszem Kruczkiem w Dopiewie
DESCRIPTION:Spotkanie autorskie zorganizowane w związku z wydaniem nowej serii książek dla młodzieży „Młodzi wojowie”. \nTo nie będzie zwyczajne spotkanie autorskie\, to będzie podróż w czasie. Na spotkaniach autor opowiada o swoich fascynacjach średniowieczem\, wieloletniej działalności w ruchu rekonstrukcji historycznej\, o pasji która rozbudzona w dzieciństwie może stać się sposobem na życie. Stara się zarazić młodych ludzi miłością do przygody\, działania i książek. Opowiada o życiu w dawnych czasach\, sztuce przetrwania bez nowoczesnych sprzętów\, o dawnej broni\, instrumentach\, grodach\, zamkach i codziennym życiu. A ponad wszystko opowiada o swoich książkach i o tym że każdy może stać się taki\, jak jego bohater z kart opowieści. \nTomasz Kruczek – Pisarz\, pedagog\, muzyk i animator kultury. Wielbiciel średniowiecza. Członek grup rekonstrukcyjnych oraz zespołu Cithara Sanctorum\, zajmującego się interpretacją wokalno-instrumentalną zapomnianych utworów średniowiecza i wczesnego renesansu. Autor książek dla dzieci i młodzieży\, tłumaczonych m.in. na angielski\, czeski\, norweski i afrykanerski. \nSpotkanie adresowane dla grup zorganizowanych klasy 6-8\nzapisy biblioteka w Dopiewie tel. 539 360 959 \n 
URL:https://www.bibldop.pl/wydarzenie/spotkanie-autorskie-z-tomaszem-kruczkiem/
LOCATION:Biblioteka w Dopiewie\, ul. Konarzewska 12\, Dopiewo\, Poland
CATEGORIES:Biblioteka w Dopiewie
ATTACH;FMTTYPE=image/jpeg:https://www.bibldop.pl/wp-content/uploads/2024/10/Tomasz-Kruczek.jpg
END:VEVENT
BEGIN:VEVENT
DTSTART;TZID=Europe/Warsaw:20241112T180000
DTEND;TZID=Europe/Warsaw:20241112T190000
DTSTAMP:20260425T212738
CREATED:20241024T112538Z
LAST-MODIFIED:20241024T112538Z
UID:15442-1731434400-1731438000@www.bibldop.pl
SUMMARY:Pierwsza Pomoc
DESCRIPTION:Wspólnie z jednostką Ochotniczej Straży Pożarnej w Dopiewie zapraszamy chętnych (dzieci i dorosłych) do wzięcia udziału w bezpłatnym cyklu warsztatów udzielania pierwszej pomocy przedmedycznej. \nWarsztaty( 6 spotkań) będą odbywać się w bibliotece w Dopiewie o godz. 18.00-19.00. Pierwsze zajęcia 5.11.2024. WSTĘP WOLNY \nZapisy: 539 360 959\, liczba miejsc jest ograniczona \nWarsztaty mają na celu naukę udzielenia pierwszej pomocy i ratowania życia i zdrowia poszkodowanego poprzez: podtrzymanie czynności życiowych\, ograniczanie skutków obrażeń lub nagłych zachorowań\, zapewnienie bezpiecznej pozycji oraz przygotowanie do dalszego postępowania lekarskiego. \nDopiewscy strażacy będą szkolić uczestników jak bezpiecznie zachować się w różnych sytuacjach codziennych\, jak rozpoznać niebezpieczne sytuacje i unikać potencjalnych zagrożeń. Co zrobić w przypadku skaleczeń\, otarć\, oparzeń i stłuczeń. Jak postępować\, gdy ktoś się zadławi. Jak prawidłowo wezwać pomoc – nauka korzystania z numerów alarmowych i przekazywania istotnych informacji. Proste techniki RKO (Resuscytacja krążeniowo-oddechowa) dostosowane do możliwości uczestników. \nPlan spotkań: \n5.11. (wtorek) – Podstawy pierwszej pomocy\, bezpieczeństwo własne\, poszkodowanego\, miejsca zdarzenia. \n12.11. (wtorek) – Resuscytacja: dorosły\, dziecko\, niemowlę\, noworodek; sytuacje szczególne. \n19.11. (wtorek) – Resuscytacja z użyciem AED \n26.11. (wtorek) – Rany: krwotoki i krwawienia; zasady postępowania \n3.12. (wtorek) – Złamania i zwichnięcia; zasady postępowania \n10.12. (wtorek) – Inne stany nagłe: drgawki\, cukrzyca\, udar\, zatrucia \n \n 
URL:https://www.bibldop.pl/wydarzenie/pierwsza-pomoc-2/
LOCATION:Biblioteka w Dopiewie\, ul. Konarzewska 12\, Dopiewo\, Poland
ATTACH;FMTTYPE=image/jpeg:https://www.bibldop.pl/wp-content/uploads/2024/10/pierwsza-pomoc-warsztaty-wpis.jpg
END:VEVENT
END:VCALENDAR