BEGIN:VCALENDAR
VERSION:2.0
PRODID:-//Gminna Biblioteka Publiczna i Centrum Kultury w Dopiewie - ECPv6.15.20//NONSGML v1.0//EN
CALSCALE:GREGORIAN
METHOD:PUBLISH
X-ORIGINAL-URL:https://www.bibldop.pl
X-WR-CALDESC:Wydarzenia dla Gminna Biblioteka Publiczna i Centrum Kultury w Dopiewie
REFRESH-INTERVAL;VALUE=DURATION:PT1H
X-Robots-Tag:noindex
X-PUBLISHED-TTL:PT1H
BEGIN:VTIMEZONE
TZID:Europe/Warsaw
BEGIN:DAYLIGHT
TZOFFSETFROM:+0100
TZOFFSETTO:+0200
TZNAME:CEST
DTSTART:20230326T010000
END:DAYLIGHT
BEGIN:STANDARD
TZOFFSETFROM:+0200
TZOFFSETTO:+0100
TZNAME:CET
DTSTART:20231029T010000
END:STANDARD
BEGIN:DAYLIGHT
TZOFFSETFROM:+0100
TZOFFSETTO:+0200
TZNAME:CEST
DTSTART:20240331T010000
END:DAYLIGHT
BEGIN:STANDARD
TZOFFSETFROM:+0200
TZOFFSETTO:+0100
TZNAME:CET
DTSTART:20241027T010000
END:STANDARD
BEGIN:DAYLIGHT
TZOFFSETFROM:+0100
TZOFFSETTO:+0200
TZNAME:CEST
DTSTART:20250330T010000
END:DAYLIGHT
BEGIN:STANDARD
TZOFFSETFROM:+0200
TZOFFSETTO:+0100
TZNAME:CET
DTSTART:20251026T010000
END:STANDARD
END:VTIMEZONE
BEGIN:VEVENT
DTSTART;TZID=Europe/Warsaw:20241106T081500
DTEND;TZID=Europe/Warsaw:20241106T091500
DTSTAMP:20260425T212712
CREATED:20241017T111445Z
LAST-MODIFIED:20241017T112353Z
UID:15333-1730880900-1730884500@www.bibldop.pl
SUMMARY:Spotkanie autorskie z Katarzyną Ziemnicką w Dopiewie
DESCRIPTION:Spotkania będą dotyczyć książek autorki \n– dla młodszych dzieci na podstawie dwóch części przygód Zuzy Grant – dziewięcioletniej dziewczynki z przytułku\, analfabetki\, która ze swoim oswojonym szczurem Lordem wyrusza na poszukiwania leczniczej rośliny (to zajęcia literacko-plastyczne o wartościach\, przyrodzie\, zwierzętach i o tym\, czy w miejscowości\, w której mieszkamy mamy wyjątkowe\, a może magiczne miejsca – możemy te miejsca narysować\, zrobić mapy albo na podstawie opisów w książce stworzyć zagrożone zwierzęta\, które Zuza uwalnia z niewoli). \n– dla starszych dzieci – zajęcia o dwóch wybitnych ludziach – Mikołaju Koperniku i Marianie Rejewskim. \nRejewski przed II wojną światową złamał niemiecki szyfr Enigma\, co wg specjalistów skróciło wojnę o około dwa lata. Porozmawiamy z dziećmi o tym\, czy można łamanie szyfru porównać do meczu piłkarskiego. Jakie cechy charakteru warto mieć\, aby łamać szyfry. Dlaczego nasze babcie mogą być niezłymi kryptologami itd. (Kryptologia stała się bardzo ważną dziedziną w kontekście wojny w Ukrainie\, licznie teraz powstają profile w liceach związane z szeroko rozumiana komunikacją)Co do Kopernika – to opowiadam nieznane ciekawostki i zadaję różne pytania\, np. czego potrzebujemy\, żeby odnieść w życiu sukces? I tłumaczę\, że Kopernik potrzebował czegoś więcej niż tylko głowy do nauki\, zastanawiamy się\, czy naprawdę wynalazł kanapkę\, jakich przedmiotów uczył się w szkole\, czy walczył z Krzyżakami\, jak zarabiał na życie\, itd. \nSpotkanie adresowane dla grup szkolnych zorganizowanych zapisy Biblioteka w Dopiewie tel. 539 360 959\nPodczas spotkania będzie możliwość zakupu książek. Koszt 30 zł \n  \n  \n 
URL:https://www.bibldop.pl/wydarzenie/spotkanie-autorskie-z-katarzyna-ziemnicka/
LOCATION:Biblioteka w Dopiewie\, ul. Konarzewska 12\, Dopiewo\, Poland
CATEGORIES:Biblioteka w Dopiewie
ATTACH;FMTTYPE=image/jpeg:https://www.bibldop.pl/wp-content/uploads/2024/10/Ziemnicka.jpg
END:VEVENT
BEGIN:VEVENT
DTSTART;TZID=Europe/Warsaw:20241106T094500
DTEND;TZID=Europe/Warsaw:20241106T104500
DTSTAMP:20260425T212712
CREATED:20241017T111814Z
LAST-MODIFIED:20241017T112335Z
UID:15338-1730886300-1730889900@www.bibldop.pl
SUMMARY:Spotkanie autorskie z Katarzyną Ziemnicką w Konarzewie
DESCRIPTION:Spotkania będą dotyczyć książek autorki \n– dla młodszych dzieci na podstawie dwóch części przygód Zuzy Grant – dziewięcioletniej dziewczynki z przytułku\, analfabetki\, która ze swoim oswojonym szczurem Lordem wyrusza na poszukiwania leczniczej rośliny (to zajęcia literacko-plastyczne o wartościach\, przyrodzie\, zwierzętach i o tym\, czy w miejscowości\, w której mieszkamy mamy wyjątkowe\, a może magiczne miejsca – możemy te miejsca narysować\, zrobić mapy albo na podstawie opisów w książce stworzyć zagrożone zwierzęta\, które Zuza uwalnia z niewoli). \n– dla starszych dzieci – zajęcia o dwóch wybitnych ludziach – Mikołaju Koperniku i Marianie Rejewskim. \nRejewski przed II wojną światową złamał niemiecki szyfr Enigma\, co wg specjalistów skróciło wojnę o około dwa lata. Porozmawiamy z dziećmi o tym\, czy można łamanie szyfru porównać do meczu piłkarskiego. Jakie cechy charakteru warto mieć\, aby łamać szyfry. Dlaczego nasze babcie mogą być niezłymi kryptologami itd. (Kryptologia stała się bardzo ważną dziedziną w kontekście wojny w Ukrainie\, licznie teraz powstają profile w liceach związane z szeroko rozumiana komunikacją)Co do Kopernika – to opowiadam nieznane ciekawostki i zadaję różne pytania\, np. czego potrzebujemy\, żeby odnieść w życiu sukces? I tłumaczę\, że Kopernik potrzebował czegoś więcej niż tylko głowy do nauki\, zastanawiamy się\, czy naprawdę wynalazł kanapkę\, jakich przedmiotów uczył się w szkole\, czy walczył z Krzyżakami\, jak zarabiał na życie\, itd. \nSpotkanie adresowane dla grup szkolnych zorganizowanych (brak wolnych miejsc)\nPodczas spotkania będzie możliwość zakupu książek. Koszt 30 zł \n  \n  \n 
URL:https://www.bibldop.pl/wydarzenie/spotkanie-autorskie-z-katarzyna-ziemnicka-2/
LOCATION:Filia biblioteczna w Konarzewie\, ul. Poznańska 19a\, Konarzewo
CATEGORIES:Filia w Konarzewie
ATTACH;FMTTYPE=image/jpeg:https://www.bibldop.pl/wp-content/uploads/2024/10/Ziemnicka.jpg
END:VEVENT
BEGIN:VEVENT
DTSTART;TZID=Europe/Warsaw:20241106T100000
DTEND;TZID=Europe/Warsaw:20241106T110000
DTSTAMP:20260425T212712
CREATED:20241018T104057Z
LAST-MODIFIED:20241018T104057Z
UID:15371-1730887200-1730890800@www.bibldop.pl
SUMMARY:Spotkanie autorskie z Tadeuszem Bogackim w Skórzewie
DESCRIPTION:Tadeusz Bogacki – działalność pisarską rozpoczął w 1955 roku\, po przejściu na emeryturę. Od  2006 roku jest członkiem Związku Literatów Polskich. Do tej pory napisał dwadzieścia dwa utwory. Drukiem ukazało się osiemnaście. Są to książki dla dzieci i młodzieży oraz z dziedziny fantastyki naukowej. Tadeusz Bogacki jest autorem dowcipów cytowanych w telewizji i drukowanych w prasie\, które zostały wydane w zbiorze pt. „Spotkanie z humorem”. Napisał wiele ciekawych publikacji\, przeprowadził niezliczoną ilość spotkań autorskich zarówno z osobami dorosłymi\, młodzieżą jak i dziećmi. \nSpotkanie adresowane dla grup szkolnych zorganizowanych (brak wolnych miejsc) \n  \n 
URL:https://www.bibldop.pl/wydarzenie/spotkanie-autorskie-z-tadeuszem-bogackim-w-skorzewie/
LOCATION:Filia biblioteczna w Skórzewie\, ul. Kozierowskiego 1\, Skórzewo
CATEGORIES:Filia w Skórzewie
ATTACH;FMTTYPE=image/jpeg:https://www.bibldop.pl/wp-content/uploads/2024/10/Bogacki.jpg
END:VEVENT
BEGIN:VEVENT
DTSTART;TZID=Europe/Warsaw:20241106T111500
DTEND;TZID=Europe/Warsaw:20241106T121500
DTSTAMP:20260425T212712
CREATED:20241017T112142Z
LAST-MODIFIED:20241017T112308Z
UID:15340-1730891700-1730895300@www.bibldop.pl
SUMMARY:Spotkanie autorskie z Katarzyną Ziemnicką w Dąbrówce
DESCRIPTION:Spotkania będą dotyczyć książek autorki \n– dla młodszych dzieci na podstawie dwóch części przygód Zuzy Grant – dziewięcioletniej dziewczynki z przytułku\, analfabetki\, która ze swoim oswojonym szczurem Lordem wyrusza na poszukiwania leczniczej rośliny (to zajęcia literacko-plastyczne o wartościach\, przyrodzie\, zwierzętach i o tym\, czy w miejscowości\, w której mieszkamy mamy wyjątkowe\, a może magiczne miejsca – możemy te miejsca narysować\, zrobić mapy albo na podstawie opisów w książce stworzyć zagrożone zwierzęta\, które Zuza uwalnia z niewoli). \n– dla starszych dzieci – zajęcia o dwóch wybitnych ludziach – Mikołaju Koperniku i Marianie Rejewskim. \nRejewski przed II wojną światową złamał niemiecki szyfr Enigma\, co wg specjalistów skróciło wojnę o około dwa lata. Porozmawiamy z dziećmi o tym\, czy można łamanie szyfru porównać do meczu piłkarskiego. Jakie cechy charakteru warto mieć\, aby łamać szyfry. Dlaczego nasze babcie mogą być niezłymi kryptologami itd. (Kryptologia stała się bardzo ważną dziedziną w kontekście wojny w Ukrainie\, licznie teraz powstają profile w liceach związane z szeroko rozumiana komunikacją)Co do Kopernika – to opowiadam nieznane ciekawostki i zadaję różne pytania\, np. czego potrzebujemy\, żeby odnieść w życiu sukces? I tłumaczę\, że Kopernik potrzebował czegoś więcej niż tylko głowy do nauki\, zastanawiamy się\, czy naprawdę wynalazł kanapkę\, jakich przedmiotów uczył się w szkole\, czy walczył z Krzyżakami\, jak zarabiał na życie\, itd. \nSpotkanie adresowane dla grup szkolnych zorganizowanych zapisy filia biblioteczna w Dąbrówce tel. 503 481 757\nPodczas spotkania będzie możliwość zakupu książek. Koszt 30 zł \n  \n  \n 
URL:https://www.bibldop.pl/wydarzenie/spotkanie-autorskie-z-katarzyna-ziemnicka-3/
LOCATION:Filia biblioteczna w Dąbrówce\, ul. Malinowa 41\, Dąbrówka
CATEGORIES:Filia w Dąbrówce
ATTACH;FMTTYPE=image/jpeg:https://www.bibldop.pl/wp-content/uploads/2024/10/Ziemnicka.jpg
END:VEVENT
END:VCALENDAR