BEGIN:VCALENDAR
VERSION:2.0
PRODID:-//Gminna Biblioteka Publiczna i Centrum Kultury w Dopiewie - ECPv6.15.20//NONSGML v1.0//EN
CALSCALE:GREGORIAN
METHOD:PUBLISH
X-WR-CALNAME:Gminna Biblioteka Publiczna i Centrum Kultury w Dopiewie
X-ORIGINAL-URL:https://www.bibldop.pl
X-WR-CALDESC:Wydarzenia dla Gminna Biblioteka Publiczna i Centrum Kultury w Dopiewie
REFRESH-INTERVAL;VALUE=DURATION:PT1H
X-Robots-Tag:noindex
X-PUBLISHED-TTL:PT1H
BEGIN:VTIMEZONE
TZID:Europe/Warsaw
BEGIN:DAYLIGHT
TZOFFSETFROM:+0100
TZOFFSETTO:+0200
TZNAME:CEST
DTSTART:20230326T010000
END:DAYLIGHT
BEGIN:STANDARD
TZOFFSETFROM:+0200
TZOFFSETTO:+0100
TZNAME:CET
DTSTART:20231029T010000
END:STANDARD
BEGIN:DAYLIGHT
TZOFFSETFROM:+0100
TZOFFSETTO:+0200
TZNAME:CEST
DTSTART:20240331T010000
END:DAYLIGHT
BEGIN:STANDARD
TZOFFSETFROM:+0200
TZOFFSETTO:+0100
TZNAME:CET
DTSTART:20241027T010000
END:STANDARD
BEGIN:DAYLIGHT
TZOFFSETFROM:+0100
TZOFFSETTO:+0200
TZNAME:CEST
DTSTART:20250330T010000
END:DAYLIGHT
BEGIN:STANDARD
TZOFFSETFROM:+0200
TZOFFSETTO:+0100
TZNAME:CET
DTSTART:20251026T010000
END:STANDARD
END:VTIMEZONE
BEGIN:VEVENT
DTSTART;TZID=Europe/Warsaw:20241023T081500
DTEND;TZID=Europe/Warsaw:20241023T091500
DTSTAMP:20260425T230109
CREATED:20241017T101529Z
LAST-MODIFIED:20241017T112443Z
UID:15320-1729671300-1729674900@www.bibldop.pl
SUMMARY:Spotkanie autorskie z Katarzyną Ryrych w Dopiewie
DESCRIPTION:Katarzyna Ryrych należy do grona najbardziej poczytnych i najpopularniejszych autorek książek dla dzieci i młodzieży oraz najczęściej nagradzanych polskich pisarek. To postać tak samo wyjątkowa\, jak jej twórczość – autentyczna\, szczera\, ciepła i niezwykle wrażliwa. Wraz z jej niebagatelnym doświadczeniem pracy z dziećmi i młodzieżą gwarantuje to sukces spotkania autorskiego z pisarką oraz wyjątkowe wspomnienia i emocje uczestników spotkania – dzieci i młodzieży. \nSpotkanie z dreszczykiem w tle… \nSpotkania autorskie z Katarzyną Ryrych\, które sprawią\, że po plecach czytelników przebiegnie dreszcz… Są takie tajemnicze miejsca na mapie i mroczne historie\, które nie powinny się wydarzyć\, a jednak miały miejsce. To opowieści przekazywane przez pokolenia\, które…łączą pokolenia. To one są kanwą wyjątkowych spotkańautorskich z autorką „Historii nieoczywistych” i „Po drugiej stronie” – książek pełnych tajemniczych wątków przyprawiających o dreszcz emocji. \nSpotkanie adresowane dla grup szkolnych zorganizowanych.\nPodczas spotkania będzie możliwość zakupu książek. Koszt 30 zł \n 
URL:https://www.bibldop.pl/wydarzenie/spotkanie-autorskie-z-katarzyna-ryrych/
LOCATION:Biblioteka w Dopiewie\, ul. Konarzewska 12\, Dopiewo\, Poland
CATEGORIES:Biblioteka w Dopiewie
ATTACH;FMTTYPE=image/jpeg:https://www.bibldop.pl/wp-content/uploads/2024/10/Ryrych.jpg
END:VEVENT
BEGIN:VEVENT
DTSTART;TZID=Europe/Warsaw:20241023T094500
DTEND;TZID=Europe/Warsaw:20241023T104500
DTSTAMP:20260425T230109
CREATED:20241017T101820Z
LAST-MODIFIED:20241017T112429Z
UID:15325-1729676700-1729680300@www.bibldop.pl
SUMMARY:Spotkanie autorskie z Katarzyną Ryrych w Konarzewie
DESCRIPTION:Katarzyna Ryrych należy do grona najbardziej poczytnych i najpopularniejszych autorek książek dla dzieci i młodzieży oraz najczęściej nagradzanych polskich pisarek. To postać tak samo wyjątkowa\, jak jej twórczość – autentyczna\, szczera\, ciepła i niezwykle wrażliwa. Wraz z jej niebagatelnym doświadczeniem pracy z dziećmi i młodzieżą gwarantuje to sukces spotkania autorskiego z pisarką oraz wyjątkowe wspomnienia i emocje uczestników spotkania – dzieci i młodzieży. \nSpotkanie z dreszczykiem w tle… \nSpotkania autorskie z Katarzyną Ryrych\, które sprawią\, że po plecach czytelników przebiegnie dreszcz… Są takie tajemnicze miejsca na mapie i mroczne historie\, które nie powinny się wydarzyć\, a jednak miały miejsce. To opowieści przekazywane przez pokolenia\, które…łączą pokolenia. To one są kanwą wyjątkowych spotkańautorskich z autorką „Historii nieoczywistych” i „Po drugiej stronie” – książek pełnych tajemniczych wątków przyprawiających o dreszcz emocji. \nSpotkanie adresowane dla grup szkolnych zorganizowanych.\nPodczas spotkania będzie możliwość zakupu książek. Koszt 30 zł \n 
URL:https://www.bibldop.pl/wydarzenie/spotkanie-autorskie-z-katarzyna-ryrych-2/
LOCATION:Filia biblioteczna w Konarzewie\, ul. Poznańska 19a\, Konarzewo
CATEGORIES:Filia w Konarzewie
ATTACH;FMTTYPE=image/jpeg:https://www.bibldop.pl/wp-content/uploads/2024/10/Ryrych.jpg
END:VEVENT
BEGIN:VEVENT
DTSTART;TZID=Europe/Warsaw:20241023T111500
DTEND;TZID=Europe/Warsaw:20241023T121500
DTSTAMP:20260425T230109
CREATED:20241017T101939Z
LAST-MODIFIED:20241017T112416Z
UID:15327-1729682100-1729685700@www.bibldop.pl
SUMMARY:Spotkanie autorskie z Katarzyną Ryrych w Skórzewie
DESCRIPTION:Katarzyna Ryrych należy do grona najbardziej poczytnych i najpopularniejszych autorek książek dla dzieci i młodzieży oraz najczęściej nagradzanych polskich pisarek. To postać tak samo wyjątkowa\, jak jej twórczość – autentyczna\, szczera\, ciepła i niezwykle wrażliwa. Wraz z jej niebagatelnym doświadczeniem pracy z dziećmi i młodzieżą gwarantuje to sukces spotkania autorskiego z pisarką oraz wyjątkowe wspomnienia i emocje uczestników spotkania – dzieci i młodzieży. \nSpotkanie z dreszczykiem w tle… \nSpotkania autorskie z Katarzyną Ryrych\, które sprawią\, że po plecach czytelników przebiegnie dreszcz… Są takie tajemnicze miejsca na mapie i mroczne historie\, które nie powinny się wydarzyć\, a jednak miały miejsce. To opowieści przekazywane przez pokolenia\, które…łączą pokolenia. To one są kanwą wyjątkowych spotkańautorskich z autorką „Historii nieoczywistych” i „Po drugiej stronie” – książek pełnych tajemniczych wątków przyprawiających o dreszcz emocji. \nSpotkanie adresowane dla grup szkolnych zorganizowanych.\nPodczas spotkania będzie możliwość zakupu książek. Koszt 30 zł \n 
URL:https://www.bibldop.pl/wydarzenie/spotkanie-autorskie-z-katarzyna-ryrych-3/
LOCATION:Filia biblioteczna w Skórzewie\, ul. Kozierowskiego 1\, Skórzewo
CATEGORIES:Filia w Skórzewie
ATTACH;FMTTYPE=image/jpeg:https://www.bibldop.pl/wp-content/uploads/2024/10/Ryrych.jpg
END:VEVENT
END:VCALENDAR