BEGIN:VCALENDAR
VERSION:2.0
PRODID:-//Gminna Biblioteka Publiczna i Centrum Kultury w Dopiewie - ECPv6.15.20//NONSGML v1.0//EN
CALSCALE:GREGORIAN
METHOD:PUBLISH
X-ORIGINAL-URL:https://www.bibldop.pl
X-WR-CALDESC:Wydarzenia dla Gminna Biblioteka Publiczna i Centrum Kultury w Dopiewie
REFRESH-INTERVAL;VALUE=DURATION:PT1H
X-Robots-Tag:noindex
X-PUBLISHED-TTL:PT1H
BEGIN:VTIMEZONE
TZID:Europe/Warsaw
BEGIN:DAYLIGHT
TZOFFSETFROM:+0100
TZOFFSETTO:+0200
TZNAME:CEST
DTSTART:20230326T010000
END:DAYLIGHT
BEGIN:STANDARD
TZOFFSETFROM:+0200
TZOFFSETTO:+0100
TZNAME:CET
DTSTART:20231029T010000
END:STANDARD
BEGIN:DAYLIGHT
TZOFFSETFROM:+0100
TZOFFSETTO:+0200
TZNAME:CEST
DTSTART:20240331T010000
END:DAYLIGHT
BEGIN:STANDARD
TZOFFSETFROM:+0200
TZOFFSETTO:+0100
TZNAME:CET
DTSTART:20241027T010000
END:STANDARD
BEGIN:DAYLIGHT
TZOFFSETFROM:+0100
TZOFFSETTO:+0200
TZNAME:CEST
DTSTART:20250330T010000
END:DAYLIGHT
BEGIN:STANDARD
TZOFFSETFROM:+0200
TZOFFSETTO:+0100
TZNAME:CET
DTSTART:20251026T010000
END:STANDARD
END:VTIMEZONE
BEGIN:VEVENT
DTSTART;TZID=Europe/Warsaw:20241018T180000
DTEND;TZID=Europe/Warsaw:20241018T190000
DTSTAMP:20260425T230237
CREATED:20240812T082911Z
LAST-MODIFIED:20240910T084129Z
UID:14612-1729274400-1729278000@www.bibldop.pl
SUMMARY:Interaktywny Koncert Familijny Kalejdoskop Marzeń i Snów
DESCRIPTION:Koncert dla dzieci z najpiękniejszymi piosenkami z bajek Walta Disney’a w wykonaniu utalentowanych wokalistów przeniesie nas do magicznego świata baśniowych bohaterów.  \nKoncert piosenek Disney’a kierujemy zarówno do najmłodszych widzów\, jak ich starszego rodzeństwa oraz rodziców i dziadków. \n\n\n\n\nDzięki muzyce odbędziemy podróż do mroźnej krainy Anny i Elzy\, zobaczymy zaczarowany świat Pocahontas i odwiedzimy podwodne królestwo Małej Syrenki. Przygody bajkowych bohaterów przypomną nam to\, co w życiu najważniejsze. Odważna Vaiana wyruszy w niebezpieczną żeglarską podróż\, aby ocalić swoją wyspę przed zagładą\, młody Herkules zmierzy się ze spiskiem i nienawiścią we własnej rodzinie\, waleczna Merida pragnąc wolności przeciwstawi się utartym od wieków zwyczajom\, a Aladyn przekona się\, że czasem od spełnienia marzeń dzieli nas bardzo niewiele. \nSpecjalnie zaaranżowana muzyka oraz autorskie dialogi sprawiają\, że wszystkie utwory tworzą spójną całość. Dzięki temu artyści zabiorą swoich słuchaczy w niezapomnianą muzyczną podróż pełną bajkowych przebojów. \n\n\n\n\nGwarantujemy wspaniałą\, międzypokoleniową zabawę pełną wzruszeń z Teatrem Katarynka\n \nzobacz trailer : https://www.youtube.com/watch?v=H9yuBb22DTI \nBilety do nabycia od 13 września 2024 on-line na www.bibldop.pl\n \n\n\n\n\n\nKoncert polecany dla całych rodzin\, bez ograniczeń wiekowych\n\n\n\n\n\n 
URL:https://www.bibldop.pl/wydarzenie/interaktywny-koncert-familijny-kalejdoskop-marzen-i-snow/
LOCATION:Sala widowiskowa w Konarzewie\, Poznańska 19\, Konarzewo\, Poland
CATEGORIES:CRK w Konarzewie
ATTACH;FMTTYPE=image/jpeg:https://www.bibldop.pl/wp-content/uploads/2024/08/Teatr_Katarynka_Koncert_Kalejdoskop_Marzen_i_Snow-3.jpg
END:VEVENT
END:VCALENDAR