BEGIN:VCALENDAR
VERSION:2.0
PRODID:-//Gminna Biblioteka Publiczna i Centrum Kultury w Dopiewie - ECPv6.15.20//NONSGML v1.0//EN
CALSCALE:GREGORIAN
METHOD:PUBLISH
X-ORIGINAL-URL:https://www.bibldop.pl
X-WR-CALDESC:Wydarzenia dla Gminna Biblioteka Publiczna i Centrum Kultury w Dopiewie
REFRESH-INTERVAL;VALUE=DURATION:PT1H
X-Robots-Tag:noindex
X-PUBLISHED-TTL:PT1H
BEGIN:VTIMEZONE
TZID:Europe/Warsaw
BEGIN:DAYLIGHT
TZOFFSETFROM:+0100
TZOFFSETTO:+0200
TZNAME:CEST
DTSTART:20230326T010000
END:DAYLIGHT
BEGIN:STANDARD
TZOFFSETFROM:+0200
TZOFFSETTO:+0100
TZNAME:CET
DTSTART:20231029T010000
END:STANDARD
BEGIN:DAYLIGHT
TZOFFSETFROM:+0100
TZOFFSETTO:+0200
TZNAME:CEST
DTSTART:20240331T010000
END:DAYLIGHT
BEGIN:STANDARD
TZOFFSETFROM:+0200
TZOFFSETTO:+0100
TZNAME:CET
DTSTART:20241027T010000
END:STANDARD
BEGIN:DAYLIGHT
TZOFFSETFROM:+0100
TZOFFSETTO:+0200
TZNAME:CEST
DTSTART:20250330T010000
END:DAYLIGHT
BEGIN:STANDARD
TZOFFSETFROM:+0200
TZOFFSETTO:+0100
TZNAME:CET
DTSTART:20251026T010000
END:STANDARD
END:VTIMEZONE
BEGIN:VEVENT
DTSTART;TZID=Europe/Warsaw:20241004T170000
DTEND;TZID=Europe/Warsaw:20241004T190000
DTSTAMP:20260425T230205
CREATED:20240918T091035Z
LAST-MODIFIED:20240918T091054Z
UID:15020-1728061200-1728068400@www.bibldop.pl
SUMMARY:Warsztaty kaligrafii dla dorosłych: Pismo Średniowieczne
DESCRIPTION:Zapraszamy dorosłych i młodzież 18+ na fantastyczne\, dwugodzinne warsztaty kaligrafii. Tematem warsztatów będzie PISMO ŚREDNIOWIECZNE. \nWarsztaty poprowadzi Nikola Gajewska – pedagog sztuki\, absolwentka Uniwersytetu Artystycznego w Poznaniu\, dodatkowo z wykształcenia  pedagog specjalny. Od wielu lat zawodowo zajmuje się edukacją artystyczną połączoną z arteterapią. Po godzinach zajmuje się rękodziełem\, tkaniną artystyczną oraz sztuką pięknego pisania – kaligrafią. Współorganizator wielu wystaw w Polsce oraz warsztatów rozwijających pasje artystyczne  dzieci i dorosłych. \nMoje niektóre prace można obejrzeć na  Instagramie oraz Facebook: https://www.instagram.com/krzywe.literki/ \nPo skończonych warsztatach uczestnik otrzymuje do domu:\n– stalówkę z obsadką\n– prace wykonane podczas warsztatu\n– ćwiczenia do domu \nKiedy? 4.10.2024 (piątek)\nGdzie? Centrum Kultury w Dopiewie\, ul. Konarzewska 12\nKoszt? 100\,00zł\nZAPISY: 600 469 489 lub 882 006 090\n \n——- \nPlanujemy kolejne warsztaty:\n8.11 – pismo gotyckie\n6.12. pismo współczesne (Brush Lettering) \n——- \nKaligrafia o idealny sposób na relaks\, wyciszenie ale i wyrażenie siebie w piękny i unikalny sposób. Na wstępie każdego z warsztatów\, uczestnicy poznają teorię oraz historię danego pisma. \nPo zapoznaniu się z podstawowymi materiałami\, przechodzimy do prostych ćwiczeń praktycznych. W efekcie\, w zależności od rodzaju oraz techniki pisma\, każdy wykonuje pracę\, którą później zabiera ze sobą do domu – to m.in. własnoręcznie napisanie zaproszenia\, stworzenie własnej wizytówki\, napisanie listu\, stworzenie obrazu – wszystko oparte na inwencji twórczej oraz zdobytej podczas warsztatu wiedzy. \nBędziemy pisać stalówkami oraz  współczesnymi narzędziami na specjalnej papeterii lub płótnach. Warsztaty są skierowanie dla osób początkujących oraz dla tych\, którzy już mieli styczność z kaligrafią.
URL:https://www.bibldop.pl/wydarzenie/warsztaty-kaligrafii-dla-doroslych-pismo-sredniowieczne/
LOCATION:Biblioteka w Dopiewie\, ul. Konarzewska 12\, Dopiewo\, Poland
CATEGORIES:Biblioteka w Dopiewie
ATTACH;FMTTYPE=image/jpeg:https://www.bibldop.pl/wp-content/uploads/2024/09/Warsztaty-z-kaligrafii-srednowiecze-wpis.jpg
END:VEVENT
END:VCALENDAR