BEGIN:VCALENDAR
VERSION:2.0
PRODID:-//Gminna Biblioteka Publiczna i Centrum Kultury w Dopiewie - ECPv6.15.20//NONSGML v1.0//EN
CALSCALE:GREGORIAN
METHOD:PUBLISH
X-ORIGINAL-URL:https://www.bibldop.pl
X-WR-CALDESC:Wydarzenia dla Gminna Biblioteka Publiczna i Centrum Kultury w Dopiewie
REFRESH-INTERVAL;VALUE=DURATION:PT1H
X-Robots-Tag:noindex
X-PUBLISHED-TTL:PT1H
BEGIN:VTIMEZONE
TZID:Europe/Warsaw
BEGIN:DAYLIGHT
TZOFFSETFROM:+0100
TZOFFSETTO:+0200
TZNAME:CEST
DTSTART:20230326T010000
END:DAYLIGHT
BEGIN:STANDARD
TZOFFSETFROM:+0200
TZOFFSETTO:+0100
TZNAME:CET
DTSTART:20231029T010000
END:STANDARD
BEGIN:DAYLIGHT
TZOFFSETFROM:+0100
TZOFFSETTO:+0200
TZNAME:CEST
DTSTART:20240331T010000
END:DAYLIGHT
BEGIN:STANDARD
TZOFFSETFROM:+0200
TZOFFSETTO:+0100
TZNAME:CET
DTSTART:20241027T010000
END:STANDARD
BEGIN:DAYLIGHT
TZOFFSETFROM:+0100
TZOFFSETTO:+0200
TZNAME:CEST
DTSTART:20250330T010000
END:DAYLIGHT
BEGIN:STANDARD
TZOFFSETFROM:+0200
TZOFFSETTO:+0100
TZNAME:CET
DTSTART:20251026T010000
END:STANDARD
END:VTIMEZONE
BEGIN:VEVENT
DTSTART;TZID=Europe/Warsaw:20240928T190000
DTEND;TZID=Europe/Warsaw:20240928T200000
DTSTAMP:20260426T003747
CREATED:20240808T140827Z
LAST-MODIFIED:20240923T134953Z
UID:14602-1727550000-1727553600@www.bibldop.pl
SUMMARY:Koncert odwołany! O innym terminie poinformujemy wkrótce
DESCRIPTION:Basia Szelągiewicz – jedna z najbardziej rozpoznawalnych skrzypaczek\, grających muzykę rozrywkową w naszym kraju. Od wielu lat towarzyszy największym gwiazdom w Polsce i za granicą. Jej niepowtarzalny dźwięk rozbrzmiewał u takich gwiazd jak: Ray Wilson\, Stiltskin\, Zbigniew Wodecki\, Sylwia Grzeszczak\, Małgorzata Ostrowska\, Maciej Maleńczuk\, Perfect\, Nir Z\, Olga Bończyk\, Zdzisława Sośnicka\, Eleni\, Kasia Wilk\, Liber\, PPNOU\, Tre Voci\, współpracowała z orkiestrami: Zbigniewa Górnego\, Aleksandra Maliszewskiego\, Grzegorza Urbana\, Zenona Laskowika\, Jarosława Barowa. Brała udział w licznych produkcjach telewizyjnych\, audycjach radiowych oraz nagraniach płytowych. \nShow Basi łączy w sobie wszystko to\, co najpiękniejsze w świeci skrzypiec. Muzyka rozrywkowa wykonywana na tym instrumencie “z duszą” to jej specjalność. \nPromo video: https://www.youtube.com/watch?v=iwqjlmwElec
URL:https://www.bibldop.pl/wydarzenie/koncert-skrzypcowy-barbary-szelagiewicz/
LOCATION:Strefa Chillout przed biblioteką w Dopiewie\, ul. Konarzewska 12\, Dopiewo
CATEGORIES:Biblioteka w Dopiewie
ATTACH;FMTTYPE=image/jpeg:https://www.bibldop.pl/wp-content/uploads/2024/06/Lakowe-spotkania-z-kultura-wpis.jpg
END:VEVENT
END:VCALENDAR