BEGIN:VCALENDAR
VERSION:2.0
PRODID:-//Gminna Biblioteka Publiczna i Centrum Kultury w Dopiewie - ECPv6.15.20//NONSGML v1.0//EN
CALSCALE:GREGORIAN
METHOD:PUBLISH
X-WR-CALNAME:Gminna Biblioteka Publiczna i Centrum Kultury w Dopiewie
X-ORIGINAL-URL:https://www.bibldop.pl
X-WR-CALDESC:Wydarzenia dla Gminna Biblioteka Publiczna i Centrum Kultury w Dopiewie
REFRESH-INTERVAL;VALUE=DURATION:PT1H
X-Robots-Tag:noindex
X-PUBLISHED-TTL:PT1H
BEGIN:VTIMEZONE
TZID:Europe/Warsaw
BEGIN:DAYLIGHT
TZOFFSETFROM:+0100
TZOFFSETTO:+0200
TZNAME:CEST
DTSTART:20230326T010000
END:DAYLIGHT
BEGIN:STANDARD
TZOFFSETFROM:+0200
TZOFFSETTO:+0100
TZNAME:CET
DTSTART:20231029T010000
END:STANDARD
BEGIN:DAYLIGHT
TZOFFSETFROM:+0100
TZOFFSETTO:+0200
TZNAME:CEST
DTSTART:20240331T010000
END:DAYLIGHT
BEGIN:STANDARD
TZOFFSETFROM:+0200
TZOFFSETTO:+0100
TZNAME:CET
DTSTART:20241027T010000
END:STANDARD
BEGIN:DAYLIGHT
TZOFFSETFROM:+0100
TZOFFSETTO:+0200
TZNAME:CEST
DTSTART:20250330T010000
END:DAYLIGHT
BEGIN:STANDARD
TZOFFSETFROM:+0200
TZOFFSETTO:+0100
TZNAME:CET
DTSTART:20251026T010000
END:STANDARD
END:VTIMEZONE
BEGIN:VEVENT
DTSTART;TZID=Europe/Warsaw:20240918T120000
DTEND;TZID=Europe/Warsaw:20240918T130000
DTSTAMP:20260426T003639
CREATED:20240614T082417Z
LAST-MODIFIED:20240614T082920Z
UID:14211-1726660800-1726664400@www.bibldop.pl
SUMMARY:Warsztaty wokół Kici Koci - spotkanie otwarte na zapisy
DESCRIPTION:Warsztaty wokół Kici Koci prowadzone przez Monikę Skikiewicz\, pedagożkę\, filolożkę. Dzieciom znana jako animatorka Bajanka. Jej nieodłącznymi atrybutami są uśmiech i energia. Mistrzyni promocji czytelnictwa przez zabawę. \nJest to spotkanie niezwykle urozmaicone.\n– z prowadzącą jest maskotka Kici Koci (wys. ok. 1m.)\,\n– powstaje pokoik Kici Koci (to taka ścianka\, przy której dzieci\nmają robione zdjęcia z Kicią Kocią);\n-prowadząca ma przy sobie puzzle – kostki\, które są zarówno fragmentem dekoracji\, jak i rekwizytem\, który\npomaga lepiej poznać bohaterów serii;\n– pojawia się iluzja (zarówno dzieci\, jak i dorośli lubią\, gdy dzieje się coś niezwykłego\, magicznego);\n– pobudzana jest wyobraźnia poprzez eksperyment chemiczny;\n– bawimy się gestem\, ruchem\, słowem\, książką;\n– prowadząca spotkanie jest filololożką\, pedagożką\, logopedką\, a także dziecięcą instruktorką teatralną\, dlatego stara się\,\nżeby to spotkanie było dla dzieci ciut teatralnym przeżyciem;\n– każde dziecko otrzymuje dyplom Przyjaciela Kici Koci przygotowany przez grafika wydawnictwa;\n– każde dziecko otrzymuje również jakiś drobiazg związany z Kicią Kocią;\n– prowadząca przybija stempelki do rączek\, a także ma jeden duży stempel\, który może być przybijany do\nksiążeczek o KK (tzw. autograf Kici Koci\, w postaci jej „zdjęcia”-stempelka);\n– prowadząca zaprasza (dzieci i dorosłych) do gry na bum bum rurkach/ bum bum dzwonkach (nutami są Nunuś\,\nAdelka\, Julianek\, Pacek i Kicia Kocia);\n*Czas trwania: ok. 45 min (+ zdjęcie z metrową maskotką). \nZapisy tel: Filia biblioteczna w Dąbrówce tel. 503 481 757 (dzieci + 1 opiekun)
URL:https://www.bibldop.pl/wydarzenie/warsztaty-wokol-kici-koci-2/
LOCATION:Filia biblioteczna w Dąbrówce\, ul. Malinowa 41\, Dąbrówka
CATEGORIES:Filia w Dąbrówce
ATTACH;FMTTYPE=image/jpeg:https://www.bibldop.pl/wp-content/uploads/2024/06/Spotkanie_z_Kicia_Kocia_A4_szablon_Bajanka-scaled.jpg
END:VEVENT
END:VCALENDAR