BEGIN:VCALENDAR
VERSION:2.0
PRODID:-//Gminna Biblioteka Publiczna i Centrum Kultury w Dopiewie - ECPv6.15.20//NONSGML v1.0//EN
CALSCALE:GREGORIAN
METHOD:PUBLISH
X-WR-CALNAME:Gminna Biblioteka Publiczna i Centrum Kultury w Dopiewie
X-ORIGINAL-URL:https://www.bibldop.pl
X-WR-CALDESC:Wydarzenia dla Gminna Biblioteka Publiczna i Centrum Kultury w Dopiewie
REFRESH-INTERVAL;VALUE=DURATION:PT1H
X-Robots-Tag:noindex
X-PUBLISHED-TTL:PT1H
BEGIN:VTIMEZONE
TZID:Europe/Warsaw
BEGIN:DAYLIGHT
TZOFFSETFROM:+0100
TZOFFSETTO:+0200
TZNAME:CEST
DTSTART:20230326T010000
END:DAYLIGHT
BEGIN:STANDARD
TZOFFSETFROM:+0200
TZOFFSETTO:+0100
TZNAME:CET
DTSTART:20231029T010000
END:STANDARD
BEGIN:DAYLIGHT
TZOFFSETFROM:+0100
TZOFFSETTO:+0200
TZNAME:CEST
DTSTART:20240331T010000
END:DAYLIGHT
BEGIN:STANDARD
TZOFFSETFROM:+0200
TZOFFSETTO:+0100
TZNAME:CET
DTSTART:20241027T010000
END:STANDARD
BEGIN:DAYLIGHT
TZOFFSETFROM:+0100
TZOFFSETTO:+0200
TZNAME:CEST
DTSTART:20250330T010000
END:DAYLIGHT
BEGIN:STANDARD
TZOFFSETFROM:+0200
TZOFFSETTO:+0100
TZNAME:CET
DTSTART:20251026T010000
END:STANDARD
END:VTIMEZONE
BEGIN:VEVENT
DTSTART;TZID=Europe/Warsaw:20240902T170000
DTEND;TZID=Europe/Warsaw:20240902T190000
DTSTAMP:20260426T003641
CREATED:20240719T123103Z
LAST-MODIFIED:20240807T081739Z
UID:14531-1725296400-1725303600@www.bibldop.pl
SUMMARY:Spotkanie Klubu Seniora Promyk - Koncert Karpowicz Family
DESCRIPTION:Spotkanie organizacyjne Klubu Seniora podczas którego odbędzie się koncert zespołu Karpowicz Family. \nGrupa Karpowicz Family na scenie muzycznej pojawiła się jesienią 2000 roku. Jej założycielem i twórcą jest lider zespołu a zarazem wokalista Zbyszek Karpowicz. Setki koncertów w kraju i za granicą mają wpływ na ich popularność. Muzyka i taniec tej barwnej grupy charakteryzuje się temperamentem i melodyjnością a teksty nie stanowią skomplikowanych do przemyśleń wersów. Program pełen jest kolorów i radości. Swymi koncertami aby nie powiedzieć małymi spektaklami muzycznymi niosą uśmiech i zadowolenie swym wielbicielom. \nIch dorobek artystyczny to dziesięć wydanych płyt CD: “Westchnienie”\, “Radość”\, “Viva Mexico”\, “Kolędy”\, “Już taka jesteś”\, “Droga do Ciebie”\, na której znajduje się największy ich przebój “A kuku”\, “Moje przeznaczenie”\, “Nektar Szczęścia”\, “Gdy mamy siebie” oraz podwójny album “THE BEST OF”\, na którym znajduje się 41 największych przebojów.. Ich wiedeoteka to 38 nagranych teledysków. Obecnie scenę tego zespołu zdobią: Agnieszka Doliszniak\, Ania Karpowicz – Socha\, Karina Morkis\, Monika Patynek\, Barbara Chodun\, Helmut Gaweł no i Zbyszek Karpowicz.
URL:https://www.bibldop.pl/wydarzenie/spotkanie-klubu-seniora-promyk/
LOCATION:Sala widowiskowa w Konarzewie\, Poznańska 19\, Konarzewo\, Poland
CATEGORIES:CRK w Konarzewie
ATTACH;FMTTYPE=image/jpeg:https://www.bibldop.pl/wp-content/uploads/2021/07/klub-seniora-scaled.jpg
END:VEVENT
END:VCALENDAR