BEGIN:VCALENDAR
VERSION:2.0
PRODID:-//Gminna Biblioteka Publiczna i Centrum Kultury w Dopiewie - ECPv6.15.20//NONSGML v1.0//EN
CALSCALE:GREGORIAN
METHOD:PUBLISH
X-WR-CALNAME:Gminna Biblioteka Publiczna i Centrum Kultury w Dopiewie
X-ORIGINAL-URL:https://www.bibldop.pl
X-WR-CALDESC:Wydarzenia dla Gminna Biblioteka Publiczna i Centrum Kultury w Dopiewie
REFRESH-INTERVAL;VALUE=DURATION:PT1H
X-Robots-Tag:noindex
X-PUBLISHED-TTL:PT1H
BEGIN:VTIMEZONE
TZID:Europe/Warsaw
BEGIN:DAYLIGHT
TZOFFSETFROM:+0100
TZOFFSETTO:+0200
TZNAME:CEST
DTSTART:20230326T010000
END:DAYLIGHT
BEGIN:STANDARD
TZOFFSETFROM:+0200
TZOFFSETTO:+0100
TZNAME:CET
DTSTART:20231029T010000
END:STANDARD
BEGIN:DAYLIGHT
TZOFFSETFROM:+0100
TZOFFSETTO:+0200
TZNAME:CEST
DTSTART:20240331T010000
END:DAYLIGHT
BEGIN:STANDARD
TZOFFSETFROM:+0200
TZOFFSETTO:+0100
TZNAME:CET
DTSTART:20241027T010000
END:STANDARD
BEGIN:DAYLIGHT
TZOFFSETFROM:+0100
TZOFFSETTO:+0200
TZNAME:CEST
DTSTART:20250330T010000
END:DAYLIGHT
BEGIN:STANDARD
TZOFFSETFROM:+0200
TZOFFSETTO:+0100
TZNAME:CET
DTSTART:20251026T010000
END:STANDARD
END:VTIMEZONE
BEGIN:VEVENT
DTSTART;TZID=Europe/Warsaw:20240825T100000
DTEND;TZID=Europe/Warsaw:20240825T140000
DTSTAMP:20260426T020726
CREATED:20240812T130256Z
LAST-MODIFIED:20240812T130256Z
UID:14622-1724580000-1724594400@www.bibldop.pl
SUMMARY:Rowerowy Rajd Rodzinny - Życie bez Uzależnień
DESCRIPTION:Wydarzenie odbędzie się w ostatnią niedzielę sierpnia (25 sierpnia 2024r.). \nMeta rajdu\, znajdująca się w Dopiewie to miejsce\, gdzie na wszystkich czeka wiele atrakcji\, dzięki wydarzeniu towarzyszącemu czyli CUS o.p.i.e.k.a. \nRajd rozpoczyna się o godzinie 10:00. Formuła wydarzenia to rajd gwieździsty\, oznacza to\, że każdy uczestnik samodzielnie wybiera punkt startu oraz trasę jaką zamierza pokonać między punktami kontrolnymi. Punkty czynne będą do 13:00\, Meta Rajdu czynna będzie do 14:00. \nTrasa Rajdu składa się z 6 punktów informacyjnych\, a każdy dotyczy innego uzależnienia lub problemu społecznego. Punkty kontrolne znajdują się w różnych zakątkach naszej Gminy: \n\nŻYCIE BEZ PRACOHOLIZMU – Skórzewo\, Figowy Zakątek (skrzyżowanie ul. Figowej i Cytrynowej)\nŻYCIE BEZ DEPRESJI I STRESU – Dąbrówka\, Park ul. Parkowa (przy Szkole Podstawowej im. Kazimierza Nowaka)\nŻYCIE BEZ PRZEMOCY – Żarnowiec\, Wiata na terenie placu gminnego\nŻYCIE BEZ ALKOHOLU –  Zborowo\, Owocowa Plaża\nŻYCIE BEZ NARKOTYKÓW – Dopiewiec\, Leśne Stoliki ul. Wierzbowa\nŻYCIE BEZ HAZARDU – Konarzewo\, Doły Konarzewskie – teren rekreacyjny w rejonie ul. Kościelnej i Szkolnej\n\nMeta Rajdu znajdować się będzie na Placu Gminnym w Dopiewie\, u zbiegu ulic Łąkowej i Wyzwolenia. \nPunkty informacyjne czynne będą od 10:00 do 13:00\, Meta Rajdu będzie czynna do 14:00. \nMapa Rajdu dostępna jest do pobrania poniżej\, a w wersji interaktywnej pod adresem: \nhttps://www.google.com/maps/d/edit?mid=1lnvVrkJkIYANH5-GHWFtYMc4ioq2ryc&usp=sharing \nSzczegóły: https://cusdopiewo.pl/rowerowy-rajd-rodzinny-zycie-bez-uzaleznien-4/
URL:https://www.bibldop.pl/wydarzenie/rowerowy-rajd-rodzinny-zycie-bez-uzaleznien-2/
LOCATION:Plac Gminny w Dopiewie\, ul. Łąkowa/Wyzwolenia\, Dopiewo\, Poland
CATEGORIES:Pozostałe
ATTACH;FMTTYPE=image/jpeg:https://www.bibldop.pl/wp-content/uploads/2024/08/Rowerowy-Rajd-Rodzinny-2024-1536x864-1.jpg
END:VEVENT
END:VCALENDAR