BEGIN:VCALENDAR
VERSION:2.0
PRODID:-//Gminna Biblioteka Publiczna i Centrum Kultury w Dopiewie - ECPv6.15.20//NONSGML v1.0//EN
CALSCALE:GREGORIAN
METHOD:PUBLISH
X-ORIGINAL-URL:https://www.bibldop.pl
X-WR-CALDESC:Wydarzenia dla Gminna Biblioteka Publiczna i Centrum Kultury w Dopiewie
REFRESH-INTERVAL;VALUE=DURATION:PT1H
X-Robots-Tag:noindex
X-PUBLISHED-TTL:PT1H
BEGIN:VTIMEZONE
TZID:Europe/Warsaw
BEGIN:DAYLIGHT
TZOFFSETFROM:+0100
TZOFFSETTO:+0200
TZNAME:CEST
DTSTART:20230326T010000
END:DAYLIGHT
BEGIN:STANDARD
TZOFFSETFROM:+0200
TZOFFSETTO:+0100
TZNAME:CET
DTSTART:20231029T010000
END:STANDARD
BEGIN:DAYLIGHT
TZOFFSETFROM:+0100
TZOFFSETTO:+0200
TZNAME:CEST
DTSTART:20240331T010000
END:DAYLIGHT
BEGIN:STANDARD
TZOFFSETFROM:+0200
TZOFFSETTO:+0100
TZNAME:CET
DTSTART:20241027T010000
END:STANDARD
BEGIN:DAYLIGHT
TZOFFSETFROM:+0100
TZOFFSETTO:+0200
TZNAME:CEST
DTSTART:20250330T010000
END:DAYLIGHT
BEGIN:STANDARD
TZOFFSETFROM:+0200
TZOFFSETTO:+0100
TZNAME:CET
DTSTART:20251026T010000
END:STANDARD
END:VTIMEZONE
BEGIN:VEVENT
DTSTART;TZID=Europe/Warsaw:20240712T100000
DTEND;TZID=Europe/Warsaw:20240712T120000
DTSTAMP:20260426T034948
CREATED:20240614T065349Z
LAST-MODIFIED:20240614T065349Z
UID:14192-1720778400-1720785600@www.bibldop.pl
SUMMARY:Wakacje z GBPiCK - Lalki Motanki
DESCRIPTION:Bez użycia ostrych narzędzi\, z naturalnych materiałów stworzymy tradycyjne ręcznie robione lalki\, które potrafią zachwycić swoją prostotą i niepowtarzalnością. \nGodz. 10.00-12.00 \nMax 20 osób\nBiblioteka w Dopiewie (poziom -1) ul. Konarzewska 12\nCena 30 zł \nWarsztaty poprowadzą znakomici animatorzy z ANIMASTER \nZapisy wyłącznie on-line : \nhttps://www.bibldop.pl/aktualnosci/wakacje-z-gbpick-2024/
URL:https://www.bibldop.pl/wydarzenie/wakacje-z-gbpick-lalki-motanki/
LOCATION:Biblioteka w Dopiewie\, ul. Konarzewska 12\, Dopiewo\, Poland
CATEGORIES:Biblioteka w Dopiewie
ATTACH;FMTTYPE=image/jpeg:https://www.bibldop.pl/wp-content/uploads/2024/06/Wakacje-2024-wpis.jpg
END:VEVENT
END:VCALENDAR